{"text_format":"1","workbook":"xlsx","n_sheets":4,"sheets":["Order Form","Office Use - Do Not Edit","VALUES","Postcodes"],"not_rendered":{"charts":0,"images":1,"macros":0,"external_links":0,"defined_names":1,"comments":0,"pivot_tables":0},"unopened":[],"bounds":{"document_bytes":16777216,"sheet_cells":100000,"rows_first":2000,"rows_last":500,"rows_between":2000,"halvings":0,"cell_chars":16384,"cell_head_chars":4096},"cells_cut":0,"cells_raw":0,"read":"whole","date_system":"1900"}

{"sheet":"Order Form","index":0,"n_rows":319,"n_cols":14,"rows_kept":319,"cut":false,"hidden":false,"merged":[[0,4,0,5],[16,1,16,11],[8,1,8,2],[14,1,14,2],[15,1,15,2],[11,1,11,2],[15,4,15,5],[14,3,15,3],[12,4,12,5],[10,4,10,5],[10,1,10,2],[13,4,13,5],[14,4,14,5],[1,4,1,5],[2,4,2,5],[3,4,3,5],[4,4,4,5],[5,4,5,5],[7,4,7,5],[6,4,6,5],[8,4,8,5],[9,4,9,5],[11,4,11,5],[22,5,22,6],[23,5,23,6],[24,5,24,6],[25,5,25,6],[26,5,26,6],[17,5,17,6],[18,5,18,6],[19,5,19,6],[20,5,20,6],[21,5,21,6],[32,5,32,6],[33,5,33,6],[34,5,34,6],[35,5,35,6],[36,5,36,6],[27,5,27,6],[28,5,28,6],[29,5,29,6],[30,5,30,6],[31,5,31,6],[42,5,42,6],[43,5,43,6],[44,5,44,6],[45,5,45,6],[46,5,46,6],[37,5,37,6],[38,5,38,6],[39,5,39,6],[40,5,40,6],[41,5,41,6],[52,5,52,6],[53,5,53,6],[54,5,54,6],[55,5,55,6],[56,5,56,6],[47,5,47,6],[48,5,48,6],[49,5,49,6],[50,5,50,6],[51,5,51,6],[62,5,62,6],[63,5,63,6],[64,5,64,6],[65,5,65,6],[66,5,66,6],[57,5,57,6],[58,5,58,6],[59,5,59,6],[60,5,60,6],[61,5,61,6],[72,5,72,6],[73,5,73,6],[74,5,74,6],[75,5,75,6],[76,5,76,6],[67,5,67,6],[68,5,68,6],[69,5,69,6],[70,5,70,6],[71,5,71,6],[82,5,82,6],[83,5,83,6],[84,5,84,6],[85,5,85,6],[86,5,86,6],[77,5,77,6],[78,5,78,6],[79,5,79,6],[80,5,80,6],[81,5,81,6],[92,5,92,6],[93,5,93,6],[94,5,94,6],[95,5,95,6],[96,5,96,6],[87,5,87,6],[88,5,88,6],[89,5,89,6],[90,5,90,6],[91,5,91,6],[102,5,102,6],[103,5,103,6],[104,5,104,6],[106,5,106,6],[105,5,105,6],[97,5,97,6],[98,5,98,6],[99,5,99,6],[100,5,100,6],[101,5,101,6],[112,5,112,6],[113,5,113,6],[114,5,114,6],[115,5,115,6],[116,5,116,6],[107,5,107,6],[108,5,108,6],[109,5,109,6],[110,5,110,6],[111,5,111,6],[122,5,122,6],[123,5,123,6],[124,5,124,6],[125,5,125,6],[126,5,126,6],[117,5,117,6],[118,5,118,6],[119,5,119,6],[120,5,120,6],[121,5,121,6],[132,5,132,6],[133,5,133,6],[134,5,134,6],[135,5,135,6],[136,5,136,6],[127,5,127,6],[128,5,128,6],[129,5,129,6],[130,5,130,6],[131,5,131,6],[142,5,142,6],[143,5,143,6],[144,5,144,6],[145,5,145,6],[146,5,146,6],[137,5,137,6],[138,5,138,6],[139,5,139,6],[140,5,140,6],[141,5,141,6],[152,5,152,6],[153,5,153,6],[154,5,154,6],[155,5,155,6],[156,5,156,6],[147,5,147,6],[148,5,148,6],[149,5,149,6],[150,5,150,6],[151,5,151,6],[162,5,162,6],[163,5,163,6],[164,5,164,6],[165,5,165,6],[166,5,166,6],[157,5,157,6],[158,5,158,6],[159,5,159,6],[160,5,160,6],[161,5,161,6],[172,5,172,6],[173,5,173,6],[174,5,174,6],[175,5,175,6],[176,5,176,6],[167,5,167,6],[168,5,168,6],[169,5,169,6],[170,5,170,6],[171,5,171,6],[182,5,182,6],[183,5,183,6],[184,5,184,6],[185,5,185,6],[186,5,186,6],[177,5,177,6],[178,5,178,6],[179,5,179,6],[180,5,180,6],[181,5,181,6],[192,5,192,6],[193,5,193,6],[194,5,194,6],[195,5,195,6],[196,5,196,6],[187,5,187,6],[188,5,188,6],[189,5,189,6],[190,5,190,6],[191,5,191,6],[202,5,202,6],[203,5,203,6],[204,5,204,6],[206,5,206,6],[207,5,207,6],[197,5,197,6],[198,5,198,6],[199,5,199,6],[200,5,200,6],[201,5,201,6],[213,5,213,6],[214,5,214,6],[216,5,216,6],[217,5,217,6],[208,5,208,6],[209,5,209,6],[210,5,210,6],[211,5,211,6],[212,5,212,6],[223,5,223,6],[224,5,224,6],[225,5,225,6],[226,5,226,6],[227,5,227,6],[218,5,218,6],[219,5,219,6],[220,5,220,6],[221,5,221,6],[222,5,222,6],[233,5,233,6],[234,5,234,6],[235,5,235,6],[236,5,236,6],[237,5,237,6],[228,5,228,6],[229,5,229,6],[230,5,230,6],[231,5,231,6],[232,5,232,6],[243,5,243,6],[244,5,244,6],[245,5,245,6],[246,5,246,6],[247,5,247,6],[238,5,238,6],[239,5,239,6],[240,5,240,6],[241,5,241,6],[242,5,242,6],[253,5,253,6],[254,5,254,6],[255,5,255,6],[256,5,256,6],[257,5,257,6],[248,5,248,6],[249,5,249,6],[250,5,250,6],[252,5,252,6],[251,5,251,6],[263,5,263,6],[264,5,264,6],[265,5,265,6],[266,5,266,6],[267,5,267,6],[258,5,258,6],[259,5,259,6],[260,5,260,6],[261,5,261,6],[262,5,262,6],[273,5,273,6],[274,5,274,6],[275,5,275,6],[276,5,276,6],[277,5,277,6],[268,5,268,6],[269,5,269,6],[270,5,270,6],[271,5,271,6],[272,5,272,6],[286,5,286,6],[287,5,287,6],[288,5,288,6],[291,5,291,6],[293,5,293,6],[278,5,278,6],[279,5,279,6],[280,5,280,6],[281,5,281,6],[285,5,285,6],[284,5,284,6],[283,5,283,6],[282,5,282,6],[307,5,307,6],[294,5,294,6],[290,5,290,6],[289,5,289,6],[295,5,295,6],[302,5,302,6],[301,5,301,6],[300,5,300,6],[299,5,299,6],[298,5,298,6],[297,5,297,6],[296,5,296,6],[318,5,318,6],[0,7,0,11],[4,8,4,9],[5,8,5,9],[9,7,15,12],[7,7,8,12],[6,7,6,12],[4,11,4,12],[5,11,5,12],[1,7,2,12],[3,7,3,12],[313,5,313,6],[314,5,314,6],[315,5,315,6],[316,5,316,6],[317,5,317,6],[308,5,308,6],[309,5,309,6],[310,5,310,6],[311,5,311,6],[312,5,312,6],[303,5,303,6],[304,5,304,6],[305,5,305,6]]}
[null,null,null,null,"Sender/Billing Details",null,null,"Payment Options"]
[null,null,null,"Contact Name",null,null,null,"Payment for your order is required prior to dispatch.  Payment can be made via\n Visa, Mastercard, Amex or EFT.  "]
[null,null," ","Company Name"]
[null,null,null,"Address",null,null,null,"Credit card - please fill in the details below or phone us to process payment"]
[null,null,null,"Suburb",null,null,null,"Name:",null,null,"Card number: "]
[null,null,null,"State",null,null,null,"Expiry:",null,null,"CVV:"]
[null,null,null,"Postcode",null,null,null,"EFT - please send remittance advice to corporate@thehamperemporium.com.au"]
[null,null,null,"Country",null,null,null,"Account name: The Hamper Emporium, Commonwealth Bank of Australia\nBSB: 062 125     Acct: 1011 6710"]
[null,"corporate@thehamperemporium.com.au ",null,"Contact Phone Number"]
[null,"1300 459 452",null,"Contact Email Address",null,null,null,"Please note the following important information:\n1. Stock will be held for a maximum of 7 days while awaiting branding confirmation/payment\n2. Orders will be dispatched within 1-2 business days of branding confirmation/payment, unless later dispatch date selected\n3. Shipping is included in the cost of each hamper, however in the case that a package is returned to us the sender will be responsible for the applicable redelivery fee\n4. Without your authority to leave, the courier will leave a card for the recipient\n5. For orders to multiple delivery addresses you will receive an email with tracking details for each address. If you do not wish receive multiple emails please select \"NO\".  We will notify you once we become aware of any delivery issues with your order.\n6. FREE Standard Shipping estimates:\nNSW, ACT, QLD, VIC metro areas - 1-3 business days**\nSA, TAS metro areas - 3-5 business days**\nWA, NT and ALL  regional or remote locations - 5-8 business days**\n**extra 1-2 days during lead up to Christmas, express upgrade available\nPLEASE CONTACT US IMMEDIATELY IF YOUR TRACKING SHOWS DELIVERY HAS NOT OCCURRED AND IT IS NOW OUTSIDE THESE ESTIMATES"]
[null,"PO Box 3210, Regents Park NSW 2143",null,"PO number (if applicable)"]
[null,"www.thehamperemporium.com.au/Corporate-Hampers",null,"Authority to leave hamper if recipient not present?","YES"]
[null,null,null,"Preferred dispatch week\n(for Christmas orders)\nseparate BOFs needed if different dispatch weeks are required","ASAP (order with branding can take up to 3 business days to dispatch) Premium delivery recommended to guarantee delivery prior to Christmas, fees apply."]
[null,null,null,"Receive Tracking Numbers\n(see important info #5)","Yes"]
[null,"Would you like a GIFT CARD with your company logo? \nView options on our Corporate Hampers page",null,"Set up fee of $75 for each;  \n$3 per hamper for gift card and $5 per hamper for ribbon\n*Please email high res logo *","FREE gift card"]
[null,"Would you like RIBBON with your company logo?\nView options on our Corporate Hampers page",null,null,"No thanks"]
[null,"Please confirm all delivery addresses with your recipients prior to submitting this form, redelivery fees may apply for incorrect addresses. \nThis form will be automatically uploaded to our system and will not be checked for errors. Form valid until 25th Dec 2017."]
[null,"Hamper","Recipient Name","Attention Delivery","Company\n(max 50 characters)\nCompulsory for deliveries to business addresses","Address\n(max 50 characters)",null,"Suburb","State","Postcode","Telephone","Card Message\n(max 500 characters)","Delivery Intsructions\n(max 140 characters)","(office use only)"]
[1,null,null,null,null,null,null,null,null,null,null,null,null,{"$f":"IFERROR(VLOOKUP(B19,VALUES!$E$3:$F$106,2,FALSE),\"\")","v":""}]
[2,null,null,null,null,null,null,null,null,null,null,null,null,{"$f":"IFERROR(VLOOKUP(B20,VALUES!$E$3:$F$106,2,FALSE),\"\")","v":""}]
[3,null,null,null,null,null,null,null,null,null,null,null,null,{"$f":"IFERROR(VLOOKUP(B21,VALUES!$E$3:$F$106,2,FALSE),\"\")","v":""}]
[4,null,null,null,null,null,null,null,null,null,null,null,null,{"$f":"IFERROR(VLOOKUP(B22,VALUES!$E$3:$F$106,2,FALSE),\"\")","v":""}]
[5,null,null,null,null,null,null,null,null,null,null,null,null,{"$f":"IFERROR(VLOOKUP(B23,VALUES!$E$3:$F$106,2,FALSE),\"\")","v":""}]
[6,null,null,null,null,null,null,null,null,null,null,null,null,{"$f":"IFERROR(VLOOKUP(B24,VALUES!$E$3:$F$106,2,FALSE),\"\")","v":""}]
[7,null,null,null,null,null,null,null,null,null,null,null,null,{"$f":"IFERROR(VLOOKUP(B25,VALUES!$E$3:$F$106,2,FALSE),\"\")","v":""}]
[8,null,null,null,null,null,null,null,null,null,null,null,null,{"$f":"IFERROR(VLOOKUP(B26,VALUES!$E$3:$F$106,2,FALSE),\"\")","v":""}]
[9,null,null,null,null,null,null,null,null,null,null,null,null,{"$f":"IFERROR(VLOOKUP(B27,VALUES!$E$3:$F$106,2,FALSE),\"\")","v":""}]
[10,null,null,null,null,null,null,null,null,null,null,null,null,{"$f":"IFERROR(VLOOKUP(B28,VALUES!$E$3:$F$106,2,FALSE),\"\")","v":""}]
[11,null,null,null,null,null,null,null,null,null,null,null,null,{"$f":"IFERROR(VLOOKUP(B29,VALUES!$E$3:$F$106,2,FALSE),\"\")","v":""}]
[12,null,null,null,null,null,null,null,null,null,null,null,null,{"$f":"IFERROR(VLOOKUP(B30,VALUES!$E$3:$F$106,2,FALSE),\"\")","v":""}]
[13,null,null,null,null,null,null,null,null,null,null,null,null,{"$f":"IFERROR(VLOOKUP(B31,VALUES!$E$3:$F$106,2,FALSE),\"\")","v":""}]
[14,null,null,null,null,null,null,null,null,null,null,null,null,{"$f":"IFERROR(VLOOKUP(B32,VALUES!$E$3:$F$106,2,FALSE),\"\")","v":""}]
[15,null,null,null,null,null,null,null,null,null,null,null,null,{"$f":"IFERROR(VLOOKUP(B33,VALUES!$E$3:$F$106,2,FALSE),\"\")","v":""}]
[16,null,null,null,null,null,null,null,null,null,null,null,null,{"$f":"IFERROR(VLOOKUP(B34,VALUES!$E$3:$F$106,2,FALSE),\"\")","v":""}]
[17,null,null,null,null,null,null,null,null,null,null,null,null,{"$f":"IFERROR(VLOOKUP(B35,VALUES!$E$3:$F$106,2,FALSE),\"\")","v":""}]
[18,null,null,null,null,null,null,null,null,null,null,null,null,{"$f":"IFERROR(VLOOKUP(B36,VALUES!$E$3:$F$106,2,FALSE),\"\")","v":""}]
[19,null,null,null,null,null,null,null,null,null,null,null,null,{"$f":"IFERROR(VLOOKUP(B37,VALUES!$E$3:$F$106,2,FALSE),\"\")","v":""}]
[20,null,null,null,null,null,null,null,null,null,null,null,null,{"$f":"IFERROR(VLOOKUP(B38,VALUES!$E$3:$F$106,2,FALSE),\"\")","v":""}]
[21,null,null,null,null,null,null,null,null,null,null,null,null,{"$f":"IFERROR(VLOOKUP(B39,VALUES!$E$3:$F$106,2,FALSE),\"\")","v":""}]
[22,null,null,null,null,null,null,null,null,null,null,null,null,{"$f":"IFERROR(VLOOKUP(B40,VALUES!$E$3:$F$106,2,FALSE),\"\")","v":""}]
[23,null,null,null,null,null,null,null,null,null,null,null,null,{"$f":"IFERROR(VLOOKUP(B41,VALUES!$E$3:$F$106,2,FALSE),\"\")","v":""}]
[24,null,null,null,null,null,null,null,null,null,null,null,null,{"$f":"IFERROR(VLOOKUP(B42,VALUES!$E$3:$F$106,2,FALSE),\"\")","v":""}]
[25,null,null,null,null,null,null,null,null,null,null,null,null,{"$f":"IFERROR(VLOOKUP(B43,VALUES!$E$3:$F$106,2,FALSE),\"\")","v":""}]
[26,null,null,null,null,null,null,null,null,null,null,null,null,{"$f":"IFERROR(VLOOKUP(B44,VALUES!$E$3:$F$106,2,FALSE),\"\")","v":""}]
[27,null,null,null,null,null,null,null,null,null,null,null,null,{"$f":"IFERROR(VLOOKUP(B45,VALUES!$E$3:$F$106,2,FALSE),\"\")","v":""}]
[28,null,null,null,null,null,null,null,null,null,null,null,null,{"$f":"IFERROR(VLOOKUP(B46,VALUES!$E$3:$F$106,2,FALSE),\"\")","v":""}]
[29,null,null,null,null,null,null,null,null,null,null,null,null,{"$f":"IFERROR(VLOOKUP(B47,VALUES!$E$3:$F$106,2,FALSE),\"\")","v":""}]
[30,null,null,null,null,null,null,null,null,null,null,null,null,{"$f":"IFERROR(VLOOKUP(B48,VALUES!$E$3:$F$106,2,FALSE),\"\")","v":""}]
[31,null,null,null,null,null,null,null,null,null,null,null,null,{"$f":"IFERROR(VLOOKUP(B49,VALUES!$E$3:$F$106,2,FALSE),\"\")","v":""}]
[32,null,null,null,null,null,null,null,null,null,null,null,null,{"$f":"IFERROR(VLOOKUP(B50,VALUES!$E$3:$F$106,2,FALSE),\"\")","v":""}]
[33,null,null,null,null,null,null,null,null,null,null,null,null,{"$f":"IFERROR(VLOOKUP(B51,VALUES!$E$3:$F$106,2,FALSE),\"\")","v":""}]
[34,null,null,null,null,null,null,null,null,null,null,null,null,{"$f":"IFERROR(VLOOKUP(B52,VALUES!$E$3:$F$106,2,FALSE),\"\")","v":""}]
[35,null,null,null,null,null,null,null,null,null,null,null,null,{"$f":"IFERROR(VLOOKUP(B53,VALUES!$E$3:$F$106,2,FALSE),\"\")","v":""}]
[36,null,null,null,null,null,null,null,null,null,null,null,null,{"$f":"IFERROR(VLOOKUP(B54,VALUES!$E$3:$F$106,2,FALSE),\"\")","v":""}]
[37,null,null,null,null,null,null,null,null,null,null,null,null,{"$f":"IFERROR(VLOOKUP(B55,VALUES!$E$3:$F$106,2,FALSE),\"\")","v":""}]
[38,null,null,null,null,null,null,null,null,null,null,null,null,{"$f":"IFERROR(VLOOKUP(B56,VALUES!$E$3:$F$106,2,FALSE),\"\")","v":""}]
[39,null,null,null,null,null,null,null,null,null,null,null,null,{"$f":"IFERROR(VLOOKUP(B57,VALUES!$E$3:$F$106,2,FALSE),\"\")","v":""}]
[40,null,null,null,null,null,null,null,null,null,null,null,null,{"$f":"IFERROR(VLOOKUP(B58,VALUES!$E$3:$F$106,2,FALSE),\"\")","v":""}]
[41,null,null,null,null,null,null,null,null,null,null,null,null,{"$f":"IFERROR(VLOOKUP(B59,VALUES!$E$3:$F$106,2,FALSE),\"\")","v":""}]
[42,null,null,null,null,null,null,null,null,null,null,null,null,{"$f":"IFERROR(VLOOKUP(B60,VALUES!$E$3:$F$106,2,FALSE),\"\")","v":""}]
[43,null,null,null,null,null,null,null,null,null,null,null,null,{"$f":"IFERROR(VLOOKUP(B61,VALUES!$E$3:$F$106,2,FALSE),\"\")","v":""}]
[44,null,null,null,null,null,null,null,null,null,null,null,null,{"$f":"IFERROR(VLOOKUP(B62,VALUES!$E$3:$F$106,2,FALSE),\"\")","v":""}]
[45,null,null,null,null,null,null,null,null,null,null,null,null,{"$f":"IFERROR(VLOOKUP(B63,VALUES!$E$3:$F$106,2,FALSE),\"\")","v":""}]
[46,null,null,null,null,null,null,null,null,null,null,null,null,{"$f":"IFERROR(VLOOKUP(B64,VALUES!$E$3:$F$106,2,FALSE),\"\")","v":""}]
[47,null,null,null,null,null,null,null,null,null,null,null,null,{"$f":"IFERROR(VLOOKUP(B65,VALUES!$E$3:$F$106,2,FALSE),\"\")","v":""}]
[48,null,null,null,null,null,null,null,null,null,null,null,null,{"$f":"IFERROR(VLOOKUP(B66,VALUES!$E$3:$F$106,2,FALSE),\"\")","v":""}]
[49,null,null,null,null,null,null,null,null,null,null,null,null,{"$f":"IFERROR(VLOOKUP(B67,VALUES!$E$3:$F$106,2,FALSE),\"\")","v":""}]
[50,null,null,null,null,null,null,null,null,null,null,null,null,{"$f":"IFERROR(VLOOKUP(B68,VALUES!$E$3:$F$106,2,FALSE),\"\")","v":""}]
[51,null,null,null,null,null,null,null,null,null,null,null,null,{"$f":"IFERROR(VLOOKUP(B69,VALUES!$E$3:$F$106,2,FALSE),\"\")","v":""}]
[52,null,null,null,null,null,null,null,null,null,null,null,null,{"$f":"IFERROR(VLOOKUP(B70,VALUES!$E$3:$F$106,2,FALSE),\"\")","v":""}]
[53,null,null,null,null,null,null,null,null,null,null,null,null,{"$f":"IFERROR(VLOOKUP(B71,VALUES!$E$3:$F$106,2,FALSE),\"\")","v":""}]
[54,null,null,null,null,null,null,null,null,null,null,null,null,{"$f":"IFERROR(VLOOKUP(B72,VALUES!$E$3:$F$106,2,FALSE),\"\")","v":""}]
[55,null,null,null,null,null,null,null,null,null,null,null,null,{"$f":"IFERROR(VLOOKUP(B73,VALUES!$E$3:$F$106,2,FALSE),\"\")","v":""}]
[56,null,null,null,null,null,null,null,null,null,null,null,null,{"$f":"IFERROR(VLOOKUP(B74,VALUES!$E$3:$F$106,2,FALSE),\"\")","v":""}]
[57,null,null,null,null,null,null,null,null,null,null,null,null,{"$f":"IFERROR(VLOOKUP(B75,VALUES!$E$3:$F$106,2,FALSE),\"\")","v":""}]
[58,null,null,null,null,null,null,null,null,null,null,null,null,{"$f":"IFERROR(VLOOKUP(B76,VALUES!$E$3:$F$106,2,FALSE),\"\")","v":""}]
[59,null,null,null,null,null,null,null,null,null,null,null,null,{"$f":"IFERROR(VLOOKUP(B77,VALUES!$E$3:$F$106,2,FALSE),\"\")","v":""}]
[60,null,null,null,null,null,null,null,null,null,null,null,null,{"$f":"IFERROR(VLOOKUP(B78,VALUES!$E$3:$F$106,2,FALSE),\"\")","v":""}]
[61,null,null,null,null,null,null,null,null,null,null,null,null,{"$f":"IFERROR(VLOOKUP(B79,VALUES!$E$3:$F$106,2,FALSE),\"\")","v":""}]
[62,null,null,null,null,null,null,null,null,null,null,null,null,{"$f":"IFERROR(VLOOKUP(B80,VALUES!$E$3:$F$106,2,FALSE),\"\")","v":""}]
[63,null,null,null,null,null,null,null,null,null,null,null,null,{"$f":"IFERROR(VLOOKUP(B81,VALUES!$E$3:$F$106,2,FALSE),\"\")","v":""}]
[64,null,null,null,null,null,null,null,null,null,null,null,null,{"$f":"IFERROR(VLOOKUP(B82,VALUES!$E$3:$F$106,2,FALSE),\"\")","v":""}]
[65,null,null,null,null,null,null,null,null,null,null,null,null,{"$f":"IFERROR(VLOOKUP(B83,VALUES!$E$3:$F$106,2,FALSE),\"\")","v":""}]
[66,null,null,null,null,null,null,null,null,null,null,null,null,{"$f":"IFERROR(VLOOKUP(B84,VALUES!$E$3:$F$106,2,FALSE),\"\")","v":""}]
[67,null,null,null,null,null,null,null,null,null,null,null,null,{"$f":"IFERROR(VLOOKUP(B85,VALUES!$E$3:$F$106,2,FALSE),\"\")","v":""}]
[68,null,null,null,null,null,null,null,null,null,null,null,null,{"$f":"IFERROR(VLOOKUP(B86,VALUES!$E$3:$F$106,2,FALSE),\"\")","v":""}]
[69,null,null,null,null,null,null,null,null,null,null,null,null,{"$f":"IFERROR(VLOOKUP(B87,VALUES!$E$3:$F$106,2,FALSE),\"\")","v":""}]
[70,null,null,null,null,null,null,null,null,null,null,null,null,{"$f":"IFERROR(VLOOKUP(B88,VALUES!$E$3:$F$106,2,FALSE),\"\")","v":""}]
[71,null,null,null,null,null,null,null,null,null,null,null,null,{"$f":"IFERROR(VLOOKUP(B89,VALUES!$E$3:$F$106,2,FALSE),\"\")","v":""}]
[72,null,null,null,null,null,null,null,null,null,null,null,null,{"$f":"IFERROR(VLOOKUP(B90,VALUES!$E$3:$F$106,2,FALSE),\"\")","v":""}]
[73,null,null,null,null,null,null,null,null,null,null,null,null,{"$f":"IFERROR(VLOOKUP(B91,VALUES!$E$3:$F$106,2,FALSE),\"\")","v":""}]
[74,null,null,null,null,null,null,null,null,null,null,null,null,{"$f":"IFERROR(VLOOKUP(B92,VALUES!$E$3:$F$106,2,FALSE),\"\")","v":""}]
[75,null,null,null,null,null,null,null,null,null,null,null,null,{"$f":"IFERROR(VLOOKUP(B93,VALUES!$E$3:$F$106,2,FALSE),\"\")","v":""}]
[76,null,null,null,null,null,null,null,null,null,null,null,null,{"$f":"IFERROR(VLOOKUP(B94,VALUES!$E$3:$F$106,2,FALSE),\"\")","v":""}]
[77,null,null,null,null,null,null,null,null,null,null,null,null,{"$f":"IFERROR(VLOOKUP(B95,VALUES!$E$3:$F$106,2,FALSE),\"\")","v":""}]
[78,null,null,null,null,null,null,null,null,null,null,null,null,{"$f":"IFERROR(VLOOKUP(B96,VALUES!$E$3:$F$106,2,FALSE),\"\")","v":""}]
[79,null,null,null,null,null,null,null,null,null,null,null,null,{"$f":"IFERROR(VLOOKUP(B97,VALUES!$E$3:$F$106,2,FALSE),\"\")","v":""}]
[80,null,null,null,null,null,null,null,null,null,null,null,null,{"$f":"IFERROR(VLOOKUP(B98,VALUES!$E$3:$F$106,2,FALSE),\"\")","v":""}]
[81,null,null,null,null,null,null,null,null,null,null,null,null,{"$f":"IFERROR(VLOOKUP(B99,VALUES!$E$3:$F$106,2,FALSE),\"\")","v":""}]
[82,null,null,null,null,null,null,null,null,null,null,null,null,{"$f":"IFERROR(VLOOKUP(B100,VALUES!$E$3:$F$106,2,FALSE),\"\")","v":""}]
[83,null,null,null,null,null,null,null,null,null,null,null,null,{"$f":"IFERROR(VLOOKUP(B101,VALUES!$E$3:$F$106,2,FALSE),\"\")","v":""}]
[84,null,null,null,null,null,null,null,null,null,null,null,null,{"$f":"IFERROR(VLOOKUP(B102,VALUES!$E$3:$F$106,2,FALSE),\"\")","v":""}]
[85,null,null,null,null,null,null,null,null,null,null,null,null,{"$f":"IFERROR(VLOOKUP(B103,VALUES!$E$3:$F$106,2,FALSE),\"\")","v":""}]
[86,null,null,null,null,null,null,null,null,null,null,null,null,{"$f":"IFERROR(VLOOKUP(B104,VALUES!$E$3:$F$106,2,FALSE),\"\")","v":""}]
[87,null,null,null,null,null,null,null,null,null,null,null,null,{"$f":"IFERROR(VLOOKUP(B105,VALUES!$E$3:$F$106,2,FALSE),\"\")","v":""}]
[88,null,null,null,null,null,null,null,null,null,null,null,null,{"$f":"IFERROR(VLOOKUP(B106,VALUES!$E$3:$F$106,2,FALSE),\"\")","v":""}]
[89,null,null,null,null,null,null,null,null,null,null,null,null,{"$f":"IFERROR(VLOOKUP(B107,VALUES!$E$3:$F$106,2,FALSE),\"\")","v":""}]
[90,null,null,null,null,null,null,null,null,null,null,null,null,{"$f":"IFERROR(VLOOKUP(B108,VALUES!$E$3:$F$106,2,FALSE),\"\")","v":""}]
[91,null,null,null,null,null,null,null,null,null,null,null,null,{"$f":"IFERROR(VLOOKUP(B109,VALUES!$E$3:$F$106,2,FALSE),\"\")","v":""}]
[92,null,null,null,null,null,null,null,null,null,null,null,null,{"$f":"IFERROR(VLOOKUP(B110,VALUES!$E$3:$F$106,2,FALSE),\"\")","v":""}]
[93,null,null,null,null,null,null,null,null,null,null,null,null,{"$f":"IFERROR(VLOOKUP(B111,VALUES!$E$3:$F$106,2,FALSE),\"\")","v":""}]
[94,null,null,null,null,null,null,null,null,null,null,null,null,{"$f":"IFERROR(VLOOKUP(B112,VALUES!$E$3:$F$106,2,FALSE),\"\")","v":""}]
[95,null,null,null,null,null,null,null,null,null,null,null,null,{"$f":"IFERROR(VLOOKUP(B113,VALUES!$E$3:$F$106,2,FALSE),\"\")","v":""}]
[96,null,null,null,null,null,null,null,null,null,null,null,null,{"$f":"IFERROR(VLOOKUP(B114,VALUES!$E$3:$F$106,2,FALSE),\"\")","v":""}]
[97,null,null,null,null,null,null,null,null,null,null,null,null,{"$f":"IFERROR(VLOOKUP(B115,VALUES!$E$3:$F$106,2,FALSE),\"\")","v":""}]
[98,null,null,null,null,null,null,null,null,null,null,null,null,{"$f":"IFERROR(VLOOKUP(B116,VALUES!$E$3:$F$106,2,FALSE),\"\")","v":""}]
[99,null,null,null,null,null,null,null,null,null,null,null,null,{"$f":"IFERROR(VLOOKUP(B117,VALUES!$E$3:$F$106,2,FALSE),\"\")","v":""}]
[100,null,null,null,null,null,null,null,null,null,null,null,null,{"$f":"IFERROR(VLOOKUP(B118,VALUES!$E$3:$F$106,2,FALSE),\"\")","v":""}]
[101,null,null,null,null,null,null,null,null,null,null,null,null,{"$f":"IFERROR(VLOOKUP(B119,VALUES!$E$3:$F$106,2,FALSE),\"\")","v":""}]
[102,null,null,null,null,null,null,null,null,null,null,null,null,{"$f":"IFERROR(VLOOKUP(B120,VALUES!$E$3:$F$106,2,FALSE),\"\")","v":""}]
[103,null,null,null,null,null,null,null,null,null,null,null,null,{"$f":"IFERROR(VLOOKUP(B121,VALUES!$E$3:$F$106,2,FALSE),\"\")","v":""}]
[104,null,null,null,null,null,null,null,null,null,null,null,null,{"$f":"IFERROR(VLOOKUP(B122,VALUES!$E$3:$F$106,2,FALSE),\"\")","v":""}]
[105,null,null,null,null,null,null,null,null,null,null,null,null,{"$f":"IFERROR(VLOOKUP(B123,VALUES!$E$3:$F$106,2,FALSE),\"\")","v":""}]
[106,null,null,null,null,null,null,null,null,null,null,null,null,{"$f":"IFERROR(VLOOKUP(B124,VALUES!$E$3:$F$106,2,FALSE),\"\")","v":""}]
[107,null,null,null,null,null,null,null,null,null,null,null,null,{"$f":"IFERROR(VLOOKUP(B125,VALUES!$E$3:$F$106,2,FALSE),\"\")","v":""}]
[108,null,null,null,null,null,null,null,null,null,null,null,null,{"$f":"IFERROR(VLOOKUP(B126,VALUES!$E$3:$F$106,2,FALSE),\"\")","v":""}]
[109,null,null,null,null,null,null,null,null,null,null,null,null,{"$f":"IFERROR(VLOOKUP(B127,VALUES!$E$3:$F$106,2,FALSE),\"\")","v":""}]
[110,null,null,null,null,null,null,null,null,null,null,null,null,{"$f":"IFERROR(VLOOKUP(B128,VALUES!$E$3:$F$106,2,FALSE),\"\")","v":""}]
[111,null,null,null,null,null,null,null,null,null,null,null,null,{"$f":"IFERROR(VLOOKUP(B129,VALUES!$E$3:$F$106,2,FALSE),\"\")","v":""}]
[112,null,null,null,null,null,null,null,null,null,null,null,null,{"$f":"IFERROR(VLOOKUP(B130,VALUES!$E$3:$F$106,2,FALSE),\"\")","v":""}]
[113,null,null,null,null,null,null,null,null,null,null,null,null,{"$f":"IFERROR(VLOOKUP(B131,VALUES!$E$3:$F$106,2,FALSE),\"\")","v":""}]
[114,null,null,null,null,null,null,null,null,null,null,null,null,{"$f":"IFERROR(VLOOKUP(B132,VALUES!$E$3:$F$106,2,FALSE),\"\")","v":""}]
[115,null,null,null,null,null,null,null,null,null,null,null,null,{"$f":"IFERROR(VLOOKUP(B133,VALUES!$E$3:$F$106,2,FALSE),\"\")","v":""}]
[116,null,null,null,null,null,null,null,null,null,null,null,null,{"$f":"IFERROR(VLOOKUP(B134,VALUES!$E$3:$F$106,2,FALSE),\"\")","v":""}]
[117,null,null,null,null,null,null,null,null,null,null,null,null,{"$f":"IFERROR(VLOOKUP(B135,VALUES!$E$3:$F$106,2,FALSE),\"\")","v":""}]
[118,null,null,null,null,null,null,null,null,null,null,null,null,{"$f":"IFERROR(VLOOKUP(B136,VALUES!$E$3:$F$106,2,FALSE),\"\")","v":""}]
[119,null,null,null,null,null,null,null,null,null,null,null,null,{"$f":"IFERROR(VLOOKUP(B137,VALUES!$E$3:$F$106,2,FALSE),\"\")","v":""}]
[120,null,null,null,null,null,null,null,null,null,null,null,null,{"$f":"IFERROR(VLOOKUP(B138,VALUES!$E$3:$F$106,2,FALSE),\"\")","v":""}]
[121,null,null,null,null,null,null,null,null,null,null,null,null,{"$f":"IFERROR(VLOOKUP(B139,VALUES!$E$3:$F$106,2,FALSE),\"\")","v":""}]
[122,null,null,null,null,null,null,null,null,null,null,null,null,{"$f":"IFERROR(VLOOKUP(B140,VALUES!$E$3:$F$106,2,FALSE),\"\")","v":""}]
[123,null,null,null,null,null,null,null,null,null,null,null,null,{"$f":"IFERROR(VLOOKUP(B141,VALUES!$E$3:$F$106,2,FALSE),\"\")","v":""}]
[124,null,null,null,null,null,null,null,null,null,null,null,null,{"$f":"IFERROR(VLOOKUP(B142,VALUES!$E$3:$F$106,2,FALSE),\"\")","v":""}]
[125,null,null,null,null,null,null,null,null,null,null,null,null,{"$f":"IFERROR(VLOOKUP(B143,VALUES!$E$3:$F$106,2,FALSE),\"\")","v":""}]
[126,null,null,null,null,null,null,null,null,null,null,null,null,{"$f":"IFERROR(VLOOKUP(B144,VALUES!$E$3:$F$106,2,FALSE),\"\")","v":""}]
[127,null,null,null,null,null,null,null,null,null,null,null,null,{"$f":"IFERROR(VLOOKUP(B145,VALUES!$E$3:$F$106,2,FALSE),\"\")","v":""}]
[128,null,null,null,null,null,null,null,null,null,null,null,null,{"$f":"IFERROR(VLOOKUP(B146,VALUES!$E$3:$F$106,2,FALSE),\"\")","v":""}]
[129,null,null,null,null,null,null,null,null,null,null,null,null,{"$f":"IFERROR(VLOOKUP(B147,VALUES!$E$3:$F$106,2,FALSE),\"\")","v":""}]
[130,null,null,null,null,null,null,null,null,null,null,null,null,{"$f":"IFERROR(VLOOKUP(B148,VALUES!$E$3:$F$106,2,FALSE),\"\")","v":""}]
[131,null,null,null,null,null,null,null,null,null,null,null,null,{"$f":"IFERROR(VLOOKUP(B149,VALUES!$E$3:$F$106,2,FALSE),\"\")","v":""}]
[132,null,null,null,null,null,null,null,null,null,null,null,null,{"$f":"IFERROR(VLOOKUP(B150,VALUES!$E$3:$F$106,2,FALSE),\"\")","v":""}]
[133,null,null,null,null,null,null,null,null,null,null,null,null,{"$f":"IFERROR(VLOOKUP(B151,VALUES!$E$3:$F$106,2,FALSE),\"\")","v":""}]
[134,null,null,null,null,null,null,null,null,null,null,null,null,{"$f":"IFERROR(VLOOKUP(B152,VALUES!$E$3:$F$106,2,FALSE),\"\")","v":""}]
[135,null,null,null,null,null,null,null,null,null,null,null,null,{"$f":"IFERROR(VLOOKUP(B153,VALUES!$E$3:$F$106,2,FALSE),\"\")","v":""}]
[136,null,null,null,null,null,null,null,null,null,null,null,null,{"$f":"IFERROR(VLOOKUP(B154,VALUES!$E$3:$F$106,2,FALSE),\"\")","v":""}]
[137,null,null,null,null,null,null,null,null,null,null,null,null,{"$f":"IFERROR(VLOOKUP(B155,VALUES!$E$3:$F$106,2,FALSE),\"\")","v":""}]
[138,null,null,null,null,null,null,null,null,null,null,null,null,{"$f":"IFERROR(VLOOKUP(B156,VALUES!$E$3:$F$106,2,FALSE),\"\")","v":""}]
[139,null,null,null,null,null,null,null,null,null,null,null,null,{"$f":"IFERROR(VLOOKUP(B157,VALUES!$E$3:$F$106,2,FALSE),\"\")","v":""}]
[140,null,null,null,null,null,null,null,null,null,null,null,null,{"$f":"IFERROR(VLOOKUP(B158,VALUES!$E$3:$F$106,2,FALSE),\"\")","v":""}]
[141,null,null,null,null,null,null,null,null,null,null,null,null,{"$f":"IFERROR(VLOOKUP(B159,VALUES!$E$3:$F$106,2,FALSE),\"\")","v":""}]
[142,null,null,null,null,null,null,null,null,null,null,null,null,{"$f":"IFERROR(VLOOKUP(B160,VALUES!$E$3:$F$106,2,FALSE),\"\")","v":""}]
[143,null,null,null,null,null,null,null,null,null,null,null,null,{"$f":"IFERROR(VLOOKUP(B161,VALUES!$E$3:$F$106,2,FALSE),\"\")","v":""}]
[144,null,null,null,null,null,null,null,null,null,null,null,null,{"$f":"IFERROR(VLOOKUP(B162,VALUES!$E$3:$F$106,2,FALSE),\"\")","v":""}]
[145,null,null,null,null,null,null,null,null,null,null,null,null,{"$f":"IFERROR(VLOOKUP(B163,VALUES!$E$3:$F$106,2,FALSE),\"\")","v":""}]
[146,null,null,null,null,null,null,null,null,null,null,null,null,{"$f":"IFERROR(VLOOKUP(B164,VALUES!$E$3:$F$106,2,FALSE),\"\")","v":""}]
[147,null,null,null,null,null,null,null,null,null,null,null,null,{"$f":"IFERROR(VLOOKUP(B165,VALUES!$E$3:$F$106,2,FALSE),\"\")","v":""}]
[148,null,null,null,null,null,null,null,null,null,null,null,null,{"$f":"IFERROR(VLOOKUP(B166,VALUES!$E$3:$F$106,2,FALSE),\"\")","v":""}]
[149,null,null,null,null,null,null,null,null,null,null,null,null,{"$f":"IFERROR(VLOOKUP(B167,VALUES!$E$3:$F$106,2,FALSE),\"\")","v":""}]
[150,null,null,null,null,null,null,null,null,null,null,null,null,{"$f":"IFERROR(VLOOKUP(B168,VALUES!$E$3:$F$106,2,FALSE),\"\")","v":""}]
[151,null,null,null,null,null,null,null,null,null,null,null,null,{"$f":"IFERROR(VLOOKUP(B169,VALUES!$E$3:$F$106,2,FALSE),\"\")","v":""}]
[152,null,null,null,null,null,null,null,null,null,null,null,null,{"$f":"IFERROR(VLOOKUP(B170,VALUES!$E$3:$F$106,2,FALSE),\"\")","v":""}]
[153,null,null,null,null,null,null,null,null,null,null,null,null,{"$f":"IFERROR(VLOOKUP(B171,VALUES!$E$3:$F$106,2,FALSE),\"\")","v":""}]
[154,null,null,null,null,null,null,null,null,null,null,null,null,{"$f":"IFERROR(VLOOKUP(B172,VALUES!$E$3:$F$106,2,FALSE),\"\")","v":""}]
[155,null,null,null,null,null,null,null,null,null,null,null,null,{"$f":"IFERROR(VLOOKUP(B173,VALUES!$E$3:$F$106,2,FALSE),\"\")","v":""}]
[156,null,null,null,null,null,null,null,null,null,null,null,null,{"$f":"IFERROR(VLOOKUP(B174,VALUES!$E$3:$F$106,2,FALSE),\"\")","v":""}]
[157,null,null,null,null,null,null,null,null,null,null,null,null,{"$f":"IFERROR(VLOOKUP(B175,VALUES!$E$3:$F$106,2,FALSE),\"\")","v":""}]
[158,null,null,null,null,null,null,null,null,null,null,null,null,{"$f":"IFERROR(VLOOKUP(B176,VALUES!$E$3:$F$106,2,FALSE),\"\")","v":""}]
[159,null,null,null,null,null,null,null,null,null,null,null,null,{"$f":"IFERROR(VLOOKUP(B177,VALUES!$E$3:$F$106,2,FALSE),\"\")","v":""}]
[160,null,null,null,null,null,null,null,null,null,null,null,null,{"$f":"IFERROR(VLOOKUP(B178,VALUES!$E$3:$F$106,2,FALSE),\"\")","v":""}]
[161,null,null,null,null,null,null,null,null,null,null,null,null,{"$f":"IFERROR(VLOOKUP(B179,VALUES!$E$3:$F$106,2,FALSE),\"\")","v":""}]
[162,null,null,null,null,null,null,null,null,null,null,null,null,{"$f":"IFERROR(VLOOKUP(B180,VALUES!$E$3:$F$106,2,FALSE),\"\")","v":""}]
[163,null,null,null,null,null,null,null,null,null,null,null,null,{"$f":"IFERROR(VLOOKUP(B181,VALUES!$E$3:$F$106,2,FALSE),\"\")","v":""}]
[164,null,null,null,null,null,null,null,null,null,null,null,null,{"$f":"IFERROR(VLOOKUP(B182,VALUES!$E$3:$F$106,2,FALSE),\"\")","v":""}]
[165,null,null,null,null,null,null,null,null,null,null,null,null,{"$f":"IFERROR(VLOOKUP(B183,VALUES!$E$3:$F$106,2,FALSE),\"\")","v":""}]
[166,null,null,null,null,null,null,null,null,null,null,null,null,{"$f":"IFERROR(VLOOKUP(B184,VALUES!$E$3:$F$106,2,FALSE),\"\")","v":""}]
[167,null,null,null,null,null,null,null,null,null,null,null,null,{"$f":"IFERROR(VLOOKUP(B185,VALUES!$E$3:$F$106,2,FALSE),\"\")","v":""}]
[168,null,null,null,null,null,null,null,null,null,null,null,null,{"$f":"IFERROR(VLOOKUP(B186,VALUES!$E$3:$F$106,2,FALSE),\"\")","v":""}]
[169,null,null,null,null,null,null,null,null,null,null,null,null,{"$f":"IFERROR(VLOOKUP(B187,VALUES!$E$3:$F$106,2,FALSE),\"\")","v":""}]
[170,null,null,null,null,null,null,null,null,null,null,null,null,{"$f":"IFERROR(VLOOKUP(B188,VALUES!$E$3:$F$106,2,FALSE),\"\")","v":""}]
[171,null,null,null,null,null,null,null,null,null,null,null,null,{"$f":"IFERROR(VLOOKUP(B189,VALUES!$E$3:$F$106,2,FALSE),\"\")","v":""}]
[172,null,null,null,null,null,null,null,null,null,null,null,null,{"$f":"IFERROR(VLOOKUP(B190,VALUES!$E$3:$F$106,2,FALSE),\"\")","v":""}]
[173,null,null,null,null,null,null,null,null,null,null,null,null,{"$f":"IFERROR(VLOOKUP(B191,VALUES!$E$3:$F$106,2,FALSE),\"\")","v":""}]
[174,null,null,null,null,null,null,null,null,null,null,null,null,{"$f":"IFERROR(VLOOKUP(B192,VALUES!$E$3:$F$106,2,FALSE),\"\")","v":""}]
[175,null,null,null,null,null,null,null,null,null,null,null,null,{"$f":"IFERROR(VLOOKUP(B193,VALUES!$E$3:$F$106,2,FALSE),\"\")","v":""}]
[176,null,null,null,null,null,null,null,null,null,null,null,null,{"$f":"IFERROR(VLOOKUP(B194,VALUES!$E$3:$F$106,2,FALSE),\"\")","v":""}]
[177,null,null,null,null,null,null,null,null,null,null,null,null,{"$f":"IFERROR(VLOOKUP(B195,VALUES!$E$3:$F$106,2,FALSE),\"\")","v":""}]
[178,null,null,null,null,null,null,null,null,null,null,null,null,{"$f":"IFERROR(VLOOKUP(B196,VALUES!$E$3:$F$106,2,FALSE),\"\")","v":""}]
[179,null,null,null,null,null,null,null,null,null,null,null,null,{"$f":"IFERROR(VLOOKUP(B197,VALUES!$E$3:$F$106,2,FALSE),\"\")","v":""}]
[180,null,null,null,null,null,null,null,null,null,null,null,null,{"$f":"IFERROR(VLOOKUP(B198,VALUES!$E$3:$F$106,2,FALSE),\"\")","v":""}]
[181,null,null,null,null,null,null,null,null,null,null,null,null,{"$f":"IFERROR(VLOOKUP(B199,VALUES!$E$3:$F$106,2,FALSE),\"\")","v":""}]
[182,null,null,null,null,null,null,null,null,null,null,null,null,{"$f":"IFERROR(VLOOKUP(B200,VALUES!$E$3:$F$106,2,FALSE),\"\")","v":""}]
[183,null,null,null,null,null,null,null,null,null,null,null,null,{"$f":"IFERROR(VLOOKUP(B201,VALUES!$E$3:$F$106,2,FALSE),\"\")","v":""}]
[184,null,null,null,null,null,null,null,null,null,null,null,null,{"$f":"IFERROR(VLOOKUP(B202,VALUES!$E$3:$F$106,2,FALSE),\"\")","v":""}]
[185,null,null,null,null,null,null,null,null,null,null,null,null,{"$f":"IFERROR(VLOOKUP(B203,VALUES!$E$3:$F$106,2,FALSE),\"\")","v":""}]
[186,null,null,null,null,null,null,null,null,null,null,null,null,{"$f":"IFERROR(VLOOKUP(B204,VALUES!$E$3:$F$106,2,FALSE),\"\")","v":""}]
[187,null,null,null,null,null,null,null,null,null,null,null,null,{"$f":"IFERROR(VLOOKUP(B205,VALUES!$E$3:$F$106,2,FALSE),\"\")","v":""}]
[188,null,null,null,null,null,null,null,null,null,null,null,null,{"$f":"IFERROR(VLOOKUP(B206,VALUES!$E$3:$F$106,2,FALSE),\"\")","v":""}]
[189,null,null,null,null,null,null,null,null,null,null,null,null,{"$f":"IFERROR(VLOOKUP(B207,VALUES!$E$3:$F$106,2,FALSE),\"\")","v":""}]
[190,null,null,null,null,null,null,null,null,null,null,null,null,{"$f":"IFERROR(VLOOKUP(B208,VALUES!$E$3:$F$106,2,FALSE),\"\")","v":""}]
[191,null,null,null,null,null,null,null,null,null,null,null,null,{"$f":"IFERROR(VLOOKUP(B209,VALUES!$E$3:$F$106,2,FALSE),\"\")","v":""}]
[192,null,null,null,null,null,null,null,null,null,null,null,null,{"$f":"IFERROR(VLOOKUP(B210,VALUES!$E$3:$F$106,2,FALSE),\"\")","v":""}]
[193,null,null,null,null,null,null,null,null,null,null,null,null,{"$f":"IFERROR(VLOOKUP(B211,VALUES!$E$3:$F$106,2,FALSE),\"\")","v":""}]
[194,null,null,null,null,null,null,null,null,null,null,null,null,{"$f":"IFERROR(VLOOKUP(B212,VALUES!$E$3:$F$106,2,FALSE),\"\")","v":""}]
[195,null,null,null,null,null,null,null,null,null,null,null,null,{"$f":"IFERROR(VLOOKUP(B213,VALUES!$E$3:$F$106,2,FALSE),\"\")","v":""}]
[196,null,null,null,null,null,null,null,null,null,null,null,null,{"$f":"IFERROR(VLOOKUP(B214,VALUES!$E$3:$F$106,2,FALSE),\"\")","v":""}]
[197,null,null,null,null,null,null,null,null,null,null,null,null,{"$f":"IFERROR(VLOOKUP(B215,VALUES!$E$3:$F$106,2,FALSE),\"\")","v":""}]
[198,null,null,null,null,null,null,null,null,null,null,null,null,{"$f":"IFERROR(VLOOKUP(B216,VALUES!$E$3:$F$106,2,FALSE),\"\")","v":""}]
[199,null,null,null,null,null,null,null,null,null,null,null,null,{"$f":"IFERROR(VLOOKUP(B217,VALUES!$E$3:$F$106,2,FALSE),\"\")","v":""}]
[200,null,null,null,null,null,null,null,null,null,null,null,null,{"$f":"IFERROR(VLOOKUP(B218,VALUES!$E$3:$F$106,2,FALSE),\"\")","v":""}]
[201,null,null,null,null,null,null,null,null,null,null,null,null,{"$f":"IFERROR(VLOOKUP(B219,VALUES!$E$3:$F$106,2,FALSE),\"\")","v":""}]
[202,null,null,null,null,null,null,null,null,null,null,null,null,{"$f":"IFERROR(VLOOKUP(B220,VALUES!$E$3:$F$106,2,FALSE),\"\")","v":""}]
[203,null,null,null,null,null,null,null,null,null,null,null,null,{"$f":"IFERROR(VLOOKUP(B221,VALUES!$E$3:$F$106,2,FALSE),\"\")","v":""}]
[204,null,null,null,null,null,null,null,null,null,null,null,null,{"$f":"IFERROR(VLOOKUP(B222,VALUES!$E$3:$F$106,2,FALSE),\"\")","v":""}]
[205,null,null,null,null,null,null,null,null,null,null,null,null,{"$f":"IFERROR(VLOOKUP(B223,VALUES!$E$3:$F$106,2,FALSE),\"\")","v":""}]
[206,null,null,null,null,null,null,null,null,null,null,null,null,{"$f":"IFERROR(VLOOKUP(B224,VALUES!$E$3:$F$106,2,FALSE),\"\")","v":""}]
[207,null,null,null,null,null,null,null,null,null,null,null,null,{"$f":"IFERROR(VLOOKUP(B225,VALUES!$E$3:$F$106,2,FALSE),\"\")","v":""}]
[208,null,null,null,null,null,null,null,null,null,null,null,null,{"$f":"IFERROR(VLOOKUP(B226,VALUES!$E$3:$F$106,2,FALSE),\"\")","v":""}]
[209,null,null,null,null,null,null,null,null,null,null,null,null,{"$f":"IFERROR(VLOOKUP(B227,VALUES!$E$3:$F$106,2,FALSE),\"\")","v":""}]
[210,null,null,null,null,null,null,null,null,null,null,null,null,{"$f":"IFERROR(VLOOKUP(B228,VALUES!$E$3:$F$106,2,FALSE),\"\")","v":""}]
[211,null,null,null,null,null,null,null,null,null,null,null,null,{"$f":"IFERROR(VLOOKUP(B229,VALUES!$E$3:$F$106,2,FALSE),\"\")","v":""}]
[212,null,null,null,null,null,null,null,null,null,null,null,null,{"$f":"IFERROR(VLOOKUP(B230,VALUES!$E$3:$F$106,2,FALSE),\"\")","v":""}]
[213,null,null,null,null,null,null,null,null,null,null,null,null,{"$f":"IFERROR(VLOOKUP(B231,VALUES!$E$3:$F$106,2,FALSE),\"\")","v":""}]
[214,null,null,null,null,null,null,null,null,null,null,null,null,{"$f":"IFERROR(VLOOKUP(B232,VALUES!$E$3:$F$106,2,FALSE),\"\")","v":""}]
[215,null,null,null,null,null,null,null,null,null,null,null,null,{"$f":"IFERROR(VLOOKUP(B233,VALUES!$E$3:$F$106,2,FALSE),\"\")","v":""}]
[216,null,null,null,null,null,null,null,null,null,null,null,null,{"$f":"IFERROR(VLOOKUP(B234,VALUES!$E$3:$F$106,2,FALSE),\"\")","v":""}]
[217,null,null,null,null,null,null,null,null,null,null,null,null,{"$f":"IFERROR(VLOOKUP(B235,VALUES!$E$3:$F$106,2,FALSE),\"\")","v":""}]
[218,null,null,null,null,null,null,null,null,null,null,null,null,{"$f":"IFERROR(VLOOKUP(B236,VALUES!$E$3:$F$106,2,FALSE),\"\")","v":""}]
[219,null,null,null,null,null,null,null,null,null,null,null,null,{"$f":"IFERROR(VLOOKUP(B237,VALUES!$E$3:$F$106,2,FALSE),\"\")","v":""}]
[220,null,null,null,null,null,null,null,null,null,null,null,null,{"$f":"IFERROR(VLOOKUP(B238,VALUES!$E$3:$F$106,2,FALSE),\"\")","v":""}]
[221,null,null,null,null,null,null,null,null,null,null,null,null,{"$f":"IFERROR(VLOOKUP(B239,VALUES!$E$3:$F$106,2,FALSE),\"\")","v":""}]
[222,null,null,null,null,null,null,null,null,null,null,null,null,{"$f":"IFERROR(VLOOKUP(B240,VALUES!$E$3:$F$106,2,FALSE),\"\")","v":""}]
[223,null,null,null,null,null,null,null,null,null,null,null,null,{"$f":"IFERROR(VLOOKUP(B241,VALUES!$E$3:$F$106,2,FALSE),\"\")","v":""}]
[224,null,null,null,null,null,null,null,null,null,null,null,null,{"$f":"IFERROR(VLOOKUP(B242,VALUES!$E$3:$F$106,2,FALSE),\"\")","v":""}]
[225,null,null,null,null,null,null,null,null,null,null,null,null,{"$f":"IFERROR(VLOOKUP(B243,VALUES!$E$3:$F$106,2,FALSE),\"\")","v":""}]
[226,null,null,null,null,null,null,null,null,null,null,null,null,{"$f":"IFERROR(VLOOKUP(B244,VALUES!$E$3:$F$106,2,FALSE),\"\")","v":""}]
[227,null,null,null,null,null,null,null,null,null,null,null,null,{"$f":"IFERROR(VLOOKUP(B245,VALUES!$E$3:$F$106,2,FALSE),\"\")","v":""}]
[228,null,null,null,null,null,null,null,null,null,null,null,null,{"$f":"IFERROR(VLOOKUP(B246,VALUES!$E$3:$F$106,2,FALSE),\"\")","v":""}]
[229,null,null,null,null,null,null,null,null,null,null,null,null,{"$f":"IFERROR(VLOOKUP(B247,VALUES!$E$3:$F$106,2,FALSE),\"\")","v":""}]
[230,null,null,null,null,null,null,null,null,null,null,null,null,{"$f":"IFERROR(VLOOKUP(B248,VALUES!$E$3:$F$106,2,FALSE),\"\")","v":""}]
[231,null,null,null,null,null,null,null,null,null,null,null,null,{"$f":"IFERROR(VLOOKUP(B249,VALUES!$E$3:$F$106,2,FALSE),\"\")","v":""}]
[232,null,null,null,null,null,null,null,null,null,null,null,null,{"$f":"IFERROR(VLOOKUP(B250,VALUES!$E$3:$F$106,2,FALSE),\"\")","v":""}]
[233,null,null,null,null,null,null,null,null,null,null,null,null,{"$f":"IFERROR(VLOOKUP(B251,VALUES!$E$3:$F$106,2,FALSE),\"\")","v":""}]
[234,null,null,null,null,null,null,null,null,null,null,null,null,{"$f":"IFERROR(VLOOKUP(B252,VALUES!$E$3:$F$106,2,FALSE),\"\")","v":""}]
[235,null,null,null,null,null,null,null,null,null,null,null,null,{"$f":"IFERROR(VLOOKUP(B253,VALUES!$E$3:$F$106,2,FALSE),\"\")","v":""}]
[236,null,null,null,null,null,null,null,null,null,null,null,null,{"$f":"IFERROR(VLOOKUP(B254,VALUES!$E$3:$F$106,2,FALSE),\"\")","v":""}]
[237,null,null,null,null,null,null,null,null,null,null,null,null,{"$f":"IFERROR(VLOOKUP(B255,VALUES!$E$3:$F$106,2,FALSE),\"\")","v":""}]
[238,null,null,null,null,null,null,null,null,null,null,null,null,{"$f":"IFERROR(VLOOKUP(B256,VALUES!$E$3:$F$106,2,FALSE),\"\")","v":""}]
[239,null,null,null,null,null,null,null,null,null,null,null,null,{"$f":"IFERROR(VLOOKUP(B257,VALUES!$E$3:$F$106,2,FALSE),\"\")","v":""}]
[240,null,null,null,null,null,null,null,null,null,null,null,null,{"$f":"IFERROR(VLOOKUP(B258,VALUES!$E$3:$F$106,2,FALSE),\"\")","v":""}]
[241,null,null,null,null,null,null,null,null,null,null,null,null,{"$f":"IFERROR(VLOOKUP(B259,VALUES!$E$3:$F$106,2,FALSE),\"\")","v":""}]
[242,null,null,null,null,null,null,null,null,null,null,null,null,{"$f":"IFERROR(VLOOKUP(B260,VALUES!$E$3:$F$106,2,FALSE),\"\")","v":""}]
[243,null,null,null,null,null,null,null,null,null,null,null,null,{"$f":"IFERROR(VLOOKUP(B261,VALUES!$E$3:$F$106,2,FALSE),\"\")","v":""}]
[244,null,null,null,null,null,null,null,null,null,null,null,null,{"$f":"IFERROR(VLOOKUP(B262,VALUES!$E$3:$F$106,2,FALSE),\"\")","v":""}]
[245,null,null,null,null,null,null,null,null,null,null,null,null,{"$f":"IFERROR(VLOOKUP(B263,VALUES!$E$3:$F$106,2,FALSE),\"\")","v":""}]
[246,null,null,null,null,null,null,null,null,null,null,null,null,{"$f":"IFERROR(VLOOKUP(B264,VALUES!$E$3:$F$106,2,FALSE),\"\")","v":""}]
[247,null,null,null,null,null,null,null,null,null,null,null,null,{"$f":"IFERROR(VLOOKUP(B265,VALUES!$E$3:$F$106,2,FALSE),\"\")","v":""}]
[248,null,null,null,null,null,null,null,null,null,null,null,null,{"$f":"IFERROR(VLOOKUP(B266,VALUES!$E$3:$F$106,2,FALSE),\"\")","v":""}]
[249,null,null,null,null,null,null,null,null,null,null,null,null,{"$f":"IFERROR(VLOOKUP(B267,VALUES!$E$3:$F$106,2,FALSE),\"\")","v":""}]
[250,null,null,null,null,null,null,null,null,null,null,null,null,{"$f":"IFERROR(VLOOKUP(B268,VALUES!$E$3:$F$106,2,FALSE),\"\")","v":""}]
[251,null,null,null,null,null,null,null,null,null,null,null,null,{"$f":"IFERROR(VLOOKUP(B269,VALUES!$E$3:$F$106,2,FALSE),\"\")","v":""}]
[252,null,null,null,null,null,null,null,null,null,null,null,null,{"$f":"IFERROR(VLOOKUP(B270,VALUES!$E$3:$F$106,2,FALSE),\"\")","v":""}]
[253,null,null,null,null,null,null,null,null,null,null,null,null,{"$f":"IFERROR(VLOOKUP(B271,VALUES!$E$3:$F$106,2,FALSE),\"\")","v":""}]
[254,null,null,null,null,null,null,null,null,null,null,null,null,{"$f":"IFERROR(VLOOKUP(B272,VALUES!$E$3:$F$106,2,FALSE),\"\")","v":""}]
[255,null,null,null,null,null,null,null,null,null,null,null,null,{"$f":"IFERROR(VLOOKUP(B273,VALUES!$E$3:$F$106,2,FALSE),\"\")","v":""}]
[256,null,null,null,null,null,null,null,null,null,null,null,null,{"$f":"IFERROR(VLOOKUP(B274,VALUES!$E$3:$F$106,2,FALSE),\"\")","v":""}]
[257,null,null,null,null,null,null,null,null,null,null,null,null,{"$f":"IFERROR(VLOOKUP(B275,VALUES!$E$3:$F$106,2,FALSE),\"\")","v":""}]
[258,null,null,null,null,null,null,null,null,null,null,null,null,{"$f":"IFERROR(VLOOKUP(B276,VALUES!$E$3:$F$106,2,FALSE),\"\")","v":""}]
[259,null,null,null,null,null,null,null,null,null,null,null,null,{"$f":"IFERROR(VLOOKUP(B277,VALUES!$E$3:$F$106,2,FALSE),\"\")","v":""}]
[260,null,null,null,null,null,null,null,null,null,null,null,null,{"$f":"IFERROR(VLOOKUP(B278,VALUES!$E$3:$F$106,2,FALSE),\"\")","v":""}]
[261,null,null,null,null,null,null,null,null,null,null,null,null,{"$f":"IFERROR(VLOOKUP(B279,VALUES!$E$3:$F$106,2,FALSE),\"\")","v":""}]
[262,null,null,null,null,null,null,null,null,null,null,null,null,{"$f":"IFERROR(VLOOKUP(B280,VALUES!$E$3:$F$106,2,FALSE),\"\")","v":""}]
[263,null,null,null,null,null,null,null,null,null,null,null,null,{"$f":"IFERROR(VLOOKUP(B281,VALUES!$E$3:$F$106,2,FALSE),\"\")","v":""}]
[264,null,null,null,null,null,null,null,null,null,null,null,null,{"$f":"IFERROR(VLOOKUP(B282,VALUES!$E$3:$F$106,2,FALSE),\"\")","v":""}]
[265,null,null,null,null,null,null,null,null,null,null,null,null,{"$f":"IFERROR(VLOOKUP(B283,VALUES!$E$3:$F$106,2,FALSE),\"\")","v":""}]
[266,null,null,null,null,null,null,null,null,null,null,null,null,{"$f":"IFERROR(VLOOKUP(B284,VALUES!$E$3:$F$106,2,FALSE),\"\")","v":""}]
[267,null,null,null,null,null,null,null,null,null,null,null,null,{"$f":"IFERROR(VLOOKUP(B285,VALUES!$E$3:$F$106,2,FALSE),\"\")","v":""}]
[268,null,null,null,null,null,null,null,null,null,null,null,null,{"$f":"IFERROR(VLOOKUP(B286,VALUES!$E$3:$F$106,2,FALSE),\"\")","v":""}]
[269,null,null,null,null,null,null,null,null,null,null,null,null,{"$f":"IFERROR(VLOOKUP(B287,VALUES!$E$3:$F$106,2,FALSE),\"\")","v":""}]
[270,null,null,null,null,null,null,null,null,null,null,null,null,{"$f":"IFERROR(VLOOKUP(B288,VALUES!$E$3:$F$106,2,FALSE),\"\")","v":""}]
[271,null,null,null,null,null,null,null,null,null,null,null,null,{"$f":"IFERROR(VLOOKUP(B289,VALUES!$E$3:$F$106,2,FALSE),\"\")","v":""}]
[272,null,null,null,null,null,null,null,null,null,null,null,null,{"$f":"IFERROR(VLOOKUP(B290,VALUES!$E$3:$F$106,2,FALSE),\"\")","v":""}]
[273,null,null,null,null,null,null,null,null,null,null,null,null,{"$f":"IFERROR(VLOOKUP(B291,VALUES!$E$3:$F$106,2,FALSE),\"\")","v":""}]
[274,null,null,null,null,null,null,null,null,null,null,null,null,{"$f":"IFERROR(VLOOKUP(B292,VALUES!$E$3:$F$106,2,FALSE),\"\")","v":""}]
[275,null,null,null,null,null,null,null,null,null,null,null,null,{"$f":"IFERROR(VLOOKUP(B293,VALUES!$E$3:$F$106,2,FALSE),\"\")","v":""}]
[276,null,null,null,null,null,null,null,null,null,null,null,null,{"$f":"IFERROR(VLOOKUP(B294,VALUES!$E$3:$F$106,2,FALSE),\"\")","v":""}]
[277,null,null,null,null,null,null,null,null,null,null,null,null,{"$f":"IFERROR(VLOOKUP(B295,VALUES!$E$3:$F$106,2,FALSE),\"\")","v":""}]
[278,null,null,null,null,null,null,null,null,null,null,null,null,{"$f":"IFERROR(VLOOKUP(B296,VALUES!$E$3:$F$106,2,FALSE),\"\")","v":""}]
[279,null,null,null,null,null,null,null,null,null,null,null,null,{"$f":"IFERROR(VLOOKUP(B297,VALUES!$E$3:$F$106,2,FALSE),\"\")","v":""}]
[280,null,null,null,null,null,null,null,null,null,null,null,null,{"$f":"IFERROR(VLOOKUP(B298,VALUES!$E$3:$F$106,2,FALSE),\"\")","v":""}]
[281,null,null,null,null,null,null,null,null,null,null,null,null,{"$f":"IFERROR(VLOOKUP(B299,VALUES!$E$3:$F$106,2,FALSE),\"\")","v":""}]
[282,null,null,null,null,null,null,null,null,null,null,null,null,{"$f":"IFERROR(VLOOKUP(B300,VALUES!$E$3:$F$106,2,FALSE),\"\")","v":""}]
[283,null,null,null,null,null,null,null,null,null,null,null,null,{"$f":"IFERROR(VLOOKUP(B301,VALUES!$E$3:$F$106,2,FALSE),\"\")","v":""}]
[284,null,null,null,null,null,null,null,null,null,null,null,null,{"$f":"IFERROR(VLOOKUP(B302,VALUES!$E$3:$F$106,2,FALSE),\"\")","v":""}]
[285,null,null,null,null,null,null,null,null,null,null,null,null,{"$f":"IFERROR(VLOOKUP(B303,VALUES!$E$3:$F$106,2,FALSE),\"\")","v":""}]
[286,null,null,null,null,null,null,null,null,null,null,null,null,{"$f":"IFERROR(VLOOKUP(B304,VALUES!$E$3:$F$106,2,FALSE),\"\")","v":""}]
[287,null,null,null,null,null,null,null,null,null,null,null,null,{"$f":"IFERROR(VLOOKUP(B305,VALUES!$E$3:$F$106,2,FALSE),\"\")","v":""}]
[288,null,null,null,null,null,null,null,null,null,null,null,null,{"$f":"IFERROR(VLOOKUP(B306,VALUES!$E$3:$F$106,2,FALSE),\"\")","v":""}]
[289,null,null,null,null,null,null,null,null,null,null,null,null,{"$f":"IFERROR(VLOOKUP(B307,VALUES!$E$3:$F$106,2,FALSE),\"\")","v":""}]
[290,null,null,null,null,null,null,null,null,null,null,null,null,{"$f":"IFERROR(VLOOKUP(B308,VALUES!$E$3:$F$106,2,FALSE),\"\")","v":""}]
[291,null,null,null,null,null,null,null,null,null,null,null,null,{"$f":"IFERROR(VLOOKUP(B309,VALUES!$E$3:$F$106,2,FALSE),\"\")","v":""}]
[292,null,null,null,null,null,null,null,null,null,null,null,null,{"$f":"IFERROR(VLOOKUP(B310,VALUES!$E$3:$F$106,2,FALSE),\"\")","v":""}]
[293,null,null,null,null,null,null,null,null,null,null,null,null,{"$f":"IFERROR(VLOOKUP(B311,VALUES!$E$3:$F$106,2,FALSE),\"\")","v":""}]
[294,null,null,null,null,null,null,null,null,null,null,null,null,{"$f":"IFERROR(VLOOKUP(B312,VALUES!$E$3:$F$106,2,FALSE),\"\")","v":""}]
[295,null,null,null,null,null,null,null,null,null,null,null,null,{"$f":"IFERROR(VLOOKUP(B313,VALUES!$E$3:$F$106,2,FALSE),\"\")","v":""}]
[296,null,null,null,null,null,null,null,null,null,null,null,null,{"$f":"IFERROR(VLOOKUP(B314,VALUES!$E$3:$F$106,2,FALSE),\"\")","v":""}]
[297,null,null,null,null,null,null,null,null,null,null,null,null,{"$f":"IFERROR(VLOOKUP(B315,VALUES!$E$3:$F$106,2,FALSE),\"\")","v":""}]
[298,null,null,null,null,null,null,null,null,null,null,null,null,{"$f":"IFERROR(VLOOKUP(B316,VALUES!$E$3:$F$106,2,FALSE),\"\")","v":""}]
[299,null,null,null,null,null,null,null,null,null,null,null,null,{"$f":"IFERROR(VLOOKUP(B317,VALUES!$E$3:$F$106,2,FALSE),\"\")","v":""}]
[300,null,null,null,null,null,null,null,null,null,null,null,null,{"$f":"IFERROR(VLOOKUP(B318,VALUES!$E$3:$F$106,2,FALSE),\"\")","v":""}]
[301,null,null,null,null,null,null,null,null,null,null,null,null,{"$f":"IFERROR(VLOOKUP(B319,VALUES!$E$3:$F$106,2,FALSE),\"\")","v":""}]

{"sheet":"Office Use - Do Not Edit","index":1,"n_rows":302,"n_cols":36,"rows_kept":302,"cut":false,"hidden":true,"merged":[]}
["ID","sku","bill name","bill company","bill address","bill suburb","bill post code","bill state","bill phone","email address","ship name","ship company","ship address","ship post code","ship suburb","ship state","ship phone","delivery instructions","recipient name","card message","authority to leave","date required","card design","ribbon colour","X warehouse notes","X customer service notes","X username","X sales person","shipping method","C approved","price","hamper discount","shipping discount","payment method","amount paid","asap"]
[{"$f":"'Order Form'!A19","v":1},{"$f":"'Order Form'!N19","v":""},{"$f":"'Order Form'!$E$2","v":0},{"$f":"'Order Form'!$E$3","v":0},{"$f":"'Order Form'!$E$4","v":0},{"$f":"'Order Form'!$E$5","v":0},{"$f":"'Order Form'!$E$7","v":0},{"$f":"'Order Form'!$E$6","v":0},{"$f":"'Order Form'!$E$9","v":0},{"$f":"'Order Form'!$E$10 & \"\"","v":""},{"$f":"IF('Order Form'!D19=\"\",'Order Form'!C19,'Order Form'!D19)","v":0},{"$f":"'Order Form'!E19","v":0},{"$f":"'Order Form'!F19","v":0},{"$f":"'Order Form'!J19","v":0},{"$f":"'Order Form'!H19","v":0},{"$f":"'Order Form'!I19","v":0},{"$f":"'Order Form'!K19 & \"\"","v":""},{"$f":"'Order Form'!M19 & \"\"","v":""},{"$f":"'Order Form'!C19 & \"\"","v":""},{"$f":"'Order Form'!L19 & \"\"","v":""},{"$f":"'Order Form'!$E$12","v":"YES"},{"$f":"'Order Form'!$E$13","v":"ASAP (order with branding can take up to 3 business days to dispatch) Premium delivery recommended to guarantee delivery prior to Christmas, fees apply."},{"$f":"'Order Form'!$E$15","v":"FREE gift card"},{"$f":"'Order Form'!$E$16","v":"No thanks"},null,null,null,null,{"$f":"IF(N2=\"\",\"\",IFERROR(INDIRECT(\"Postcodes!$C\"&SUMPRODUCT(--(Postcodes!$A$2:$A$100<=N2)*(Postcodes!$B$2:$B$100>=N2), ROW(Postcodes!$A$2:$A$100))),\"WRONG CODE\"))","v":0},null,null,null,null,null,null,{"$f":"IF(AND(V2=\"ASAP (order with branding can take up to 3 business days to dispatch)\",W2=\"FREE gift card\",X2=\"No Thanks\"),\"asap\",\"\")","v":""}]
[{"$f":"'Order Form'!A20","v":2},{"$f":"'Order Form'!N20","v":""},{"$f":"'Order Form'!$E$2","v":0},{"$f":"'Order Form'!$E$3","v":0},{"$f":"'Order Form'!$E$4","v":0},{"$f":"'Order Form'!$E$5","v":0},{"$f":"'Order Form'!$E$7","v":0},{"$f":"'Order Form'!$E$6","v":0},{"$f":"'Order Form'!$E$9","v":0},{"$f":"'Order Form'!$E$10 & \"\"","v":""},{"$f":"IF('Order Form'!D20=\"\",'Order Form'!C20,'Order Form'!D20)","v":0},{"$f":"'Order Form'!E20","v":0},{"$f":"'Order Form'!F20","v":0},{"$f":"'Order Form'!J20","v":0},{"$f":"'Order Form'!H20","v":0},{"$f":"'Order Form'!I20","v":0},{"$f":"'Order Form'!K20 & \"\"","v":""},{"$f":"'Order Form'!M20 & \"\"","v":""},{"$f":"'Order Form'!C20 & \"\"","v":""},{"$f":"'Order Form'!L20 & \"\"","v":""},{"$f":"'Order Form'!$E$12","v":"YES"},{"$f":"'Order Form'!$E$13","v":"ASAP (order with branding can take up to 3 business days to dispatch) Premium delivery recommended to guarantee delivery prior to Christmas, fees apply."},{"$f":"'Order Form'!$E$15","v":"FREE gift card"},{"$f":"'Order Form'!$E$16","v":"No thanks"},null,null,null,null,{"$f":"IF(N3=\"\",\"\",IFERROR(INDIRECT(\"Postcodes!$C\"&SUMPRODUCT(--(Postcodes!$A$2:$A$100<=N3)*(Postcodes!$B$2:$B$100>=N3), ROW(Postcodes!$A$2:$A$100))),\"WRONG CODE\"))","v":0},null,null,null,null,null,null,{"$f":"IF(AND(V3=\"ASAP (order with branding can take up to 3 business days to dispatch)\",W3=\"FREE gift card\",X3=\"No Thanks\"),\"asap\",\"\")","v":""}]
[{"$f":"'Order Form'!A21","v":3},{"$f":"'Order Form'!N21","v":""},{"$f":"'Order Form'!$E$2","v":0},{"$f":"'Order Form'!$E$3","v":0},{"$f":"'Order Form'!$E$4","v":0},{"$f":"'Order Form'!$E$5","v":0},{"$f":"'Order Form'!$E$7","v":0},{"$f":"'Order Form'!$E$6","v":0},{"$f":"'Order Form'!$E$9","v":0},{"$f":"'Order Form'!$E$10 & \"\"","v":""},{"$f":"IF('Order Form'!D21=\"\",'Order Form'!C21,'Order Form'!D21)","v":0},{"$f":"'Order Form'!E21","v":0},{"$f":"'Order Form'!F21","v":0},{"$f":"'Order Form'!J21","v":0},{"$f":"'Order Form'!H21","v":0},{"$f":"'Order Form'!I21","v":0},{"$f":"'Order Form'!K21 & \"\"","v":""},{"$f":"'Order Form'!M21 & \"\"","v":""},{"$f":"'Order Form'!C21 & \"\"","v":""},{"$f":"'Order Form'!L21 & \"\"","v":""},{"$f":"'Order Form'!$E$12","v":"YES"},{"$f":"'Order Form'!$E$13","v":"ASAP (order with branding can take up to 3 business days to dispatch) Premium delivery recommended to guarantee delivery prior to Christmas, fees apply."},{"$f":"'Order Form'!$E$15","v":"FREE gift card"},{"$f":"'Order Form'!$E$16","v":"No thanks"},null,null,null,null,{"$f":"IF(N4=\"\",\"\",IFERROR(INDIRECT(\"Postcodes!$C\"&SUMPRODUCT(--(Postcodes!$A$2:$A$100<=N4)*(Postcodes!$B$2:$B$100>=N4), ROW(Postcodes!$A$2:$A$100))),\"WRONG CODE\"))","v":0},null,null,null,null,null,null,""]
[{"$f":"'Order Form'!A22","v":4},{"$f":"'Order Form'!N22","v":""},{"$f":"'Order Form'!$E$2","v":0},{"$f":"'Order Form'!$E$3","v":0},{"$f":"'Order Form'!$E$4","v":0},{"$f":"'Order Form'!$E$5","v":0},{"$f":"'Order Form'!$E$7","v":0},{"$f":"'Order Form'!$E$6","v":0},{"$f":"'Order Form'!$E$9","v":0},{"$f":"'Order Form'!$E$10 & \"\"","v":""},{"$f":"IF('Order Form'!D22=\"\",'Order Form'!C22,'Order Form'!D22)","v":0},{"$f":"'Order Form'!E22","v":0},{"$f":"'Order Form'!F22","v":0},{"$f":"'Order Form'!J22","v":0},{"$f":"'Order Form'!H22","v":0},{"$f":"'Order Form'!I22","v":0},{"$f":"'Order Form'!K22 & \"\"","v":""},{"$f":"'Order Form'!M22 & \"\"","v":""},{"$f":"'Order Form'!C22 & \"\"","v":""},{"$f":"'Order Form'!L22 & \"\"","v":""},{"$f":"'Order Form'!$E$12","v":"YES"},{"$f":"'Order Form'!$E$13","v":"ASAP (order with branding can take up to 3 business days to dispatch) Premium delivery recommended to guarantee delivery prior to Christmas, fees apply."},{"$f":"'Order Form'!$E$15","v":"FREE gift card"},{"$f":"'Order Form'!$E$16","v":"No thanks"},null,null,null,null,{"$f":"IF(N5=\"\",\"\",IFERROR(INDIRECT(\"Postcodes!$C\"&SUMPRODUCT(--(Postcodes!$A$2:$A$100<=N5)*(Postcodes!$B$2:$B$100>=N5), ROW(Postcodes!$A$2:$A$100))),\"WRONG CODE\"))","v":0},null,null,null,null,null,null,""]
[{"$f":"'Order Form'!A23","v":5},{"$f":"'Order Form'!N23","v":""},{"$f":"'Order Form'!$E$2","v":0},{"$f":"'Order Form'!$E$3","v":0},{"$f":"'Order Form'!$E$4","v":0},{"$f":"'Order Form'!$E$5","v":0},{"$f":"'Order Form'!$E$7","v":0},{"$f":"'Order Form'!$E$6","v":0},{"$f":"'Order Form'!$E$9","v":0},{"$f":"'Order Form'!$E$10 & \"\"","v":""},{"$f":"IF('Order Form'!D23=\"\",'Order Form'!C23,'Order Form'!D23)","v":0},{"$f":"'Order Form'!E23","v":0},{"$f":"'Order Form'!F23","v":0},{"$f":"'Order Form'!J23","v":0},{"$f":"'Order Form'!H23","v":0},{"$f":"'Order Form'!I23","v":0},{"$f":"'Order Form'!K23 & \"\"","v":""},{"$f":"'Order Form'!M23 & \"\"","v":""},{"$f":"'Order Form'!C23 & \"\"","v":""},{"$f":"'Order Form'!L23 & \"\"","v":""},{"$f":"'Order Form'!$E$12","v":"YES"},{"$f":"'Order Form'!$E$13","v":"ASAP (order with branding can take up to 3 business days to dispatch) Premium delivery recommended to guarantee delivery prior to Christmas, fees apply."},{"$f":"'Order Form'!$E$15","v":"FREE gift card"},{"$f":"'Order Form'!$E$16","v":"No thanks"},null,null,null,null,{"$f":"IF(N6=\"\",\"\",IFERROR(INDIRECT(\"Postcodes!$C\"&SUMPRODUCT(--(Postcodes!$A$2:$A$100<=N6)*(Postcodes!$B$2:$B$100>=N6), ROW(Postcodes!$A$2:$A$100))),\"WRONG CODE\"))","v":0},null,null,null,null,null,null,""]
[{"$f":"'Order Form'!A24","v":6},{"$f":"'Order Form'!N24","v":""},{"$f":"'Order Form'!$E$2","v":0},{"$f":"'Order Form'!$E$3","v":0},{"$f":"'Order Form'!$E$4","v":0},{"$f":"'Order Form'!$E$5","v":0},{"$f":"'Order Form'!$E$7","v":0},{"$f":"'Order Form'!$E$6","v":0},{"$f":"'Order Form'!$E$9","v":0},{"$f":"'Order Form'!$E$10 & \"\"","v":""},{"$f":"IF('Order Form'!D24=\"\",'Order Form'!C24,'Order Form'!D24)","v":0},{"$f":"'Order Form'!E24","v":0},{"$f":"'Order Form'!F24","v":0},{"$f":"'Order Form'!J24","v":0},{"$f":"'Order Form'!H24","v":0},{"$f":"'Order Form'!I24","v":0},{"$f":"'Order Form'!K24 & \"\"","v":""},{"$f":"'Order Form'!M24 & \"\"","v":""},{"$f":"'Order Form'!C24 & \"\"","v":""},{"$f":"'Order Form'!L24 & \"\"","v":""},{"$f":"'Order Form'!$E$12","v":"YES"},{"$f":"'Order Form'!$E$13","v":"ASAP (order with branding can take up to 3 business days to dispatch) Premium delivery recommended to guarantee delivery prior to Christmas, fees apply."},{"$f":"'Order Form'!$E$15","v":"FREE gift card"},{"$f":"'Order Form'!$E$16","v":"No thanks"},null,null,null,null,{"$f":"IF(N7=\"\",\"\",IFERROR(INDIRECT(\"Postcodes!$C\"&SUMPRODUCT(--(Postcodes!$A$2:$A$100<=N7)*(Postcodes!$B$2:$B$100>=N7), ROW(Postcodes!$A$2:$A$100))),\"WRONG CODE\"))","v":0},null,null,null,null,null,null,""]
[{"$f":"'Order Form'!A25","v":7},{"$f":"'Order Form'!N25","v":""},{"$f":"'Order Form'!$E$2","v":0},{"$f":"'Order Form'!$E$3","v":0},{"$f":"'Order Form'!$E$4","v":0},{"$f":"'Order Form'!$E$5","v":0},{"$f":"'Order Form'!$E$7","v":0},{"$f":"'Order Form'!$E$6","v":0},{"$f":"'Order Form'!$E$9","v":0},{"$f":"'Order Form'!$E$10 & \"\"","v":""},{"$f":"IF('Order Form'!D25=\"\",'Order Form'!C25,'Order Form'!D25)","v":0},{"$f":"'Order Form'!E25","v":0},{"$f":"'Order Form'!F25","v":0},{"$f":"'Order Form'!J25","v":0},{"$f":"'Order Form'!H25","v":0},{"$f":"'Order Form'!I25","v":0},{"$f":"'Order Form'!K25 & \"\"","v":""},{"$f":"'Order Form'!M25 & \"\"","v":""},{"$f":"'Order Form'!C25 & \"\"","v":""},{"$f":"'Order Form'!L25 & \"\"","v":""},{"$f":"'Order Form'!$E$12","v":"YES"},{"$f":"'Order Form'!$E$13","v":"ASAP (order with branding can take up to 3 business days to dispatch) Premium delivery recommended to guarantee delivery prior to Christmas, fees apply."},{"$f":"'Order Form'!$E$15","v":"FREE gift card"},{"$f":"'Order Form'!$E$16","v":"No thanks"},null,null,null,null,{"$f":"IF(N8=\"\",\"\",IFERROR(INDIRECT(\"Postcodes!$C\"&SUMPRODUCT(--(Postcodes!$A$2:$A$100<=N8)*(Postcodes!$B$2:$B$100>=N8), ROW(Postcodes!$A$2:$A$100))),\"WRONG CODE\"))","v":0},null,null,null,null,null,null,""]
[{"$f":"'Order Form'!A26","v":8},{"$f":"'Order Form'!N26","v":""},{"$f":"'Order Form'!$E$2","v":0},{"$f":"'Order Form'!$E$3","v":0},{"$f":"'Order Form'!$E$4","v":0},{"$f":"'Order Form'!$E$5","v":0},{"$f":"'Order Form'!$E$7","v":0},{"$f":"'Order Form'!$E$6","v":0},{"$f":"'Order Form'!$E$9","v":0},{"$f":"'Order Form'!$E$10 & \"\"","v":""},{"$f":"IF('Order Form'!D26=\"\",'Order Form'!C26,'Order Form'!D26)","v":0},{"$f":"'Order Form'!E26","v":0},{"$f":"'Order Form'!F26","v":0},{"$f":"'Order Form'!J26","v":0},{"$f":"'Order Form'!H26","v":0},{"$f":"'Order Form'!I26","v":0},{"$f":"'Order Form'!K26 & \"\"","v":""},{"$f":"'Order Form'!M26 & \"\"","v":""},{"$f":"'Order Form'!C26 & \"\"","v":""},{"$f":"'Order Form'!L26 & \"\"","v":""},{"$f":"'Order Form'!$E$12","v":"YES"},{"$f":"'Order Form'!$E$13","v":"ASAP (order with branding can take up to 3 business days to dispatch) Premium delivery recommended to guarantee delivery prior to Christmas, fees apply."},{"$f":"'Order Form'!$E$15","v":"FREE gift card"},{"$f":"'Order Form'!$E$16","v":"No thanks"},null,null,null,null,{"$f":"IF(N9=\"\",\"\",IFERROR(INDIRECT(\"Postcodes!$C\"&SUMPRODUCT(--(Postcodes!$A$2:$A$100<=N9)*(Postcodes!$B$2:$B$100>=N9), ROW(Postcodes!$A$2:$A$100))),\"WRONG CODE\"))","v":0},null,null,null,null,null,null,""]
[{"$f":"'Order Form'!A27","v":9},{"$f":"'Order Form'!N27","v":""},{"$f":"'Order Form'!$E$2","v":0},{"$f":"'Order Form'!$E$3","v":0},{"$f":"'Order Form'!$E$4","v":0},{"$f":"'Order Form'!$E$5","v":0},{"$f":"'Order Form'!$E$7","v":0},{"$f":"'Order Form'!$E$6","v":0},{"$f":"'Order Form'!$E$9","v":0},{"$f":"'Order Form'!$E$10 & \"\"","v":""},{"$f":"IF('Order Form'!D27=\"\",'Order Form'!C27,'Order Form'!D27)","v":0},{"$f":"'Order Form'!E27","v":0},{"$f":"'Order Form'!F27","v":0},{"$f":"'Order Form'!J27","v":0},{"$f":"'Order Form'!H27","v":0},{"$f":"'Order Form'!I27","v":0},{"$f":"'Order Form'!K27 & \"\"","v":""},{"$f":"'Order Form'!M27 & \"\"","v":""},{"$f":"'Order Form'!C27 & \"\"","v":""},{"$f":"'Order Form'!L27 & \"\"","v":""},{"$f":"'Order Form'!$E$12","v":"YES"},{"$f":"'Order Form'!$E$13","v":"ASAP (order with branding can take up to 3 business days to dispatch) Premium delivery recommended to guarantee delivery prior to Christmas, fees apply."},{"$f":"'Order Form'!$E$15","v":"FREE gift card"},{"$f":"'Order Form'!$E$16","v":"No thanks"},null,null,null,null,{"$f":"IF(N10=\"\",\"\",IFERROR(INDIRECT(\"Postcodes!$C\"&SUMPRODUCT(--(Postcodes!$A$2:$A$100<=N10)*(Postcodes!$B$2:$B$100>=N10), ROW(Postcodes!$A$2:$A$100))),\"WRONG CODE\"))","v":0},null,null,null,null,null,null,""]
[{"$f":"'Order Form'!A28","v":10},{"$f":"'Order Form'!N28","v":""},{"$f":"'Order Form'!$E$2","v":0},{"$f":"'Order Form'!$E$3","v":0},{"$f":"'Order Form'!$E$4","v":0},{"$f":"'Order Form'!$E$5","v":0},{"$f":"'Order Form'!$E$7","v":0},{"$f":"'Order Form'!$E$6","v":0},{"$f":"'Order Form'!$E$9","v":0},{"$f":"'Order Form'!$E$10 & \"\"","v":""},{"$f":"IF('Order Form'!D28=\"\",'Order Form'!C28,'Order Form'!D28)","v":0},{"$f":"'Order Form'!E28","v":0},{"$f":"'Order Form'!F28","v":0},{"$f":"'Order Form'!J28","v":0},{"$f":"'Order Form'!H28","v":0},{"$f":"'Order Form'!I28","v":0},{"$f":"'Order Form'!K28 & \"\"","v":""},{"$f":"'Order Form'!M28 & \"\"","v":""},{"$f":"'Order Form'!C28 & \"\"","v":""},{"$f":"'Order Form'!L28 & \"\"","v":""},{"$f":"'Order Form'!$E$12","v":"YES"},{"$f":"'Order Form'!$E$13","v":"ASAP (order with branding can take up to 3 business days to dispatch) Premium delivery recommended to guarantee delivery prior to Christmas, fees apply."},{"$f":"'Order Form'!$E$15","v":"FREE gift card"},{"$f":"'Order Form'!$E$16","v":"No thanks"},null,null,null,null,{"$f":"IF(N11=\"\",\"\",IFERROR(INDIRECT(\"Postcodes!$C\"&SUMPRODUCT(--(Postcodes!$A$2:$A$100<=N11)*(Postcodes!$B$2:$B$100>=N11), ROW(Postcodes!$A$2:$A$100))),\"WRONG CODE\"))","v":0},null,null,null,null,null,null,""]
[{"$f":"'Order Form'!A29","v":11},{"$f":"'Order Form'!N29","v":""},{"$f":"'Order Form'!$E$2","v":0},{"$f":"'Order Form'!$E$3","v":0},{"$f":"'Order Form'!$E$4","v":0},{"$f":"'Order Form'!$E$5","v":0},{"$f":"'Order Form'!$E$7","v":0},{"$f":"'Order Form'!$E$6","v":0},{"$f":"'Order Form'!$E$9","v":0},{"$f":"'Order Form'!$E$10 & \"\"","v":""},{"$f":"IF('Order Form'!D29=\"\",'Order Form'!C29,'Order Form'!D29)","v":0},{"$f":"'Order Form'!E29","v":0},{"$f":"'Order Form'!F29","v":0},{"$f":"'Order Form'!J29","v":0},{"$f":"'Order Form'!H29","v":0},{"$f":"'Order Form'!I29","v":0},{"$f":"'Order Form'!K29 & \"\"","v":""},{"$f":"'Order Form'!M29 & \"\"","v":""},{"$f":"'Order Form'!C29 & \"\"","v":""},{"$f":"'Order Form'!L29 & \"\"","v":""},{"$f":"'Order Form'!$E$12","v":"YES"},{"$f":"'Order Form'!$E$13","v":"ASAP (order with branding can take up to 3 business days to dispatch) Premium delivery recommended to guarantee delivery prior to Christmas, fees apply."},{"$f":"'Order Form'!$E$15","v":"FREE gift card"},{"$f":"'Order Form'!$E$16","v":"No thanks"},null,null,null,null,{"$f":"IF(N12=\"\",\"\",IFERROR(INDIRECT(\"Postcodes!$C\"&SUMPRODUCT(--(Postcodes!$A$2:$A$100<=N12)*(Postcodes!$B$2:$B$100>=N12), ROW(Postcodes!$A$2:$A$100))),\"WRONG CODE\"))","v":0},null,null,null,null,null,null,""]
[{"$f":"'Order Form'!A30","v":12},{"$f":"'Order Form'!N30","v":""},{"$f":"'Order Form'!$E$2","v":0},{"$f":"'Order Form'!$E$3","v":0},{"$f":"'Order Form'!$E$4","v":0},{"$f":"'Order Form'!$E$5","v":0},{"$f":"'Order Form'!$E$7","v":0},{"$f":"'Order Form'!$E$6","v":0},{"$f":"'Order Form'!$E$9","v":0},{"$f":"'Order Form'!$E$10 & \"\"","v":""},{"$f":"IF('Order Form'!D30=\"\",'Order Form'!C30,'Order Form'!D30)","v":0},{"$f":"'Order Form'!E30","v":0},{"$f":"'Order Form'!F30","v":0},{"$f":"'Order Form'!J30","v":0},{"$f":"'Order Form'!H30","v":0},{"$f":"'Order Form'!I30","v":0},{"$f":"'Order Form'!K30 & \"\"","v":""},{"$f":"'Order Form'!M30 & \"\"","v":""},{"$f":"'Order Form'!C30 & \"\"","v":""},{"$f":"'Order Form'!L30 & \"\"","v":""},{"$f":"'Order Form'!$E$12","v":"YES"},{"$f":"'Order Form'!$E$13","v":"ASAP (order with branding can take up to 3 business days to dispatch) Premium delivery recommended to guarantee delivery prior to Christmas, fees apply."},{"$f":"'Order Form'!$E$15","v":"FREE gift card"},{"$f":"'Order Form'!$E$16","v":"No thanks"},null,null,null,null,{"$f":"IF(N13=\"\",\"\",IFERROR(INDIRECT(\"Postcodes!$C\"&SUMPRODUCT(--(Postcodes!$A$2:$A$100<=N13)*(Postcodes!$B$2:$B$100>=N13), ROW(Postcodes!$A$2:$A$100))),\"WRONG CODE\"))","v":0},null,null,null,null,null,null,""]
[{"$f":"'Order Form'!A31","v":13},{"$f":"'Order Form'!N31","v":""},{"$f":"'Order Form'!$E$2","v":0},{"$f":"'Order Form'!$E$3","v":0},{"$f":"'Order Form'!$E$4","v":0},{"$f":"'Order Form'!$E$5","v":0},{"$f":"'Order Form'!$E$7","v":0},{"$f":"'Order Form'!$E$6","v":0},{"$f":"'Order Form'!$E$9","v":0},{"$f":"'Order Form'!$E$10 & \"\"","v":""},{"$f":"IF('Order Form'!D31=\"\",'Order Form'!C31,'Order Form'!D31)","v":0},{"$f":"'Order Form'!E31","v":0},{"$f":"'Order Form'!F31","v":0},{"$f":"'Order Form'!J31","v":0},{"$f":"'Order Form'!H31","v":0},{"$f":"'Order Form'!I31","v":0},{"$f":"'Order Form'!K31 & \"\"","v":""},{"$f":"'Order Form'!M31 & \"\"","v":""},{"$f":"'Order Form'!C31 & \"\"","v":""},{"$f":"'Order Form'!L31 & \"\"","v":""},{"$f":"'Order Form'!$E$12","v":"YES"},{"$f":"'Order Form'!$E$13","v":"ASAP (order with branding can take up to 3 business days to dispatch) Premium delivery recommended to guarantee delivery prior to Christmas, fees apply."},{"$f":"'Order Form'!$E$15","v":"FREE gift card"},{"$f":"'Order Form'!$E$16","v":"No thanks"},null,null,null,null,{"$f":"IF(N14=\"\",\"\",IFERROR(INDIRECT(\"Postcodes!$C\"&SUMPRODUCT(--(Postcodes!$A$2:$A$100<=N14)*(Postcodes!$B$2:$B$100>=N14), ROW(Postcodes!$A$2:$A$100))),\"WRONG CODE\"))","v":0},null,null,null,null,null,null,""]
[{"$f":"'Order Form'!A32","v":14},{"$f":"'Order Form'!N32","v":""},{"$f":"'Order Form'!$E$2","v":0},{"$f":"'Order Form'!$E$3","v":0},{"$f":"'Order Form'!$E$4","v":0},{"$f":"'Order Form'!$E$5","v":0},{"$f":"'Order Form'!$E$7","v":0},{"$f":"'Order Form'!$E$6","v":0},{"$f":"'Order Form'!$E$9","v":0},{"$f":"'Order Form'!$E$10 & \"\"","v":""},{"$f":"IF('Order Form'!D32=\"\",'Order Form'!C32,'Order Form'!D32)","v":0},{"$f":"'Order Form'!E32","v":0},{"$f":"'Order Form'!F32","v":0},{"$f":"'Order Form'!J32","v":0},{"$f":"'Order Form'!H32","v":0},{"$f":"'Order Form'!I32","v":0},{"$f":"'Order Form'!K32 & \"\"","v":""},{"$f":"'Order Form'!M32 & \"\"","v":""},{"$f":"'Order Form'!C32 & \"\"","v":""},{"$f":"'Order Form'!L32 & \"\"","v":""},{"$f":"'Order Form'!$E$12","v":"YES"},{"$f":"'Order Form'!$E$13","v":"ASAP (order with branding can take up to 3 business days to dispatch) Premium delivery recommended to guarantee delivery prior to Christmas, fees apply."},{"$f":"'Order Form'!$E$15","v":"FREE gift card"},{"$f":"'Order Form'!$E$16","v":"No thanks"},null,null,null,null,{"$f":"IF(N15=\"\",\"\",IFERROR(INDIRECT(\"Postcodes!$C\"&SUMPRODUCT(--(Postcodes!$A$2:$A$100<=N15)*(Postcodes!$B$2:$B$100>=N15), ROW(Postcodes!$A$2:$A$100))),\"WRONG CODE\"))","v":0},null,null,null,null,null,null,""]
[{"$f":"'Order Form'!A33","v":15},{"$f":"'Order Form'!N33","v":""},{"$f":"'Order Form'!$E$2","v":0},{"$f":"'Order Form'!$E$3","v":0},{"$f":"'Order Form'!$E$4","v":0},{"$f":"'Order Form'!$E$5","v":0},{"$f":"'Order Form'!$E$7","v":0},{"$f":"'Order Form'!$E$6","v":0},{"$f":"'Order Form'!$E$9","v":0},{"$f":"'Order Form'!$E$10 & \"\"","v":""},{"$f":"IF('Order Form'!D33=\"\",'Order Form'!C33,'Order Form'!D33)","v":0},{"$f":"'Order Form'!E33","v":0},{"$f":"'Order Form'!F33","v":0},{"$f":"'Order Form'!J33","v":0},{"$f":"'Order Form'!H33","v":0},{"$f":"'Order Form'!I33","v":0},{"$f":"'Order Form'!K33 & \"\"","v":""},{"$f":"'Order Form'!M33 & \"\"","v":""},{"$f":"'Order Form'!C33 & \"\"","v":""},{"$f":"'Order Form'!L33 & \"\"","v":""},{"$f":"'Order Form'!$E$12","v":"YES"},{"$f":"'Order Form'!$E$13","v":"ASAP (order with branding can take up to 3 business days to dispatch) Premium delivery recommended to guarantee delivery prior to Christmas, fees apply."},{"$f":"'Order Form'!$E$15","v":"FREE gift card"},{"$f":"'Order Form'!$E$16","v":"No thanks"},null,null,null,null,{"$f":"IF(N16=\"\",\"\",IFERROR(INDIRECT(\"Postcodes!$C\"&SUMPRODUCT(--(Postcodes!$A$2:$A$100<=N16)*(Postcodes!$B$2:$B$100>=N16), ROW(Postcodes!$A$2:$A$100))),\"WRONG CODE\"))","v":0},null,null,null,null,null,null,""]
[{"$f":"'Order Form'!A34","v":16},{"$f":"'Order Form'!N34","v":""},{"$f":"'Order Form'!$E$2","v":0},{"$f":"'Order Form'!$E$3","v":0},{"$f":"'Order Form'!$E$4","v":0},{"$f":"'Order Form'!$E$5","v":0},{"$f":"'Order Form'!$E$7","v":0},{"$f":"'Order Form'!$E$6","v":0},{"$f":"'Order Form'!$E$9","v":0},{"$f":"'Order Form'!$E$10 & \"\"","v":""},{"$f":"IF('Order Form'!D34=\"\",'Order Form'!C34,'Order Form'!D34)","v":0},{"$f":"'Order Form'!E34","v":0},{"$f":"'Order Form'!F34","v":0},{"$f":"'Order Form'!J34","v":0},{"$f":"'Order Form'!H34","v":0},{"$f":"'Order Form'!I34","v":0},{"$f":"'Order Form'!K34 & \"\"","v":""},{"$f":"'Order Form'!M34 & \"\"","v":""},{"$f":"'Order Form'!C34 & \"\"","v":""},{"$f":"'Order Form'!L34 & \"\"","v":""},{"$f":"'Order Form'!$E$12","v":"YES"},{"$f":"'Order Form'!$E$13","v":"ASAP (order with branding can take up to 3 business days to dispatch) Premium delivery recommended to guarantee delivery prior to Christmas, fees apply."},{"$f":"'Order Form'!$E$15","v":"FREE gift card"},{"$f":"'Order Form'!$E$16","v":"No thanks"},null,null,null,null,{"$f":"IF(N17=\"\",\"\",IFERROR(INDIRECT(\"Postcodes!$C\"&SUMPRODUCT(--(Postcodes!$A$2:$A$100<=N17)*(Postcodes!$B$2:$B$100>=N17), ROW(Postcodes!$A$2:$A$100))),\"WRONG CODE\"))","v":0},null,null,null,null,null,null,""]
[{"$f":"'Order Form'!A35","v":17},{"$f":"'Order Form'!N35","v":""},{"$f":"'Order Form'!$E$2","v":0},{"$f":"'Order Form'!$E$3","v":0},{"$f":"'Order Form'!$E$4","v":0},{"$f":"'Order Form'!$E$5","v":0},{"$f":"'Order Form'!$E$7","v":0},{"$f":"'Order Form'!$E$6","v":0},{"$f":"'Order Form'!$E$9","v":0},{"$f":"'Order Form'!$E$10 & \"\"","v":""},{"$f":"IF('Order Form'!D35=\"\",'Order Form'!C35,'Order Form'!D35)","v":0},{"$f":"'Order Form'!E35","v":0},{"$f":"'Order Form'!F35","v":0},{"$f":"'Order Form'!J35","v":0},{"$f":"'Order Form'!H35","v":0},{"$f":"'Order Form'!I35","v":0},{"$f":"'Order Form'!K35 & \"\"","v":""},{"$f":"'Order Form'!M35 & \"\"","v":""},{"$f":"'Order Form'!C35 & \"\"","v":""},{"$f":"'Order Form'!L35 & \"\"","v":""},{"$f":"'Order Form'!$E$12","v":"YES"},{"$f":"'Order Form'!$E$13","v":"ASAP (order with branding can take up to 3 business days to dispatch) Premium delivery recommended to guarantee delivery prior to Christmas, fees apply."},{"$f":"'Order Form'!$E$15","v":"FREE gift card"},{"$f":"'Order Form'!$E$16","v":"No thanks"},null,null,null,null,{"$f":"IF(N18=\"\",\"\",IFERROR(INDIRECT(\"Postcodes!$C\"&SUMPRODUCT(--(Postcodes!$A$2:$A$100<=N18)*(Postcodes!$B$2:$B$100>=N18), ROW(Postcodes!$A$2:$A$100))),\"WRONG CODE\"))","v":0},null,null,null,null,null,null,""]
[{"$f":"'Order Form'!A36","v":18},{"$f":"'Order Form'!N36","v":""},{"$f":"'Order Form'!$E$2","v":0},{"$f":"'Order Form'!$E$3","v":0},{"$f":"'Order Form'!$E$4","v":0},{"$f":"'Order Form'!$E$5","v":0},{"$f":"'Order Form'!$E$7","v":0},{"$f":"'Order Form'!$E$6","v":0},{"$f":"'Order Form'!$E$9","v":0},{"$f":"'Order Form'!$E$10 & \"\"","v":""},{"$f":"IF('Order Form'!D36=\"\",'Order Form'!C36,'Order Form'!D36)","v":0},{"$f":"'Order Form'!E36","v":0},{"$f":"'Order Form'!F36","v":0},{"$f":"'Order Form'!J36","v":0},{"$f":"'Order Form'!H36","v":0},{"$f":"'Order Form'!I36","v":0},{"$f":"'Order Form'!K36 & \"\"","v":""},{"$f":"'Order Form'!M36 & \"\"","v":""},{"$f":"'Order Form'!C36 & \"\"","v":""},{"$f":"'Order Form'!L36 & \"\"","v":""},{"$f":"'Order Form'!$E$12","v":"YES"},{"$f":"'Order Form'!$E$13","v":"ASAP (order with branding can take up to 3 business days to dispatch) Premium delivery recommended to guarantee delivery prior to Christmas, fees apply."},{"$f":"'Order Form'!$E$15","v":"FREE gift card"},{"$f":"'Order Form'!$E$16","v":"No thanks"},null,null,null,null,{"$f":"IF(N19=\"\",\"\",IFERROR(INDIRECT(\"Postcodes!$C\"&SUMPRODUCT(--(Postcodes!$A$2:$A$100<=N19)*(Postcodes!$B$2:$B$100>=N19), ROW(Postcodes!$A$2:$A$100))),\"WRONG CODE\"))","v":0},null,null,null,null,null,null,""]
[{"$f":"'Order Form'!A37","v":19},{"$f":"'Order Form'!N37","v":""},{"$f":"'Order Form'!$E$2","v":0},{"$f":"'Order Form'!$E$3","v":0},{"$f":"'Order Form'!$E$4","v":0},{"$f":"'Order Form'!$E$5","v":0},{"$f":"'Order Form'!$E$7","v":0},{"$f":"'Order Form'!$E$6","v":0},{"$f":"'Order Form'!$E$9","v":0},{"$f":"'Order Form'!$E$10 & \"\"","v":""},{"$f":"IF('Order Form'!D37=\"\",'Order Form'!C37,'Order Form'!D37)","v":0},{"$f":"'Order Form'!E37","v":0},{"$f":"'Order Form'!F37","v":0},{"$f":"'Order Form'!J37","v":0},{"$f":"'Order Form'!H37","v":0},{"$f":"'Order Form'!I37","v":0},{"$f":"'Order Form'!K37 & \"\"","v":""},{"$f":"'Order Form'!M37 & \"\"","v":""},{"$f":"'Order Form'!C37 & \"\"","v":""},{"$f":"'Order Form'!L37 & \"\"","v":""},{"$f":"'Order Form'!$E$12","v":"YES"},{"$f":"'Order Form'!$E$13","v":"ASAP (order with branding can take up to 3 business days to dispatch) Premium delivery recommended to guarantee delivery prior to Christmas, fees apply."},{"$f":"'Order Form'!$E$15","v":"FREE gift card"},{"$f":"'Order Form'!$E$16","v":"No thanks"},null,null,null,null,{"$f":"IF(N20=\"\",\"\",IFERROR(INDIRECT(\"Postcodes!$C\"&SUMPRODUCT(--(Postcodes!$A$2:$A$100<=N20)*(Postcodes!$B$2:$B$100>=N20), ROW(Postcodes!$A$2:$A$100))),\"WRONG CODE\"))","v":0},null,null,null,null,null,null,""]
[{"$f":"'Order Form'!A38","v":20},{"$f":"'Order Form'!N38","v":""},{"$f":"'Order Form'!$E$2","v":0},{"$f":"'Order Form'!$E$3","v":0},{"$f":"'Order Form'!$E$4","v":0},{"$f":"'Order Form'!$E$5","v":0},{"$f":"'Order Form'!$E$7","v":0},{"$f":"'Order Form'!$E$6","v":0},{"$f":"'Order Form'!$E$9","v":0},{"$f":"'Order Form'!$E$10 & \"\"","v":""},{"$f":"IF('Order Form'!D38=\"\",'Order Form'!C38,'Order Form'!D38)","v":0},{"$f":"'Order Form'!E38","v":0},{"$f":"'Order Form'!F38","v":0},{"$f":"'Order Form'!J38","v":0},{"$f":"'Order Form'!H38","v":0},{"$f":"'Order Form'!I38","v":0},{"$f":"'Order Form'!K38 & \"\"","v":""},{"$f":"'Order Form'!M38 & \"\"","v":""},{"$f":"'Order Form'!C38 & \"\"","v":""},{"$f":"'Order Form'!L38 & \"\"","v":""},{"$f":"'Order Form'!$E$12","v":"YES"},{"$f":"'Order Form'!$E$13","v":"ASAP (order with branding can take up to 3 business days to dispatch) Premium delivery recommended to guarantee delivery prior to Christmas, fees apply."},{"$f":"'Order Form'!$E$15","v":"FREE gift card"},{"$f":"'Order Form'!$E$16","v":"No thanks"},null,null,null,null,{"$f":"IF(N21=\"\",\"\",IFERROR(INDIRECT(\"Postcodes!$C\"&SUMPRODUCT(--(Postcodes!$A$2:$A$100<=N21)*(Postcodes!$B$2:$B$100>=N21), ROW(Postcodes!$A$2:$A$100))),\"WRONG CODE\"))","v":0},null,null,null,null,null,null,""]
[{"$f":"'Order Form'!A39","v":21},{"$f":"'Order Form'!N39","v":""},{"$f":"'Order Form'!$E$2","v":0},{"$f":"'Order Form'!$E$3","v":0},{"$f":"'Order Form'!$E$4","v":0},{"$f":"'Order Form'!$E$5","v":0},{"$f":"'Order Form'!$E$7","v":0},{"$f":"'Order Form'!$E$6","v":0},{"$f":"'Order Form'!$E$9","v":0},{"$f":"'Order Form'!$E$10 & \"\"","v":""},{"$f":"IF('Order Form'!D39=\"\",'Order Form'!C39,'Order Form'!D39)","v":0},{"$f":"'Order Form'!E39","v":0},{"$f":"'Order Form'!F39","v":0},{"$f":"'Order Form'!J39","v":0},{"$f":"'Order Form'!H39","v":0},{"$f":"'Order Form'!I39","v":0},{"$f":"'Order Form'!K39 & \"\"","v":""},{"$f":"'Order Form'!M39 & \"\"","v":""},{"$f":"'Order Form'!C39 & \"\"","v":""},{"$f":"'Order Form'!L39 & \"\"","v":""},{"$f":"'Order Form'!$E$12","v":"YES"},{"$f":"'Order Form'!$E$13","v":"ASAP (order with branding can take up to 3 business days to dispatch) Premium delivery recommended to guarantee delivery prior to Christmas, fees apply."},{"$f":"'Order Form'!$E$15","v":"FREE gift card"},{"$f":"'Order Form'!$E$16","v":"No thanks"},null,null,null,null,{"$f":"IF(N22=\"\",\"\",IFERROR(INDIRECT(\"Postcodes!$C\"&SUMPRODUCT(--(Postcodes!$A$2:$A$100<=N22)*(Postcodes!$B$2:$B$100>=N22), ROW(Postcodes!$A$2:$A$100))),\"WRONG CODE\"))","v":0},null,null,null,null,null,null,""]
[{"$f":"'Order Form'!A40","v":22},{"$f":"'Order Form'!N40","v":""},{"$f":"'Order Form'!$E$2","v":0},{"$f":"'Order Form'!$E$3","v":0},{"$f":"'Order Form'!$E$4","v":0},{"$f":"'Order Form'!$E$5","v":0},{"$f":"'Order Form'!$E$7","v":0},{"$f":"'Order Form'!$E$6","v":0},{"$f":"'Order Form'!$E$9","v":0},{"$f":"'Order Form'!$E$10 & \"\"","v":""},{"$f":"IF('Order Form'!D40=\"\",'Order Form'!C40,'Order Form'!D40)","v":0},{"$f":"'Order Form'!E40","v":0},{"$f":"'Order Form'!F40","v":0},{"$f":"'Order Form'!J40","v":0},{"$f":"'Order Form'!H40","v":0},{"$f":"'Order Form'!I40","v":0},{"$f":"'Order Form'!K40 & \"\"","v":""},{"$f":"'Order Form'!M40 & \"\"","v":""},{"$f":"'Order Form'!C40 & \"\"","v":""},{"$f":"'Order Form'!L40 & \"\"","v":""},{"$f":"'Order Form'!$E$12","v":"YES"},{"$f":"'Order Form'!$E$13","v":"ASAP (order with branding can take up to 3 business days to dispatch) Premium delivery recommended to guarantee delivery prior to Christmas, fees apply."},{"$f":"'Order Form'!$E$15","v":"FREE gift card"},{"$f":"'Order Form'!$E$16","v":"No thanks"},null,null,null,null,{"$f":"IF(N23=\"\",\"\",IFERROR(INDIRECT(\"Postcodes!$C\"&SUMPRODUCT(--(Postcodes!$A$2:$A$100<=N23)*(Postcodes!$B$2:$B$100>=N23), ROW(Postcodes!$A$2:$A$100))),\"WRONG CODE\"))","v":0},null,null,null,null,null,null,""]
[{"$f":"'Order Form'!A41","v":23},{"$f":"'Order Form'!N41","v":""},{"$f":"'Order Form'!$E$2","v":0},{"$f":"'Order Form'!$E$3","v":0},{"$f":"'Order Form'!$E$4","v":0},{"$f":"'Order Form'!$E$5","v":0},{"$f":"'Order Form'!$E$7","v":0},{"$f":"'Order Form'!$E$6","v":0},{"$f":"'Order Form'!$E$9","v":0},{"$f":"'Order Form'!$E$10 & \"\"","v":""},{"$f":"IF('Order Form'!D41=\"\",'Order Form'!C41,'Order Form'!D41)","v":0},{"$f":"'Order Form'!E41","v":0},{"$f":"'Order Form'!F41","v":0},{"$f":"'Order Form'!J41","v":0},{"$f":"'Order Form'!H41","v":0},{"$f":"'Order Form'!I41","v":0},{"$f":"'Order Form'!K41 & \"\"","v":""},{"$f":"'Order Form'!M41 & \"\"","v":""},{"$f":"'Order Form'!C41 & \"\"","v":""},{"$f":"'Order Form'!L41 & \"\"","v":""},{"$f":"'Order Form'!$E$12","v":"YES"},{"$f":"'Order Form'!$E$13","v":"ASAP (order with branding can take up to 3 business days to dispatch) Premium delivery recommended to guarantee delivery prior to Christmas, fees apply."},{"$f":"'Order Form'!$E$15","v":"FREE gift card"},{"$f":"'Order Form'!$E$16","v":"No thanks"},null,null,null,null,{"$f":"IF(N24=\"\",\"\",IFERROR(INDIRECT(\"Postcodes!$C\"&SUMPRODUCT(--(Postcodes!$A$2:$A$100<=N24)*(Postcodes!$B$2:$B$100>=N24), ROW(Postcodes!$A$2:$A$100))),\"WRONG CODE\"))","v":0},null,null,null,null,null,null,""]
[{"$f":"'Order Form'!A42","v":24},{"$f":"'Order Form'!N42","v":""},{"$f":"'Order Form'!$E$2","v":0},{"$f":"'Order Form'!$E$3","v":0},{"$f":"'Order Form'!$E$4","v":0},{"$f":"'Order Form'!$E$5","v":0},{"$f":"'Order Form'!$E$7","v":0},{"$f":"'Order Form'!$E$6","v":0},{"$f":"'Order Form'!$E$9","v":0},{"$f":"'Order Form'!$E$10 & \"\"","v":""},{"$f":"IF('Order Form'!D42=\"\",'Order Form'!C42,'Order Form'!D42)","v":0},{"$f":"'Order Form'!E42","v":0},{"$f":"'Order Form'!F42","v":0},{"$f":"'Order Form'!J42","v":0},{"$f":"'Order Form'!H42","v":0},{"$f":"'Order Form'!I42","v":0},{"$f":"'Order Form'!K42 & \"\"","v":""},{"$f":"'Order Form'!M42 & \"\"","v":""},{"$f":"'Order Form'!C42 & \"\"","v":""},{"$f":"'Order Form'!L42 & \"\"","v":""},{"$f":"'Order Form'!$E$12","v":"YES"},{"$f":"'Order Form'!$E$13","v":"ASAP (order with branding can take up to 3 business days to dispatch) Premium delivery recommended to guarantee delivery prior to Christmas, fees apply."},{"$f":"'Order Form'!$E$15","v":"FREE gift card"},{"$f":"'Order Form'!$E$16","v":"No thanks"},null,null,null,null,{"$f":"IF(N25=\"\",\"\",IFERROR(INDIRECT(\"Postcodes!$C\"&SUMPRODUCT(--(Postcodes!$A$2:$A$100<=N25)*(Postcodes!$B$2:$B$100>=N25), ROW(Postcodes!$A$2:$A$100))),\"WRONG CODE\"))","v":0},null,null,null,null,null,null,""]
[{"$f":"'Order Form'!A43","v":25},{"$f":"'Order Form'!N43","v":""},{"$f":"'Order Form'!$E$2","v":0},{"$f":"'Order Form'!$E$3","v":0},{"$f":"'Order Form'!$E$4","v":0},{"$f":"'Order Form'!$E$5","v":0},{"$f":"'Order Form'!$E$7","v":0},{"$f":"'Order Form'!$E$6","v":0},{"$f":"'Order Form'!$E$9","v":0},{"$f":"'Order Form'!$E$10 & \"\"","v":""},{"$f":"IF('Order Form'!D43=\"\",'Order Form'!C43,'Order Form'!D43)","v":0},{"$f":"'Order Form'!E43","v":0},{"$f":"'Order Form'!F43","v":0},{"$f":"'Order Form'!J43","v":0},{"$f":"'Order Form'!H43","v":0},{"$f":"'Order Form'!I43","v":0},{"$f":"'Order Form'!K43 & \"\"","v":""},{"$f":"'Order Form'!M43 & \"\"","v":""},{"$f":"'Order Form'!C43 & \"\"","v":""},{"$f":"'Order Form'!L43 & \"\"","v":""},{"$f":"'Order Form'!$E$12","v":"YES"},{"$f":"'Order Form'!$E$13","v":"ASAP (order with branding can take up to 3 business days to dispatch) Premium delivery recommended to guarantee delivery prior to Christmas, fees apply."},{"$f":"'Order Form'!$E$15","v":"FREE gift card"},{"$f":"'Order Form'!$E$16","v":"No thanks"},null,null,null,null,{"$f":"IF(N26=\"\",\"\",IFERROR(INDIRECT(\"Postcodes!$C\"&SUMPRODUCT(--(Postcodes!$A$2:$A$100<=N26)*(Postcodes!$B$2:$B$100>=N26), ROW(Postcodes!$A$2:$A$100))),\"WRONG CODE\"))","v":0},null,null,null,null,null,null,""]
[{"$f":"'Order Form'!A44","v":26},{"$f":"'Order Form'!N44","v":""},{"$f":"'Order Form'!$E$2","v":0},{"$f":"'Order Form'!$E$3","v":0},{"$f":"'Order Form'!$E$4","v":0},{"$f":"'Order Form'!$E$5","v":0},{"$f":"'Order Form'!$E$7","v":0},{"$f":"'Order Form'!$E$6","v":0},{"$f":"'Order Form'!$E$9","v":0},{"$f":"'Order Form'!$E$10 & \"\"","v":""},{"$f":"IF('Order Form'!D44=\"\",'Order Form'!C44,'Order Form'!D44)","v":0},{"$f":"'Order Form'!E44","v":0},{"$f":"'Order Form'!F44","v":0},{"$f":"'Order Form'!J44","v":0},{"$f":"'Order Form'!H44","v":0},{"$f":"'Order Form'!I44","v":0},{"$f":"'Order Form'!K44 & \"\"","v":""},{"$f":"'Order Form'!M44 & \"\"","v":""},{"$f":"'Order Form'!C44 & \"\"","v":""},{"$f":"'Order Form'!L44 & \"\"","v":""},{"$f":"'Order Form'!$E$12","v":"YES"},{"$f":"'Order Form'!$E$13","v":"ASAP (order with branding can take up to 3 business days to dispatch) Premium delivery recommended to guarantee delivery prior to Christmas, fees apply."},{"$f":"'Order Form'!$E$15","v":"FREE gift card"},{"$f":"'Order Form'!$E$16","v":"No thanks"},null,null,null,null,{"$f":"IF(N27=\"\",\"\",IFERROR(INDIRECT(\"Postcodes!$C\"&SUMPRODUCT(--(Postcodes!$A$2:$A$100<=N27)*(Postcodes!$B$2:$B$100>=N27), ROW(Postcodes!$A$2:$A$100))),\"WRONG CODE\"))","v":0},null,null,null,null,null,null,""]
[{"$f":"'Order Form'!A45","v":27},{"$f":"'Order Form'!N45","v":""},{"$f":"'Order Form'!$E$2","v":0},{"$f":"'Order Form'!$E$3","v":0},{"$f":"'Order Form'!$E$4","v":0},{"$f":"'Order Form'!$E$5","v":0},{"$f":"'Order Form'!$E$7","v":0},{"$f":"'Order Form'!$E$6","v":0},{"$f":"'Order Form'!$E$9","v":0},{"$f":"'Order Form'!$E$10 & \"\"","v":""},{"$f":"IF('Order Form'!D45=\"\",'Order Form'!C45,'Order Form'!D45)","v":0},{"$f":"'Order Form'!E45","v":0},{"$f":"'Order Form'!F45","v":0},{"$f":"'Order Form'!J45","v":0},{"$f":"'Order Form'!H45","v":0},{"$f":"'Order Form'!I45","v":0},{"$f":"'Order Form'!K45 & \"\"","v":""},{"$f":"'Order Form'!M45 & \"\"","v":""},{"$f":"'Order Form'!C45 & \"\"","v":""},{"$f":"'Order Form'!L45 & \"\"","v":""},{"$f":"'Order Form'!$E$12","v":"YES"},{"$f":"'Order Form'!$E$13","v":"ASAP (order with branding can take up to 3 business days to dispatch) Premium delivery recommended to guarantee delivery prior to Christmas, fees apply."},{"$f":"'Order Form'!$E$15","v":"FREE gift card"},{"$f":"'Order Form'!$E$16","v":"No thanks"},null,null,null,null,{"$f":"IF(N28=\"\",\"\",IFERROR(INDIRECT(\"Postcodes!$C\"&SUMPRODUCT(--(Postcodes!$A$2:$A$100<=N28)*(Postcodes!$B$2:$B$100>=N28), ROW(Postcodes!$A$2:$A$100))),\"WRONG CODE\"))","v":0},null,null,null,null,null,null,""]
[{"$f":"'Order Form'!A46","v":28},{"$f":"'Order Form'!N46","v":""},{"$f":"'Order Form'!$E$2","v":0},{"$f":"'Order Form'!$E$3","v":0},{"$f":"'Order Form'!$E$4","v":0},{"$f":"'Order Form'!$E$5","v":0},{"$f":"'Order Form'!$E$7","v":0},{"$f":"'Order Form'!$E$6","v":0},{"$f":"'Order Form'!$E$9","v":0},{"$f":"'Order Form'!$E$10 & \"\"","v":""},{"$f":"IF('Order Form'!D46=\"\",'Order Form'!C46,'Order Form'!D46)","v":0},{"$f":"'Order Form'!E46","v":0},{"$f":"'Order Form'!F46","v":0},{"$f":"'Order Form'!J46","v":0},{"$f":"'Order Form'!H46","v":0},{"$f":"'Order Form'!I46","v":0},{"$f":"'Order Form'!K46 & \"\"","v":""},{"$f":"'Order Form'!M46 & \"\"","v":""},{"$f":"'Order Form'!C46 & \"\"","v":""},{"$f":"'Order Form'!L46 & \"\"","v":""},{"$f":"'Order Form'!$E$12","v":"YES"},{"$f":"'Order Form'!$E$13","v":"ASAP (order with branding can take up to 3 business days to dispatch) Premium delivery recommended to guarantee delivery prior to Christmas, fees apply."},{"$f":"'Order Form'!$E$15","v":"FREE gift card"},{"$f":"'Order Form'!$E$16","v":"No thanks"},null,null,null,null,{"$f":"IF(N29=\"\",\"\",IFERROR(INDIRECT(\"Postcodes!$C\"&SUMPRODUCT(--(Postcodes!$A$2:$A$100<=N29)*(Postcodes!$B$2:$B$100>=N29), ROW(Postcodes!$A$2:$A$100))),\"WRONG CODE\"))","v":0},null,null,null,null,null,null,""]
[{"$f":"'Order Form'!A47","v":29},{"$f":"'Order Form'!N47","v":""},{"$f":"'Order Form'!$E$2","v":0},{"$f":"'Order Form'!$E$3","v":0},{"$f":"'Order Form'!$E$4","v":0},{"$f":"'Order Form'!$E$5","v":0},{"$f":"'Order Form'!$E$7","v":0},{"$f":"'Order Form'!$E$6","v":0},{"$f":"'Order Form'!$E$9","v":0},{"$f":"'Order Form'!$E$10 & \"\"","v":""},{"$f":"IF('Order Form'!D47=\"\",'Order Form'!C47,'Order Form'!D47)","v":0},{"$f":"'Order Form'!E47","v":0},{"$f":"'Order Form'!F47","v":0},{"$f":"'Order Form'!J47","v":0},{"$f":"'Order Form'!H47","v":0},{"$f":"'Order Form'!I47","v":0},{"$f":"'Order Form'!K47 & \"\"","v":""},{"$f":"'Order Form'!M47 & \"\"","v":""},{"$f":"'Order Form'!C47 & \"\"","v":""},{"$f":"'Order Form'!L47 & \"\"","v":""},{"$f":"'Order Form'!$E$12","v":"YES"},{"$f":"'Order Form'!$E$13","v":"ASAP (order with branding can take up to 3 business days to dispatch) Premium delivery recommended to guarantee delivery prior to Christmas, fees apply."},{"$f":"'Order Form'!$E$15","v":"FREE gift card"},{"$f":"'Order Form'!$E$16","v":"No thanks"},null,null,null,null,{"$f":"IF(N30=\"\",\"\",IFERROR(INDIRECT(\"Postcodes!$C\"&SUMPRODUCT(--(Postcodes!$A$2:$A$100<=N30)*(Postcodes!$B$2:$B$100>=N30), ROW(Postcodes!$A$2:$A$100))),\"WRONG CODE\"))","v":0},null,null,null,null,null,null,""]
[{"$f":"'Order Form'!A48","v":30},{"$f":"'Order Form'!N48","v":""},{"$f":"'Order Form'!$E$2","v":0},{"$f":"'Order Form'!$E$3","v":0},{"$f":"'Order Form'!$E$4","v":0},{"$f":"'Order Form'!$E$5","v":0},{"$f":"'Order Form'!$E$7","v":0},{"$f":"'Order Form'!$E$6","v":0},{"$f":"'Order Form'!$E$9","v":0},{"$f":"'Order Form'!$E$10 & \"\"","v":""},{"$f":"IF('Order Form'!D48=\"\",'Order Form'!C48,'Order Form'!D48)","v":0},{"$f":"'Order Form'!E48","v":0},{"$f":"'Order Form'!F48","v":0},{"$f":"'Order Form'!J48","v":0},{"$f":"'Order Form'!H48","v":0},{"$f":"'Order Form'!I48","v":0},{"$f":"'Order Form'!K48 & \"\"","v":""},{"$f":"'Order Form'!M48 & \"\"","v":""},{"$f":"'Order Form'!C48 & \"\"","v":""},{"$f":"'Order Form'!L48 & \"\"","v":""},{"$f":"'Order Form'!$E$12","v":"YES"},{"$f":"'Order Form'!$E$13","v":"ASAP (order with branding can take up to 3 business days to dispatch) Premium delivery recommended to guarantee delivery prior to Christmas, fees apply."},{"$f":"'Order Form'!$E$15","v":"FREE gift card"},{"$f":"'Order Form'!$E$16","v":"No thanks"},null,null,null,null,{"$f":"IF(N31=\"\",\"\",IFERROR(INDIRECT(\"Postcodes!$C\"&SUMPRODUCT(--(Postcodes!$A$2:$A$100<=N31)*(Postcodes!$B$2:$B$100>=N31), ROW(Postcodes!$A$2:$A$100))),\"WRONG CODE\"))","v":0},null,null,null,null,null,null,""]
[{"$f":"'Order Form'!A49","v":31},{"$f":"'Order Form'!N49","v":""},{"$f":"'Order Form'!$E$2","v":0},{"$f":"'Order Form'!$E$3","v":0},{"$f":"'Order Form'!$E$4","v":0},{"$f":"'Order Form'!$E$5","v":0},{"$f":"'Order Form'!$E$7","v":0},{"$f":"'Order Form'!$E$6","v":0},{"$f":"'Order Form'!$E$9","v":0},{"$f":"'Order Form'!$E$10 & \"\"","v":""},{"$f":"IF('Order Form'!D49=\"\",'Order Form'!C49,'Order Form'!D49)","v":0},{"$f":"'Order Form'!E49","v":0},{"$f":"'Order Form'!F49","v":0},{"$f":"'Order Form'!J49","v":0},{"$f":"'Order Form'!H49","v":0},{"$f":"'Order Form'!I49","v":0},{"$f":"'Order Form'!K49 & \"\"","v":""},{"$f":"'Order Form'!M49 & \"\"","v":""},{"$f":"'Order Form'!C49 & \"\"","v":""},{"$f":"'Order Form'!L49 & \"\"","v":""},{"$f":"'Order Form'!$E$12","v":"YES"},{"$f":"'Order Form'!$E$13","v":"ASAP (order with branding can take up to 3 business days to dispatch) Premium delivery recommended to guarantee delivery prior to Christmas, fees apply."},{"$f":"'Order Form'!$E$15","v":"FREE gift card"},{"$f":"'Order Form'!$E$16","v":"No thanks"},null,null,null,null,{"$f":"IF(N32=\"\",\"\",IFERROR(INDIRECT(\"Postcodes!$C\"&SUMPRODUCT(--(Postcodes!$A$2:$A$100<=N32)*(Postcodes!$B$2:$B$100>=N32), ROW(Postcodes!$A$2:$A$100))),\"WRONG CODE\"))","v":0},null,null,null,null,null,null,""]
[{"$f":"'Order Form'!A50","v":32},{"$f":"'Order Form'!N50","v":""},{"$f":"'Order Form'!$E$2","v":0},{"$f":"'Order Form'!$E$3","v":0},{"$f":"'Order Form'!$E$4","v":0},{"$f":"'Order Form'!$E$5","v":0},{"$f":"'Order Form'!$E$7","v":0},{"$f":"'Order Form'!$E$6","v":0},{"$f":"'Order Form'!$E$9","v":0},{"$f":"'Order Form'!$E$10 & \"\"","v":""},{"$f":"IF('Order Form'!D50=\"\",'Order Form'!C50,'Order Form'!D50)","v":0},{"$f":"'Order Form'!E50","v":0},{"$f":"'Order Form'!F50","v":0},{"$f":"'Order Form'!J50","v":0},{"$f":"'Order Form'!H50","v":0},{"$f":"'Order Form'!I50","v":0},{"$f":"'Order Form'!K50 & \"\"","v":""},{"$f":"'Order Form'!M50 & \"\"","v":""},{"$f":"'Order Form'!C50 & \"\"","v":""},{"$f":"'Order Form'!L50 & \"\"","v":""},{"$f":"'Order Form'!$E$12","v":"YES"},{"$f":"'Order Form'!$E$13","v":"ASAP (order with branding can take up to 3 business days to dispatch) Premium delivery recommended to guarantee delivery prior to Christmas, fees apply."},{"$f":"'Order Form'!$E$15","v":"FREE gift card"},{"$f":"'Order Form'!$E$16","v":"No thanks"},null,null,null,null,{"$f":"IF(N33=\"\",\"\",IFERROR(INDIRECT(\"Postcodes!$C\"&SUMPRODUCT(--(Postcodes!$A$2:$A$100<=N33)*(Postcodes!$B$2:$B$100>=N33), ROW(Postcodes!$A$2:$A$100))),\"WRONG CODE\"))","v":0},null,null,null,null,null,null,""]
[{"$f":"'Order Form'!A51","v":33},{"$f":"'Order Form'!N51","v":""},{"$f":"'Order Form'!$E$2","v":0},{"$f":"'Order Form'!$E$3","v":0},{"$f":"'Order Form'!$E$4","v":0},{"$f":"'Order Form'!$E$5","v":0},{"$f":"'Order Form'!$E$7","v":0},{"$f":"'Order Form'!$E$6","v":0},{"$f":"'Order Form'!$E$9","v":0},{"$f":"'Order Form'!$E$10 & \"\"","v":""},{"$f":"IF('Order Form'!D51=\"\",'Order Form'!C51,'Order Form'!D51)","v":0},{"$f":"'Order Form'!E51","v":0},{"$f":"'Order Form'!F51","v":0},{"$f":"'Order Form'!J51","v":0},{"$f":"'Order Form'!H51","v":0},{"$f":"'Order Form'!I51","v":0},{"$f":"'Order Form'!K51 & \"\"","v":""},{"$f":"'Order Form'!M51 & \"\"","v":""},{"$f":"'Order Form'!C51 & \"\"","v":""},{"$f":"'Order Form'!L51 & \"\"","v":""},{"$f":"'Order Form'!$E$12","v":"YES"},{"$f":"'Order Form'!$E$13","v":"ASAP (order with branding can take up to 3 business days to dispatch) Premium delivery recommended to guarantee delivery prior to Christmas, fees apply."},{"$f":"'Order Form'!$E$15","v":"FREE gift card"},{"$f":"'Order Form'!$E$16","v":"No thanks"},null,null,null,null,{"$f":"IF(N34=\"\",\"\",IFERROR(INDIRECT(\"Postcodes!$C\"&SUMPRODUCT(--(Postcodes!$A$2:$A$100<=N34)*(Postcodes!$B$2:$B$100>=N34), ROW(Postcodes!$A$2:$A$100))),\"WRONG CODE\"))","v":0},null,null,null,null,null,null,""]
[{"$f":"'Order Form'!A52","v":34},{"$f":"'Order Form'!N52","v":""},{"$f":"'Order Form'!$E$2","v":0},{"$f":"'Order Form'!$E$3","v":0},{"$f":"'Order Form'!$E$4","v":0},{"$f":"'Order Form'!$E$5","v":0},{"$f":"'Order Form'!$E$7","v":0},{"$f":"'Order Form'!$E$6","v":0},{"$f":"'Order Form'!$E$9","v":0},{"$f":"'Order Form'!$E$10 & \"\"","v":""},{"$f":"IF('Order Form'!D52=\"\",'Order Form'!C52,'Order Form'!D52)","v":0},{"$f":"'Order Form'!E52","v":0},{"$f":"'Order Form'!F52","v":0},{"$f":"'Order Form'!J52","v":0},{"$f":"'Order Form'!H52","v":0},{"$f":"'Order Form'!I52","v":0},{"$f":"'Order Form'!K52 & \"\"","v":""},{"$f":"'Order Form'!M52 & \"\"","v":""},{"$f":"'Order Form'!C52 & \"\"","v":""},{"$f":"'Order Form'!L52 & \"\"","v":""},{"$f":"'Order Form'!$E$12","v":"YES"},{"$f":"'Order Form'!$E$13","v":"ASAP (order with branding can take up to 3 business days to dispatch) Premium delivery recommended to guarantee delivery prior to Christmas, fees apply."},{"$f":"'Order Form'!$E$15","v":"FREE gift card"},{"$f":"'Order Form'!$E$16","v":"No thanks"},null,null,null,null,{"$f":"IF(N35=\"\",\"\",IFERROR(INDIRECT(\"Postcodes!$C\"&SUMPRODUCT(--(Postcodes!$A$2:$A$100<=N35)*(Postcodes!$B$2:$B$100>=N35), ROW(Postcodes!$A$2:$A$100))),\"WRONG CODE\"))","v":0},null,null,null,null,null,null,""]
[{"$f":"'Order Form'!A53","v":35},{"$f":"'Order Form'!N53","v":""},{"$f":"'Order Form'!$E$2","v":0},{"$f":"'Order Form'!$E$3","v":0},{"$f":"'Order Form'!$E$4","v":0},{"$f":"'Order Form'!$E$5","v":0},{"$f":"'Order Form'!$E$7","v":0},{"$f":"'Order Form'!$E$6","v":0},{"$f":"'Order Form'!$E$9","v":0},{"$f":"'Order Form'!$E$10 & \"\"","v":""},{"$f":"IF('Order Form'!D53=\"\",'Order Form'!C53,'Order Form'!D53)","v":0},{"$f":"'Order Form'!E53","v":0},{"$f":"'Order Form'!F53","v":0},{"$f":"'Order Form'!J53","v":0},{"$f":"'Order Form'!H53","v":0},{"$f":"'Order Form'!I53","v":0},{"$f":"'Order Form'!K53 & \"\"","v":""},{"$f":"'Order Form'!M53 & \"\"","v":""},{"$f":"'Order Form'!C53 & \"\"","v":""},{"$f":"'Order Form'!L53 & \"\"","v":""},{"$f":"'Order Form'!$E$12","v":"YES"},{"$f":"'Order Form'!$E$13","v":"ASAP (order with branding can take up to 3 business days to dispatch) Premium delivery recommended to guarantee delivery prior to Christmas, fees apply."},{"$f":"'Order Form'!$E$15","v":"FREE gift card"},{"$f":"'Order Form'!$E$16","v":"No thanks"},null,null,null,null,{"$f":"IF(N36=\"\",\"\",IFERROR(INDIRECT(\"Postcodes!$C\"&SUMPRODUCT(--(Postcodes!$A$2:$A$100<=N36)*(Postcodes!$B$2:$B$100>=N36), ROW(Postcodes!$A$2:$A$100))),\"WRONG CODE\"))","v":0},null,null,null,null,null,null,""]
[{"$f":"'Order Form'!A54","v":36},{"$f":"'Order Form'!N54","v":""},{"$f":"'Order Form'!$E$2","v":0},{"$f":"'Order Form'!$E$3","v":0},{"$f":"'Order Form'!$E$4","v":0},{"$f":"'Order Form'!$E$5","v":0},{"$f":"'Order Form'!$E$7","v":0},{"$f":"'Order Form'!$E$6","v":0},{"$f":"'Order Form'!$E$9","v":0},{"$f":"'Order Form'!$E$10 & \"\"","v":""},{"$f":"IF('Order Form'!D54=\"\",'Order Form'!C54,'Order Form'!D54)","v":0},{"$f":"'Order Form'!E54","v":0},{"$f":"'Order Form'!F54","v":0},{"$f":"'Order Form'!J54","v":0},{"$f":"'Order Form'!H54","v":0},{"$f":"'Order Form'!I54","v":0},{"$f":"'Order Form'!K54 & \"\"","v":""},{"$f":"'Order Form'!M54 & \"\"","v":""},{"$f":"'Order Form'!C54 & \"\"","v":""},{"$f":"'Order Form'!L54 & \"\"","v":""},{"$f":"'Order Form'!$E$12","v":"YES"},{"$f":"'Order Form'!$E$13","v":"ASAP (order with branding can take up to 3 business days to dispatch) Premium delivery recommended to guarantee delivery prior to Christmas, fees apply."},{"$f":"'Order Form'!$E$15","v":"FREE gift card"},{"$f":"'Order Form'!$E$16","v":"No thanks"},null,null,null,null,{"$f":"IF(N37=\"\",\"\",IFERROR(INDIRECT(\"Postcodes!$C\"&SUMPRODUCT(--(Postcodes!$A$2:$A$100<=N37)*(Postcodes!$B$2:$B$100>=N37), ROW(Postcodes!$A$2:$A$100))),\"WRONG CODE\"))","v":0},null,null,null,null,null,null,""]
[{"$f":"'Order Form'!A55","v":37},{"$f":"'Order Form'!N55","v":""},{"$f":"'Order Form'!$E$2","v":0},{"$f":"'Order Form'!$E$3","v":0},{"$f":"'Order Form'!$E$4","v":0},{"$f":"'Order Form'!$E$5","v":0},{"$f":"'Order Form'!$E$7","v":0},{"$f":"'Order Form'!$E$6","v":0},{"$f":"'Order Form'!$E$9","v":0},{"$f":"'Order Form'!$E$10 & \"\"","v":""},{"$f":"IF('Order Form'!D55=\"\",'Order Form'!C55,'Order Form'!D55)","v":0},{"$f":"'Order Form'!E55","v":0},{"$f":"'Order Form'!F55","v":0},{"$f":"'Order Form'!J55","v":0},{"$f":"'Order Form'!H55","v":0},{"$f":"'Order Form'!I55","v":0},{"$f":"'Order Form'!K55 & \"\"","v":""},{"$f":"'Order Form'!M55 & \"\"","v":""},{"$f":"'Order Form'!C55 & \"\"","v":""},{"$f":"'Order Form'!L55 & \"\"","v":""},{"$f":"'Order Form'!$E$12","v":"YES"},{"$f":"'Order Form'!$E$13","v":"ASAP (order with branding can take up to 3 business days to dispatch) Premium delivery recommended to guarantee delivery prior to Christmas, fees apply."},{"$f":"'Order Form'!$E$15","v":"FREE gift card"},{"$f":"'Order Form'!$E$16","v":"No thanks"},null,null,null,null,{"$f":"IF(N38=\"\",\"\",IFERROR(INDIRECT(\"Postcodes!$C\"&SUMPRODUCT(--(Postcodes!$A$2:$A$100<=N38)*(Postcodes!$B$2:$B$100>=N38), ROW(Postcodes!$A$2:$A$100))),\"WRONG CODE\"))","v":0},null,null,null,null,null,null,""]
[{"$f":"'Order Form'!A56","v":38},{"$f":"'Order Form'!N56","v":""},{"$f":"'Order Form'!$E$2","v":0},{"$f":"'Order Form'!$E$3","v":0},{"$f":"'Order Form'!$E$4","v":0},{"$f":"'Order Form'!$E$5","v":0},{"$f":"'Order Form'!$E$7","v":0},{"$f":"'Order Form'!$E$6","v":0},{"$f":"'Order Form'!$E$9","v":0},{"$f":"'Order Form'!$E$10 & \"\"","v":""},{"$f":"IF('Order Form'!D56=\"\",'Order Form'!C56,'Order Form'!D56)","v":0},{"$f":"'Order Form'!E56","v":0},{"$f":"'Order Form'!F56","v":0},{"$f":"'Order Form'!J56","v":0},{"$f":"'Order Form'!H56","v":0},{"$f":"'Order Form'!I56","v":0},{"$f":"'Order Form'!K56 & \"\"","v":""},{"$f":"'Order Form'!M56 & \"\"","v":""},{"$f":"'Order Form'!C56 & \"\"","v":""},{"$f":"'Order Form'!L56 & \"\"","v":""},{"$f":"'Order Form'!$E$12","v":"YES"},{"$f":"'Order Form'!$E$13","v":"ASAP (order with branding can take up to 3 business days to dispatch) Premium delivery recommended to guarantee delivery prior to Christmas, fees apply."},{"$f":"'Order Form'!$E$15","v":"FREE gift card"},{"$f":"'Order Form'!$E$16","v":"No thanks"},null,null,null,null,{"$f":"IF(N39=\"\",\"\",IFERROR(INDIRECT(\"Postcodes!$C\"&SUMPRODUCT(--(Postcodes!$A$2:$A$100<=N39)*(Postcodes!$B$2:$B$100>=N39), ROW(Postcodes!$A$2:$A$100))),\"WRONG CODE\"))","v":0},null,null,null,null,null,null,""]
[{"$f":"'Order Form'!A57","v":39},{"$f":"'Order Form'!N57","v":""},{"$f":"'Order Form'!$E$2","v":0},{"$f":"'Order Form'!$E$3","v":0},{"$f":"'Order Form'!$E$4","v":0},{"$f":"'Order Form'!$E$5","v":0},{"$f":"'Order Form'!$E$7","v":0},{"$f":"'Order Form'!$E$6","v":0},{"$f":"'Order Form'!$E$9","v":0},{"$f":"'Order Form'!$E$10 & \"\"","v":""},{"$f":"IF('Order Form'!D57=\"\",'Order Form'!C57,'Order Form'!D57)","v":0},{"$f":"'Order Form'!E57","v":0},{"$f":"'Order Form'!F57","v":0},{"$f":"'Order Form'!J57","v":0},{"$f":"'Order Form'!H57","v":0},{"$f":"'Order Form'!I57","v":0},{"$f":"'Order Form'!K57 & \"\"","v":""},{"$f":"'Order Form'!M57 & \"\"","v":""},{"$f":"'Order Form'!C57 & \"\"","v":""},{"$f":"'Order Form'!L57 & \"\"","v":""},{"$f":"'Order Form'!$E$12","v":"YES"},{"$f":"'Order Form'!$E$13","v":"ASAP (order with branding can take up to 3 business days to dispatch) Premium delivery recommended to guarantee delivery prior to Christmas, fees apply."},{"$f":"'Order Form'!$E$15","v":"FREE gift card"},{"$f":"'Order Form'!$E$16","v":"No thanks"},null,null,null,null,{"$f":"IF(N40=\"\",\"\",IFERROR(INDIRECT(\"Postcodes!$C\"&SUMPRODUCT(--(Postcodes!$A$2:$A$100<=N40)*(Postcodes!$B$2:$B$100>=N40), ROW(Postcodes!$A$2:$A$100))),\"WRONG CODE\"))","v":0},null,null,null,null,null,null,""]
[{"$f":"'Order Form'!A58","v":40},{"$f":"'Order Form'!N58","v":""},{"$f":"'Order Form'!$E$2","v":0},{"$f":"'Order Form'!$E$3","v":0},{"$f":"'Order Form'!$E$4","v":0},{"$f":"'Order Form'!$E$5","v":0},{"$f":"'Order Form'!$E$7","v":0},{"$f":"'Order Form'!$E$6","v":0},{"$f":"'Order Form'!$E$9","v":0},{"$f":"'Order Form'!$E$10 & \"\"","v":""},{"$f":"IF('Order Form'!D58=\"\",'Order Form'!C58,'Order Form'!D58)","v":0},{"$f":"'Order Form'!E58","v":0},{"$f":"'Order Form'!F58","v":0},{"$f":"'Order Form'!J58","v":0},{"$f":"'Order Form'!H58","v":0},{"$f":"'Order Form'!I58","v":0},{"$f":"'Order Form'!K58 & \"\"","v":""},{"$f":"'Order Form'!M58 & \"\"","v":""},{"$f":"'Order Form'!C58 & \"\"","v":""},{"$f":"'Order Form'!L58 & \"\"","v":""},{"$f":"'Order Form'!$E$12","v":"YES"},{"$f":"'Order Form'!$E$13","v":"ASAP (order with branding can take up to 3 business days to dispatch) Premium delivery recommended to guarantee delivery prior to Christmas, fees apply."},{"$f":"'Order Form'!$E$15","v":"FREE gift card"},{"$f":"'Order Form'!$E$16","v":"No thanks"},null,null,null,null,{"$f":"IF(N41=\"\",\"\",IFERROR(INDIRECT(\"Postcodes!$C\"&SUMPRODUCT(--(Postcodes!$A$2:$A$100<=N41)*(Postcodes!$B$2:$B$100>=N41), ROW(Postcodes!$A$2:$A$100))),\"WRONG CODE\"))","v":0},null,null,null,null,null,null,""]
[{"$f":"'Order Form'!A59","v":41},{"$f":"'Order Form'!N59","v":""},{"$f":"'Order Form'!$E$2","v":0},{"$f":"'Order Form'!$E$3","v":0},{"$f":"'Order Form'!$E$4","v":0},{"$f":"'Order Form'!$E$5","v":0},{"$f":"'Order Form'!$E$7","v":0},{"$f":"'Order Form'!$E$6","v":0},{"$f":"'Order Form'!$E$9","v":0},{"$f":"'Order Form'!$E$10 & \"\"","v":""},{"$f":"IF('Order Form'!D59=\"\",'Order Form'!C59,'Order Form'!D59)","v":0},{"$f":"'Order Form'!E59","v":0},{"$f":"'Order Form'!F59","v":0},{"$f":"'Order Form'!J59","v":0},{"$f":"'Order Form'!H59","v":0},{"$f":"'Order Form'!I59","v":0},{"$f":"'Order Form'!K59 & \"\"","v":""},{"$f":"'Order Form'!M59 & \"\"","v":""},{"$f":"'Order Form'!C59 & \"\"","v":""},{"$f":"'Order Form'!L59 & \"\"","v":""},{"$f":"'Order Form'!$E$12","v":"YES"},{"$f":"'Order Form'!$E$13","v":"ASAP (order with branding can take up to 3 business days to dispatch) Premium delivery recommended to guarantee delivery prior to Christmas, fees apply."},{"$f":"'Order Form'!$E$15","v":"FREE gift card"},{"$f":"'Order Form'!$E$16","v":"No thanks"},null,null,null,null,{"$f":"IF(N42=\"\",\"\",IFERROR(INDIRECT(\"Postcodes!$C\"&SUMPRODUCT(--(Postcodes!$A$2:$A$100<=N42)*(Postcodes!$B$2:$B$100>=N42), ROW(Postcodes!$A$2:$A$100))),\"WRONG CODE\"))","v":0},null,null,null,null,null,null,""]
[{"$f":"'Order Form'!A60","v":42},{"$f":"'Order Form'!N60","v":""},{"$f":"'Order Form'!$E$2","v":0},{"$f":"'Order Form'!$E$3","v":0},{"$f":"'Order Form'!$E$4","v":0},{"$f":"'Order Form'!$E$5","v":0},{"$f":"'Order Form'!$E$7","v":0},{"$f":"'Order Form'!$E$6","v":0},{"$f":"'Order Form'!$E$9","v":0},{"$f":"'Order Form'!$E$10 & \"\"","v":""},{"$f":"IF('Order Form'!D60=\"\",'Order Form'!C60,'Order Form'!D60)","v":0},{"$f":"'Order Form'!E60","v":0},{"$f":"'Order Form'!F60","v":0},{"$f":"'Order Form'!J60","v":0},{"$f":"'Order Form'!H60","v":0},{"$f":"'Order Form'!I60","v":0},{"$f":"'Order Form'!K60 & \"\"","v":""},{"$f":"'Order Form'!M60 & \"\"","v":""},{"$f":"'Order Form'!C60 & \"\"","v":""},{"$f":"'Order Form'!L60 & \"\"","v":""},{"$f":"'Order Form'!$E$12","v":"YES"},{"$f":"'Order Form'!$E$13","v":"ASAP (order with branding can take up to 3 business days to dispatch) Premium delivery recommended to guarantee delivery prior to Christmas, fees apply."},{"$f":"'Order Form'!$E$15","v":"FREE gift card"},{"$f":"'Order Form'!$E$16","v":"No thanks"},null,null,null,null,{"$f":"IF(N43=\"\",\"\",IFERROR(INDIRECT(\"Postcodes!$C\"&SUMPRODUCT(--(Postcodes!$A$2:$A$100<=N43)*(Postcodes!$B$2:$B$100>=N43), ROW(Postcodes!$A$2:$A$100))),\"WRONG CODE\"))","v":0},null,null,null,null,null,null,""]
[{"$f":"'Order Form'!A61","v":43},{"$f":"'Order Form'!N61","v":""},{"$f":"'Order Form'!$E$2","v":0},{"$f":"'Order Form'!$E$3","v":0},{"$f":"'Order Form'!$E$4","v":0},{"$f":"'Order Form'!$E$5","v":0},{"$f":"'Order Form'!$E$7","v":0},{"$f":"'Order Form'!$E$6","v":0},{"$f":"'Order Form'!$E$9","v":0},{"$f":"'Order Form'!$E$10 & \"\"","v":""},{"$f":"IF('Order Form'!D61=\"\",'Order Form'!C61,'Order Form'!D61)","v":0},{"$f":"'Order Form'!E61","v":0},{"$f":"'Order Form'!F61","v":0},{"$f":"'Order Form'!J61","v":0},{"$f":"'Order Form'!H61","v":0},{"$f":"'Order Form'!I61","v":0},{"$f":"'Order Form'!K61 & \"\"","v":""},{"$f":"'Order Form'!M61 & \"\"","v":""},{"$f":"'Order Form'!C61 & \"\"","v":""},{"$f":"'Order Form'!L61 & \"\"","v":""},{"$f":"'Order Form'!$E$12","v":"YES"},{"$f":"'Order Form'!$E$13","v":"ASAP (order with branding can take up to 3 business days to dispatch) Premium delivery recommended to guarantee delivery prior to Christmas, fees apply."},{"$f":"'Order Form'!$E$15","v":"FREE gift card"},{"$f":"'Order Form'!$E$16","v":"No thanks"},null,null,null,null,{"$f":"IF(N44=\"\",\"\",IFERROR(INDIRECT(\"Postcodes!$C\"&SUMPRODUCT(--(Postcodes!$A$2:$A$100<=N44)*(Postcodes!$B$2:$B$100>=N44), ROW(Postcodes!$A$2:$A$100))),\"WRONG CODE\"))","v":0},null,null,null,null,null,null,""]
[{"$f":"'Order Form'!A62","v":44},{"$f":"'Order Form'!N62","v":""},{"$f":"'Order Form'!$E$2","v":0},{"$f":"'Order Form'!$E$3","v":0},{"$f":"'Order Form'!$E$4","v":0},{"$f":"'Order Form'!$E$5","v":0},{"$f":"'Order Form'!$E$7","v":0},{"$f":"'Order Form'!$E$6","v":0},{"$f":"'Order Form'!$E$9","v":0},{"$f":"'Order Form'!$E$10 & \"\"","v":""},{"$f":"IF('Order Form'!D62=\"\",'Order Form'!C62,'Order Form'!D62)","v":0},{"$f":"'Order Form'!E62","v":0},{"$f":"'Order Form'!F62","v":0},{"$f":"'Order Form'!J62","v":0},{"$f":"'Order Form'!H62","v":0},{"$f":"'Order Form'!I62","v":0},{"$f":"'Order Form'!K62 & \"\"","v":""},{"$f":"'Order Form'!M62 & \"\"","v":""},{"$f":"'Order Form'!C62 & \"\"","v":""},{"$f":"'Order Form'!L62 & \"\"","v":""},{"$f":"'Order Form'!$E$12","v":"YES"},{"$f":"'Order Form'!$E$13","v":"ASAP (order with branding can take up to 3 business days to dispatch) Premium delivery recommended to guarantee delivery prior to Christmas, fees apply."},{"$f":"'Order Form'!$E$15","v":"FREE gift card"},{"$f":"'Order Form'!$E$16","v":"No thanks"},null,null,null,null,{"$f":"IF(N45=\"\",\"\",IFERROR(INDIRECT(\"Postcodes!$C\"&SUMPRODUCT(--(Postcodes!$A$2:$A$100<=N45)*(Postcodes!$B$2:$B$100>=N45), ROW(Postcodes!$A$2:$A$100))),\"WRONG CODE\"))","v":0},null,null,null,null,null,null,""]
[{"$f":"'Order Form'!A63","v":45},{"$f":"'Order Form'!N63","v":""},{"$f":"'Order Form'!$E$2","v":0},{"$f":"'Order Form'!$E$3","v":0},{"$f":"'Order Form'!$E$4","v":0},{"$f":"'Order Form'!$E$5","v":0},{"$f":"'Order Form'!$E$7","v":0},{"$f":"'Order Form'!$E$6","v":0},{"$f":"'Order Form'!$E$9","v":0},{"$f":"'Order Form'!$E$10 & \"\"","v":""},{"$f":"IF('Order Form'!D63=\"\",'Order Form'!C63,'Order Form'!D63)","v":0},{"$f":"'Order Form'!E63","v":0},{"$f":"'Order Form'!F63","v":0},{"$f":"'Order Form'!J63","v":0},{"$f":"'Order Form'!H63","v":0},{"$f":"'Order Form'!I63","v":0},{"$f":"'Order Form'!K63 & \"\"","v":""},{"$f":"'Order Form'!M63 & \"\"","v":""},{"$f":"'Order Form'!C63 & \"\"","v":""},{"$f":"'Order Form'!L63 & \"\"","v":""},{"$f":"'Order Form'!$E$12","v":"YES"},{"$f":"'Order Form'!$E$13","v":"ASAP (order with branding can take up to 3 business days to dispatch) Premium delivery recommended to guarantee delivery prior to Christmas, fees apply."},{"$f":"'Order Form'!$E$15","v":"FREE gift card"},{"$f":"'Order Form'!$E$16","v":"No thanks"},null,null,null,null,{"$f":"IF(N46=\"\",\"\",IFERROR(INDIRECT(\"Postcodes!$C\"&SUMPRODUCT(--(Postcodes!$A$2:$A$100<=N46)*(Postcodes!$B$2:$B$100>=N46), ROW(Postcodes!$A$2:$A$100))),\"WRONG CODE\"))","v":0},null,null,null,null,null,null,""]
[{"$f":"'Order Form'!A64","v":46},{"$f":"'Order Form'!N64","v":""},{"$f":"'Order Form'!$E$2","v":0},{"$f":"'Order Form'!$E$3","v":0},{"$f":"'Order Form'!$E$4","v":0},{"$f":"'Order Form'!$E$5","v":0},{"$f":"'Order Form'!$E$7","v":0},{"$f":"'Order Form'!$E$6","v":0},{"$f":"'Order Form'!$E$9","v":0},{"$f":"'Order Form'!$E$10 & \"\"","v":""},{"$f":"IF('Order Form'!D64=\"\",'Order Form'!C64,'Order Form'!D64)","v":0},{"$f":"'Order Form'!E64","v":0},{"$f":"'Order Form'!F64","v":0},{"$f":"'Order Form'!J64","v":0},{"$f":"'Order Form'!H64","v":0},{"$f":"'Order Form'!I64","v":0},{"$f":"'Order Form'!K64 & \"\"","v":""},{"$f":"'Order Form'!M64 & \"\"","v":""},{"$f":"'Order Form'!C64 & \"\"","v":""},{"$f":"'Order Form'!L64 & \"\"","v":""},{"$f":"'Order Form'!$E$12","v":"YES"},{"$f":"'Order Form'!$E$13","v":"ASAP (order with branding can take up to 3 business days to dispatch) Premium delivery recommended to guarantee delivery prior to Christmas, fees apply."},{"$f":"'Order Form'!$E$15","v":"FREE gift card"},{"$f":"'Order Form'!$E$16","v":"No thanks"},null,null,null,null,{"$f":"IF(N47=\"\",\"\",IFERROR(INDIRECT(\"Postcodes!$C\"&SUMPRODUCT(--(Postcodes!$A$2:$A$100<=N47)*(Postcodes!$B$2:$B$100>=N47), ROW(Postcodes!$A$2:$A$100))),\"WRONG CODE\"))","v":0},null,null,null,null,null,null,""]
[{"$f":"'Order Form'!A65","v":47},{"$f":"'Order Form'!N65","v":""},{"$f":"'Order Form'!$E$2","v":0},{"$f":"'Order Form'!$E$3","v":0},{"$f":"'Order Form'!$E$4","v":0},{"$f":"'Order Form'!$E$5","v":0},{"$f":"'Order Form'!$E$7","v":0},{"$f":"'Order Form'!$E$6","v":0},{"$f":"'Order Form'!$E$9","v":0},{"$f":"'Order Form'!$E$10 & \"\"","v":""},{"$f":"IF('Order Form'!D65=\"\",'Order Form'!C65,'Order Form'!D65)","v":0},{"$f":"'Order Form'!E65","v":0},{"$f":"'Order Form'!F65","v":0},{"$f":"'Order Form'!J65","v":0},{"$f":"'Order Form'!H65","v":0},{"$f":"'Order Form'!I65","v":0},{"$f":"'Order Form'!K65 & \"\"","v":""},{"$f":"'Order Form'!M65 & \"\"","v":""},{"$f":"'Order Form'!C65 & \"\"","v":""},{"$f":"'Order Form'!L65 & \"\"","v":""},{"$f":"'Order Form'!$E$12","v":"YES"},{"$f":"'Order Form'!$E$13","v":"ASAP (order with branding can take up to 3 business days to dispatch) Premium delivery recommended to guarantee delivery prior to Christmas, fees apply."},{"$f":"'Order Form'!$E$15","v":"FREE gift card"},{"$f":"'Order Form'!$E$16","v":"No thanks"},null,null,null,null,{"$f":"IF(N48=\"\",\"\",IFERROR(INDIRECT(\"Postcodes!$C\"&SUMPRODUCT(--(Postcodes!$A$2:$A$100<=N48)*(Postcodes!$B$2:$B$100>=N48), ROW(Postcodes!$A$2:$A$100))),\"WRONG CODE\"))","v":0},null,null,null,null,null,null,""]
[{"$f":"'Order Form'!A66","v":48},{"$f":"'Order Form'!N66","v":""},{"$f":"'Order Form'!$E$2","v":0},{"$f":"'Order Form'!$E$3","v":0},{"$f":"'Order Form'!$E$4","v":0},{"$f":"'Order Form'!$E$5","v":0},{"$f":"'Order Form'!$E$7","v":0},{"$f":"'Order Form'!$E$6","v":0},{"$f":"'Order Form'!$E$9","v":0},{"$f":"'Order Form'!$E$10 & \"\"","v":""},{"$f":"IF('Order Form'!D66=\"\",'Order Form'!C66,'Order Form'!D66)","v":0},{"$f":"'Order Form'!E66","v":0},{"$f":"'Order Form'!F66","v":0},{"$f":"'Order Form'!J66","v":0},{"$f":"'Order Form'!H66","v":0},{"$f":"'Order Form'!I66","v":0},{"$f":"'Order Form'!K66 & \"\"","v":""},{"$f":"'Order Form'!M66 & \"\"","v":""},{"$f":"'Order Form'!C66 & \"\"","v":""},{"$f":"'Order Form'!L66 & \"\"","v":""},{"$f":"'Order Form'!$E$12","v":"YES"},{"$f":"'Order Form'!$E$13","v":"ASAP (order with branding can take up to 3 business days to dispatch) Premium delivery recommended to guarantee delivery prior to Christmas, fees apply."},{"$f":"'Order Form'!$E$15","v":"FREE gift card"},{"$f":"'Order Form'!$E$16","v":"No thanks"},null,null,null,null,{"$f":"IF(N49=\"\",\"\",IFERROR(INDIRECT(\"Postcodes!$C\"&SUMPRODUCT(--(Postcodes!$A$2:$A$100<=N49)*(Postcodes!$B$2:$B$100>=N49), ROW(Postcodes!$A$2:$A$100))),\"WRONG CODE\"))","v":0},null,null,null,null,null,null,""]
[{"$f":"'Order Form'!A67","v":49},{"$f":"'Order Form'!N67","v":""},{"$f":"'Order Form'!$E$2","v":0},{"$f":"'Order Form'!$E$3","v":0},{"$f":"'Order Form'!$E$4","v":0},{"$f":"'Order Form'!$E$5","v":0},{"$f":"'Order Form'!$E$7","v":0},{"$f":"'Order Form'!$E$6","v":0},{"$f":"'Order Form'!$E$9","v":0},{"$f":"'Order Form'!$E$10 & \"\"","v":""},{"$f":"IF('Order Form'!D67=\"\",'Order Form'!C67,'Order Form'!D67)","v":0},{"$f":"'Order Form'!E67","v":0},{"$f":"'Order Form'!F67","v":0},{"$f":"'Order Form'!J67","v":0},{"$f":"'Order Form'!H67","v":0},{"$f":"'Order Form'!I67","v":0},{"$f":"'Order Form'!K67 & \"\"","v":""},{"$f":"'Order Form'!M67 & \"\"","v":""},{"$f":"'Order Form'!C67 & \"\"","v":""},{"$f":"'Order Form'!L67 & \"\"","v":""},{"$f":"'Order Form'!$E$12","v":"YES"},{"$f":"'Order Form'!$E$13","v":"ASAP (order with branding can take up to 3 business days to dispatch) Premium delivery recommended to guarantee delivery prior to Christmas, fees apply."},{"$f":"'Order Form'!$E$15","v":"FREE gift card"},{"$f":"'Order Form'!$E$16","v":"No thanks"},null,null,null,null,{"$f":"IF(N50=\"\",\"\",IFERROR(INDIRECT(\"Postcodes!$C\"&SUMPRODUCT(--(Postcodes!$A$2:$A$100<=N50)*(Postcodes!$B$2:$B$100>=N50), ROW(Postcodes!$A$2:$A$100))),\"WRONG CODE\"))","v":0},null,null,null,null,null,null,""]
[{"$f":"'Order Form'!A68","v":50},{"$f":"'Order Form'!N68","v":""},{"$f":"'Order Form'!$E$2","v":0},{"$f":"'Order Form'!$E$3","v":0},{"$f":"'Order Form'!$E$4","v":0},{"$f":"'Order Form'!$E$5","v":0},{"$f":"'Order Form'!$E$7","v":0},{"$f":"'Order Form'!$E$6","v":0},{"$f":"'Order Form'!$E$9","v":0},{"$f":"'Order Form'!$E$10 & \"\"","v":""},{"$f":"IF('Order Form'!D68=\"\",'Order Form'!C68,'Order Form'!D68)","v":0},{"$f":"'Order Form'!E68","v":0},{"$f":"'Order Form'!F68","v":0},{"$f":"'Order Form'!J68","v":0},{"$f":"'Order Form'!H68","v":0},{"$f":"'Order Form'!I68","v":0},{"$f":"'Order Form'!K68 & \"\"","v":""},{"$f":"'Order Form'!M68 & \"\"","v":""},{"$f":"'Order Form'!C68 & \"\"","v":""},{"$f":"'Order Form'!L68 & \"\"","v":""},{"$f":"'Order Form'!$E$12","v":"YES"},{"$f":"'Order Form'!$E$13","v":"ASAP (order with branding can take up to 3 business days to dispatch) Premium delivery recommended to guarantee delivery prior to Christmas, fees apply."},{"$f":"'Order Form'!$E$15","v":"FREE gift card"},{"$f":"'Order Form'!$E$16","v":"No thanks"},null,null,null,null,{"$f":"IF(N51=\"\",\"\",IFERROR(INDIRECT(\"Postcodes!$C\"&SUMPRODUCT(--(Postcodes!$A$2:$A$100<=N51)*(Postcodes!$B$2:$B$100>=N51), ROW(Postcodes!$A$2:$A$100))),\"WRONG CODE\"))","v":0},null,null,null,null,null,null,""]
[{"$f":"'Order Form'!A69","v":51},{"$f":"'Order Form'!N69","v":""},{"$f":"'Order Form'!$E$2","v":0},{"$f":"'Order Form'!$E$3","v":0},{"$f":"'Order Form'!$E$4","v":0},{"$f":"'Order Form'!$E$5","v":0},{"$f":"'Order Form'!$E$7","v":0},{"$f":"'Order Form'!$E$6","v":0},{"$f":"'Order Form'!$E$9","v":0},{"$f":"'Order Form'!$E$10 & \"\"","v":""},{"$f":"IF('Order Form'!D69=\"\",'Order Form'!C69,'Order Form'!D69)","v":0},{"$f":"'Order Form'!E69","v":0},{"$f":"'Order Form'!F69","v":0},{"$f":"'Order Form'!J69","v":0},{"$f":"'Order Form'!H69","v":0},{"$f":"'Order Form'!I69","v":0},{"$f":"'Order Form'!K69 & \"\"","v":""},{"$f":"'Order Form'!M69 & \"\"","v":""},{"$f":"'Order Form'!C69 & \"\"","v":""},{"$f":"'Order Form'!L69 & \"\"","v":""},{"$f":"'Order Form'!$E$12","v":"YES"},{"$f":"'Order Form'!$E$13","v":"ASAP (order with branding can take up to 3 business days to dispatch) Premium delivery recommended to guarantee delivery prior to Christmas, fees apply."},{"$f":"'Order Form'!$E$15","v":"FREE gift card"},{"$f":"'Order Form'!$E$16","v":"No thanks"},null,null,null,null,{"$f":"IF(N52=\"\",\"\",IFERROR(INDIRECT(\"Postcodes!$C\"&SUMPRODUCT(--(Postcodes!$A$2:$A$100<=N52)*(Postcodes!$B$2:$B$100>=N52), ROW(Postcodes!$A$2:$A$100))),\"WRONG CODE\"))","v":0},null,null,null,null,null,null,""]
[{"$f":"'Order Form'!A70","v":52},{"$f":"'Order Form'!N70","v":""},{"$f":"'Order Form'!$E$2","v":0},{"$f":"'Order Form'!$E$3","v":0},{"$f":"'Order Form'!$E$4","v":0},{"$f":"'Order Form'!$E$5","v":0},{"$f":"'Order Form'!$E$7","v":0},{"$f":"'Order Form'!$E$6","v":0},{"$f":"'Order Form'!$E$9","v":0},{"$f":"'Order Form'!$E$10 & \"\"","v":""},{"$f":"IF('Order Form'!D70=\"\",'Order Form'!C70,'Order Form'!D70)","v":0},{"$f":"'Order Form'!E70","v":0},{"$f":"'Order Form'!F70","v":0},{"$f":"'Order Form'!J70","v":0},{"$f":"'Order Form'!H70","v":0},{"$f":"'Order Form'!I70","v":0},{"$f":"'Order Form'!K70 & \"\"","v":""},{"$f":"'Order Form'!M70 & \"\"","v":""},{"$f":"'Order Form'!C70 & \"\"","v":""},{"$f":"'Order Form'!L70 & \"\"","v":""},{"$f":"'Order Form'!$E$12","v":"YES"},{"$f":"'Order Form'!$E$13","v":"ASAP (order with branding can take up to 3 business days to dispatch) Premium delivery recommended to guarantee delivery prior to Christmas, fees apply."},{"$f":"'Order Form'!$E$15","v":"FREE gift card"},{"$f":"'Order Form'!$E$16","v":"No thanks"},null,null,null,null,{"$f":"IF(N53=\"\",\"\",IFERROR(INDIRECT(\"Postcodes!$C\"&SUMPRODUCT(--(Postcodes!$A$2:$A$100<=N53)*(Postcodes!$B$2:$B$100>=N53), ROW(Postcodes!$A$2:$A$100))),\"WRONG CODE\"))","v":0},null,null,null,null,null,null,""]
[{"$f":"'Order Form'!A71","v":53},{"$f":"'Order Form'!N71","v":""},{"$f":"'Order Form'!$E$2","v":0},{"$f":"'Order Form'!$E$3","v":0},{"$f":"'Order Form'!$E$4","v":0},{"$f":"'Order Form'!$E$5","v":0},{"$f":"'Order Form'!$E$7","v":0},{"$f":"'Order Form'!$E$6","v":0},{"$f":"'Order Form'!$E$9","v":0},{"$f":"'Order Form'!$E$10 & \"\"","v":""},{"$f":"IF('Order Form'!D71=\"\",'Order Form'!C71,'Order Form'!D71)","v":0},{"$f":"'Order Form'!E71","v":0},{"$f":"'Order Form'!F71","v":0},{"$f":"'Order Form'!J71","v":0},{"$f":"'Order Form'!H71","v":0},{"$f":"'Order Form'!I71","v":0},{"$f":"'Order Form'!K71 & \"\"","v":""},{"$f":"'Order Form'!M71 & \"\"","v":""},{"$f":"'Order Form'!C71 & \"\"","v":""},{"$f":"'Order Form'!L71 & \"\"","v":""},{"$f":"'Order Form'!$E$12","v":"YES"},{"$f":"'Order Form'!$E$13","v":"ASAP (order with branding can take up to 3 business days to dispatch) Premium delivery recommended to guarantee delivery prior to Christmas, fees apply."},{"$f":"'Order Form'!$E$15","v":"FREE gift card"},{"$f":"'Order Form'!$E$16","v":"No thanks"},null,null,null,null,{"$f":"IF(N54=\"\",\"\",IFERROR(INDIRECT(\"Postcodes!$C\"&SUMPRODUCT(--(Postcodes!$A$2:$A$100<=N54)*(Postcodes!$B$2:$B$100>=N54), ROW(Postcodes!$A$2:$A$100))),\"WRONG CODE\"))","v":0},null,null,null,null,null,null,""]
[{"$f":"'Order Form'!A72","v":54},{"$f":"'Order Form'!N72","v":""},{"$f":"'Order Form'!$E$2","v":0},{"$f":"'Order Form'!$E$3","v":0},{"$f":"'Order Form'!$E$4","v":0},{"$f":"'Order Form'!$E$5","v":0},{"$f":"'Order Form'!$E$7","v":0},{"$f":"'Order Form'!$E$6","v":0},{"$f":"'Order Form'!$E$9","v":0},{"$f":"'Order Form'!$E$10 & \"\"","v":""},{"$f":"IF('Order Form'!D72=\"\",'Order Form'!C72,'Order Form'!D72)","v":0},{"$f":"'Order Form'!E72","v":0},{"$f":"'Order Form'!F72","v":0},{"$f":"'Order Form'!J72","v":0},{"$f":"'Order Form'!H72","v":0},{"$f":"'Order Form'!I72","v":0},{"$f":"'Order Form'!K72 & \"\"","v":""},{"$f":"'Order Form'!M72 & \"\"","v":""},{"$f":"'Order Form'!C72 & \"\"","v":""},{"$f":"'Order Form'!L72 & \"\"","v":""},{"$f":"'Order Form'!$E$12","v":"YES"},{"$f":"'Order Form'!$E$13","v":"ASAP (order with branding can take up to 3 business days to dispatch) Premium delivery recommended to guarantee delivery prior to Christmas, fees apply."},{"$f":"'Order Form'!$E$15","v":"FREE gift card"},{"$f":"'Order Form'!$E$16","v":"No thanks"},null,null,null,null,{"$f":"IF(N55=\"\",\"\",IFERROR(INDIRECT(\"Postcodes!$C\"&SUMPRODUCT(--(Postcodes!$A$2:$A$100<=N55)*(Postcodes!$B$2:$B$100>=N55), ROW(Postcodes!$A$2:$A$100))),\"WRONG CODE\"))","v":0},null,null,null,null,null,null,""]
[{"$f":"'Order Form'!A73","v":55},{"$f":"'Order Form'!N73","v":""},{"$f":"'Order Form'!$E$2","v":0},{"$f":"'Order Form'!$E$3","v":0},{"$f":"'Order Form'!$E$4","v":0},{"$f":"'Order Form'!$E$5","v":0},{"$f":"'Order Form'!$E$7","v":0},{"$f":"'Order Form'!$E$6","v":0},{"$f":"'Order Form'!$E$9","v":0},{"$f":"'Order Form'!$E$10 & \"\"","v":""},{"$f":"IF('Order Form'!D73=\"\",'Order Form'!C73,'Order Form'!D73)","v":0},{"$f":"'Order Form'!E73","v":0},{"$f":"'Order Form'!F73","v":0},{"$f":"'Order Form'!J73","v":0},{"$f":"'Order Form'!H73","v":0},{"$f":"'Order Form'!I73","v":0},{"$f":"'Order Form'!K73 & \"\"","v":""},{"$f":"'Order Form'!M73 & \"\"","v":""},{"$f":"'Order Form'!C73 & \"\"","v":""},{"$f":"'Order Form'!L73 & \"\"","v":""},{"$f":"'Order Form'!$E$12","v":"YES"},{"$f":"'Order Form'!$E$13","v":"ASAP (order with branding can take up to 3 business days to dispatch) Premium delivery recommended to guarantee delivery prior to Christmas, fees apply."},{"$f":"'Order Form'!$E$15","v":"FREE gift card"},{"$f":"'Order Form'!$E$16","v":"No thanks"},null,null,null,null,{"$f":"IF(N56=\"\",\"\",IFERROR(INDIRECT(\"Postcodes!$C\"&SUMPRODUCT(--(Postcodes!$A$2:$A$100<=N56)*(Postcodes!$B$2:$B$100>=N56), ROW(Postcodes!$A$2:$A$100))),\"WRONG CODE\"))","v":0},null,null,null,null,null,null,""]
[{"$f":"'Order Form'!A74","v":56},{"$f":"'Order Form'!N74","v":""},{"$f":"'Order Form'!$E$2","v":0},{"$f":"'Order Form'!$E$3","v":0},{"$f":"'Order Form'!$E$4","v":0},{"$f":"'Order Form'!$E$5","v":0},{"$f":"'Order Form'!$E$7","v":0},{"$f":"'Order Form'!$E$6","v":0},{"$f":"'Order Form'!$E$9","v":0},{"$f":"'Order Form'!$E$10 & \"\"","v":""},{"$f":"IF('Order Form'!D74=\"\",'Order Form'!C74,'Order Form'!D74)","v":0},{"$f":"'Order Form'!E74","v":0},{"$f":"'Order Form'!F74","v":0},{"$f":"'Order Form'!J74","v":0},{"$f":"'Order Form'!H74","v":0},{"$f":"'Order Form'!I74","v":0},{"$f":"'Order Form'!K74 & \"\"","v":""},{"$f":"'Order Form'!M74 & \"\"","v":""},{"$f":"'Order Form'!C74 & \"\"","v":""},{"$f":"'Order Form'!L74 & \"\"","v":""},{"$f":"'Order Form'!$E$12","v":"YES"},{"$f":"'Order Form'!$E$13","v":"ASAP (order with branding can take up to 3 business days to dispatch) Premium delivery recommended to guarantee delivery prior to Christmas, fees apply."},{"$f":"'Order Form'!$E$15","v":"FREE gift card"},{"$f":"'Order Form'!$E$16","v":"No thanks"},null,null,null,null,{"$f":"IF(N57=\"\",\"\",IFERROR(INDIRECT(\"Postcodes!$C\"&SUMPRODUCT(--(Postcodes!$A$2:$A$100<=N57)*(Postcodes!$B$2:$B$100>=N57), ROW(Postcodes!$A$2:$A$100))),\"WRONG CODE\"))","v":0},null,null,null,null,null,null,""]
[{"$f":"'Order Form'!A75","v":57},{"$f":"'Order Form'!N75","v":""},{"$f":"'Order Form'!$E$2","v":0},{"$f":"'Order Form'!$E$3","v":0},{"$f":"'Order Form'!$E$4","v":0},{"$f":"'Order Form'!$E$5","v":0},{"$f":"'Order Form'!$E$7","v":0},{"$f":"'Order Form'!$E$6","v":0},{"$f":"'Order Form'!$E$9","v":0},{"$f":"'Order Form'!$E$10 & \"\"","v":""},{"$f":"IF('Order Form'!D75=\"\",'Order Form'!C75,'Order Form'!D75)","v":0},{"$f":"'Order Form'!E75","v":0},{"$f":"'Order Form'!F75","v":0},{"$f":"'Order Form'!J75","v":0},{"$f":"'Order Form'!H75","v":0},{"$f":"'Order Form'!I75","v":0},{"$f":"'Order Form'!K75 & \"\"","v":""},{"$f":"'Order Form'!M75 & \"\"","v":""},{"$f":"'Order Form'!C75 & \"\"","v":""},{"$f":"'Order Form'!L75 & \"\"","v":""},{"$f":"'Order Form'!$E$12","v":"YES"},{"$f":"'Order Form'!$E$13","v":"ASAP (order with branding can take up to 3 business days to dispatch) Premium delivery recommended to guarantee delivery prior to Christmas, fees apply."},{"$f":"'Order Form'!$E$15","v":"FREE gift card"},{"$f":"'Order Form'!$E$16","v":"No thanks"},null,null,null,null,{"$f":"IF(N58=\"\",\"\",IFERROR(INDIRECT(\"Postcodes!$C\"&SUMPRODUCT(--(Postcodes!$A$2:$A$100<=N58)*(Postcodes!$B$2:$B$100>=N58), ROW(Postcodes!$A$2:$A$100))),\"WRONG CODE\"))","v":0},null,null,null,null,null,null,""]
[{"$f":"'Order Form'!A76","v":58},{"$f":"'Order Form'!N76","v":""},{"$f":"'Order Form'!$E$2","v":0},{"$f":"'Order Form'!$E$3","v":0},{"$f":"'Order Form'!$E$4","v":0},{"$f":"'Order Form'!$E$5","v":0},{"$f":"'Order Form'!$E$7","v":0},{"$f":"'Order Form'!$E$6","v":0},{"$f":"'Order Form'!$E$9","v":0},{"$f":"'Order Form'!$E$10 & \"\"","v":""},{"$f":"IF('Order Form'!D76=\"\",'Order Form'!C76,'Order Form'!D76)","v":0},{"$f":"'Order Form'!E76","v":0},{"$f":"'Order Form'!F76","v":0},{"$f":"'Order Form'!J76","v":0},{"$f":"'Order Form'!H76","v":0},{"$f":"'Order Form'!I76","v":0},{"$f":"'Order Form'!K76 & \"\"","v":""},{"$f":"'Order Form'!M76 & \"\"","v":""},{"$f":"'Order Form'!C76 & \"\"","v":""},{"$f":"'Order Form'!L76 & \"\"","v":""},{"$f":"'Order Form'!$E$12","v":"YES"},{"$f":"'Order Form'!$E$13","v":"ASAP (order with branding can take up to 3 business days to dispatch) Premium delivery recommended to guarantee delivery prior to Christmas, fees apply."},{"$f":"'Order Form'!$E$15","v":"FREE gift card"},{"$f":"'Order Form'!$E$16","v":"No thanks"},null,null,null,null,{"$f":"IF(N59=\"\",\"\",IFERROR(INDIRECT(\"Postcodes!$C\"&SUMPRODUCT(--(Postcodes!$A$2:$A$100<=N59)*(Postcodes!$B$2:$B$100>=N59), ROW(Postcodes!$A$2:$A$100))),\"WRONG CODE\"))","v":0},null,null,null,null,null,null,""]
[{"$f":"'Order Form'!A77","v":59},{"$f":"'Order Form'!N77","v":""},{"$f":"'Order Form'!$E$2","v":0},{"$f":"'Order Form'!$E$3","v":0},{"$f":"'Order Form'!$E$4","v":0},{"$f":"'Order Form'!$E$5","v":0},{"$f":"'Order Form'!$E$7","v":0},{"$f":"'Order Form'!$E$6","v":0},{"$f":"'Order Form'!$E$9","v":0},{"$f":"'Order Form'!$E$10 & \"\"","v":""},{"$f":"IF('Order Form'!D77=\"\",'Order Form'!C77,'Order Form'!D77)","v":0},{"$f":"'Order Form'!E77","v":0},{"$f":"'Order Form'!F77","v":0},{"$f":"'Order Form'!J77","v":0},{"$f":"'Order Form'!H77","v":0},{"$f":"'Order Form'!I77","v":0},{"$f":"'Order Form'!K77 & \"\"","v":""},{"$f":"'Order Form'!M77 & \"\"","v":""},{"$f":"'Order Form'!C77 & \"\"","v":""},{"$f":"'Order Form'!L77 & \"\"","v":""},{"$f":"'Order Form'!$E$12","v":"YES"},{"$f":"'Order Form'!$E$13","v":"ASAP (order with branding can take up to 3 business days to dispatch) Premium delivery recommended to guarantee delivery prior to Christmas, fees apply."},{"$f":"'Order Form'!$E$15","v":"FREE gift card"},{"$f":"'Order Form'!$E$16","v":"No thanks"},null,null,null,null,{"$f":"IF(N60=\"\",\"\",IFERROR(INDIRECT(\"Postcodes!$C\"&SUMPRODUCT(--(Postcodes!$A$2:$A$100<=N60)*(Postcodes!$B$2:$B$100>=N60), ROW(Postcodes!$A$2:$A$100))),\"WRONG CODE\"))","v":0},null,null,null,null,null,null,""]
[{"$f":"'Order Form'!A78","v":60},{"$f":"'Order Form'!N78","v":""},{"$f":"'Order Form'!$E$2","v":0},{"$f":"'Order Form'!$E$3","v":0},{"$f":"'Order Form'!$E$4","v":0},{"$f":"'Order Form'!$E$5","v":0},{"$f":"'Order Form'!$E$7","v":0},{"$f":"'Order Form'!$E$6","v":0},{"$f":"'Order Form'!$E$9","v":0},{"$f":"'Order Form'!$E$10 & \"\"","v":""},{"$f":"IF('Order Form'!D78=\"\",'Order Form'!C78,'Order Form'!D78)","v":0},{"$f":"'Order Form'!E78","v":0},{"$f":"'Order Form'!F78","v":0},{"$f":"'Order Form'!J78","v":0},{"$f":"'Order Form'!H78","v":0},{"$f":"'Order Form'!I78","v":0},{"$f":"'Order Form'!K78 & \"\"","v":""},{"$f":"'Order Form'!M78 & \"\"","v":""},{"$f":"'Order Form'!C78 & \"\"","v":""},{"$f":"'Order Form'!L78 & \"\"","v":""},{"$f":"'Order Form'!$E$12","v":"YES"},{"$f":"'Order Form'!$E$13","v":"ASAP (order with branding can take up to 3 business days to dispatch) Premium delivery recommended to guarantee delivery prior to Christmas, fees apply."},{"$f":"'Order Form'!$E$15","v":"FREE gift card"},{"$f":"'Order Form'!$E$16","v":"No thanks"},null,null,null,null,{"$f":"IF(N61=\"\",\"\",IFERROR(INDIRECT(\"Postcodes!$C\"&SUMPRODUCT(--(Postcodes!$A$2:$A$100<=N61)*(Postcodes!$B$2:$B$100>=N61), ROW(Postcodes!$A$2:$A$100))),\"WRONG CODE\"))","v":0},null,null,null,null,null,null,""]
[{"$f":"'Order Form'!A79","v":61},{"$f":"'Order Form'!N79","v":""},{"$f":"'Order Form'!$E$2","v":0},{"$f":"'Order Form'!$E$3","v":0},{"$f":"'Order Form'!$E$4","v":0},{"$f":"'Order Form'!$E$5","v":0},{"$f":"'Order Form'!$E$7","v":0},{"$f":"'Order Form'!$E$6","v":0},{"$f":"'Order Form'!$E$9","v":0},{"$f":"'Order Form'!$E$10 & \"\"","v":""},{"$f":"IF('Order Form'!D79=\"\",'Order Form'!C79,'Order Form'!D79)","v":0},{"$f":"'Order Form'!E79","v":0},{"$f":"'Order Form'!F79","v":0},{"$f":"'Order Form'!J79","v":0},{"$f":"'Order Form'!H79","v":0},{"$f":"'Order Form'!I79","v":0},{"$f":"'Order Form'!K79 & \"\"","v":""},{"$f":"'Order Form'!M79 & \"\"","v":""},{"$f":"'Order Form'!C79 & \"\"","v":""},{"$f":"'Order Form'!L79 & \"\"","v":""},{"$f":"'Order Form'!$E$12","v":"YES"},{"$f":"'Order Form'!$E$13","v":"ASAP (order with branding can take up to 3 business days to dispatch) Premium delivery recommended to guarantee delivery prior to Christmas, fees apply."},{"$f":"'Order Form'!$E$15","v":"FREE gift card"},{"$f":"'Order Form'!$E$16","v":"No thanks"},null,null,null,null,{"$f":"IF(N62=\"\",\"\",IFERROR(INDIRECT(\"Postcodes!$C\"&SUMPRODUCT(--(Postcodes!$A$2:$A$100<=N62)*(Postcodes!$B$2:$B$100>=N62), ROW(Postcodes!$A$2:$A$100))),\"WRONG CODE\"))","v":0},null,null,null,null,null,null,""]
[{"$f":"'Order Form'!A80","v":62},{"$f":"'Order Form'!N80","v":""},{"$f":"'Order Form'!$E$2","v":0},{"$f":"'Order Form'!$E$3","v":0},{"$f":"'Order Form'!$E$4","v":0},{"$f":"'Order Form'!$E$5","v":0},{"$f":"'Order Form'!$E$7","v":0},{"$f":"'Order Form'!$E$6","v":0},{"$f":"'Order Form'!$E$9","v":0},{"$f":"'Order Form'!$E$10 & \"\"","v":""},{"$f":"IF('Order Form'!D80=\"\",'Order Form'!C80,'Order Form'!D80)","v":0},{"$f":"'Order Form'!E80","v":0},{"$f":"'Order Form'!F80","v":0},{"$f":"'Order Form'!J80","v":0},{"$f":"'Order Form'!H80","v":0},{"$f":"'Order Form'!I80","v":0},{"$f":"'Order Form'!K80 & \"\"","v":""},{"$f":"'Order Form'!M80 & \"\"","v":""},{"$f":"'Order Form'!C80 & \"\"","v":""},{"$f":"'Order Form'!L80 & \"\"","v":""},{"$f":"'Order Form'!$E$12","v":"YES"},{"$f":"'Order Form'!$E$13","v":"ASAP (order with branding can take up to 3 business days to dispatch) Premium delivery recommended to guarantee delivery prior to Christmas, fees apply."},{"$f":"'Order Form'!$E$15","v":"FREE gift card"},{"$f":"'Order Form'!$E$16","v":"No thanks"},null,null,null,null,{"$f":"IF(N63=\"\",\"\",IFERROR(INDIRECT(\"Postcodes!$C\"&SUMPRODUCT(--(Postcodes!$A$2:$A$100<=N63)*(Postcodes!$B$2:$B$100>=N63), ROW(Postcodes!$A$2:$A$100))),\"WRONG CODE\"))","v":0},null,null,null,null,null,null,""]
[{"$f":"'Order Form'!A81","v":63},{"$f":"'Order Form'!N81","v":""},{"$f":"'Order Form'!$E$2","v":0},{"$f":"'Order Form'!$E$3","v":0},{"$f":"'Order Form'!$E$4","v":0},{"$f":"'Order Form'!$E$5","v":0},{"$f":"'Order Form'!$E$7","v":0},{"$f":"'Order Form'!$E$6","v":0},{"$f":"'Order Form'!$E$9","v":0},{"$f":"'Order Form'!$E$10 & \"\"","v":""},{"$f":"IF('Order Form'!D81=\"\",'Order Form'!C81,'Order Form'!D81)","v":0},{"$f":"'Order Form'!E81","v":0},{"$f":"'Order Form'!F81","v":0},{"$f":"'Order Form'!J81","v":0},{"$f":"'Order Form'!H81","v":0},{"$f":"'Order Form'!I81","v":0},{"$f":"'Order Form'!K81 & \"\"","v":""},{"$f":"'Order Form'!M81 & \"\"","v":""},{"$f":"'Order Form'!C81 & \"\"","v":""},{"$f":"'Order Form'!L81 & \"\"","v":""},{"$f":"'Order Form'!$E$12","v":"YES"},{"$f":"'Order Form'!$E$13","v":"ASAP (order with branding can take up to 3 business days to dispatch) Premium delivery recommended to guarantee delivery prior to Christmas, fees apply."},{"$f":"'Order Form'!$E$15","v":"FREE gift card"},{"$f":"'Order Form'!$E$16","v":"No thanks"},null,null,null,null,{"$f":"IF(N64=\"\",\"\",IFERROR(INDIRECT(\"Postcodes!$C\"&SUMPRODUCT(--(Postcodes!$A$2:$A$100<=N64)*(Postcodes!$B$2:$B$100>=N64), ROW(Postcodes!$A$2:$A$100))),\"WRONG CODE\"))","v":0},null,null,null,null,null,null,""]
[{"$f":"'Order Form'!A82","v":64},{"$f":"'Order Form'!N82","v":""},{"$f":"'Order Form'!$E$2","v":0},{"$f":"'Order Form'!$E$3","v":0},{"$f":"'Order Form'!$E$4","v":0},{"$f":"'Order Form'!$E$5","v":0},{"$f":"'Order Form'!$E$7","v":0},{"$f":"'Order Form'!$E$6","v":0},{"$f":"'Order Form'!$E$9","v":0},{"$f":"'Order Form'!$E$10 & \"\"","v":""},{"$f":"IF('Order Form'!D82=\"\",'Order Form'!C82,'Order Form'!D82)","v":0},{"$f":"'Order Form'!E82","v":0},{"$f":"'Order Form'!F82","v":0},{"$f":"'Order Form'!J82","v":0},{"$f":"'Order Form'!H82","v":0},{"$f":"'Order Form'!I82","v":0},{"$f":"'Order Form'!K82 & \"\"","v":""},{"$f":"'Order Form'!M82 & \"\"","v":""},{"$f":"'Order Form'!C82 & \"\"","v":""},{"$f":"'Order Form'!L82 & \"\"","v":""},{"$f":"'Order Form'!$E$12","v":"YES"},{"$f":"'Order Form'!$E$13","v":"ASAP (order with branding can take up to 3 business days to dispatch) Premium delivery recommended to guarantee delivery prior to Christmas, fees apply."},{"$f":"'Order Form'!$E$15","v":"FREE gift card"},{"$f":"'Order Form'!$E$16","v":"No thanks"},null,null,null,null,{"$f":"IF(N65=\"\",\"\",IFERROR(INDIRECT(\"Postcodes!$C\"&SUMPRODUCT(--(Postcodes!$A$2:$A$100<=N65)*(Postcodes!$B$2:$B$100>=N65), ROW(Postcodes!$A$2:$A$100))),\"WRONG CODE\"))","v":0},null,null,null,null,null,null,""]
[{"$f":"'Order Form'!A83","v":65},{"$f":"'Order Form'!N83","v":""},{"$f":"'Order Form'!$E$2","v":0},{"$f":"'Order Form'!$E$3","v":0},{"$f":"'Order Form'!$E$4","v":0},{"$f":"'Order Form'!$E$5","v":0},{"$f":"'Order Form'!$E$7","v":0},{"$f":"'Order Form'!$E$6","v":0},{"$f":"'Order Form'!$E$9","v":0},{"$f":"'Order Form'!$E$10 & \"\"","v":""},{"$f":"IF('Order Form'!D83=\"\",'Order Form'!C83,'Order Form'!D83)","v":0},{"$f":"'Order Form'!E83","v":0},{"$f":"'Order Form'!F83","v":0},{"$f":"'Order Form'!J83","v":0},{"$f":"'Order Form'!H83","v":0},{"$f":"'Order Form'!I83","v":0},{"$f":"'Order Form'!K83 & \"\"","v":""},{"$f":"'Order Form'!M83 & \"\"","v":""},{"$f":"'Order Form'!C83 & \"\"","v":""},{"$f":"'Order Form'!L83 & \"\"","v":""},{"$f":"'Order Form'!$E$12","v":"YES"},{"$f":"'Order Form'!$E$13","v":"ASAP (order with branding can take up to 3 business days to dispatch) Premium delivery recommended to guarantee delivery prior to Christmas, fees apply."},{"$f":"'Order Form'!$E$15","v":"FREE gift card"},{"$f":"'Order Form'!$E$16","v":"No thanks"},null,null,null,null,{"$f":"IF(N66=\"\",\"\",IFERROR(INDIRECT(\"Postcodes!$C\"&SUMPRODUCT(--(Postcodes!$A$2:$A$100<=N66)*(Postcodes!$B$2:$B$100>=N66), ROW(Postcodes!$A$2:$A$100))),\"WRONG CODE\"))","v":0},null,null,null,null,null,null,""]
[{"$f":"'Order Form'!A84","v":66},{"$f":"'Order Form'!N84","v":""},{"$f":"'Order Form'!$E$2","v":0},{"$f":"'Order Form'!$E$3","v":0},{"$f":"'Order Form'!$E$4","v":0},{"$f":"'Order Form'!$E$5","v":0},{"$f":"'Order Form'!$E$7","v":0},{"$f":"'Order Form'!$E$6","v":0},{"$f":"'Order Form'!$E$9","v":0},{"$f":"'Order Form'!$E$10 & \"\"","v":""},{"$f":"IF('Order Form'!D84=\"\",'Order Form'!C84,'Order Form'!D84)","v":0},{"$f":"'Order Form'!E84","v":0},{"$f":"'Order Form'!F84","v":0},{"$f":"'Order Form'!J84","v":0},{"$f":"'Order Form'!H84","v":0},{"$f":"'Order Form'!I84","v":0},{"$f":"'Order Form'!K84 & \"\"","v":""},{"$f":"'Order Form'!M84 & \"\"","v":""},{"$f":"'Order Form'!C84 & \"\"","v":""},{"$f":"'Order Form'!L84 & \"\"","v":""},{"$f":"'Order Form'!$E$12","v":"YES"},{"$f":"'Order Form'!$E$13","v":"ASAP (order with branding can take up to 3 business days to dispatch) Premium delivery recommended to guarantee delivery prior to Christmas, fees apply."},{"$f":"'Order Form'!$E$15","v":"FREE gift card"},{"$f":"'Order Form'!$E$16","v":"No thanks"},null,null,null,null,{"$f":"IF(N67=\"\",\"\",IFERROR(INDIRECT(\"Postcodes!$C\"&SUMPRODUCT(--(Postcodes!$A$2:$A$100<=N67)*(Postcodes!$B$2:$B$100>=N67), ROW(Postcodes!$A$2:$A$100))),\"WRONG CODE\"))","v":0},null,null,null,null,null,null,{"$f":"IF(AND(V67=\"ASAP (order with branding can take up to 3 business days to dispatch)\",W67=\"FREE gift card\",X67=\"No Thanks\"),\"asap\",\"\")","v":""}]
[{"$f":"'Order Form'!A85","v":67},{"$f":"'Order Form'!N85","v":""},{"$f":"'Order Form'!$E$2","v":0},{"$f":"'Order Form'!$E$3","v":0},{"$f":"'Order Form'!$E$4","v":0},{"$f":"'Order Form'!$E$5","v":0},{"$f":"'Order Form'!$E$7","v":0},{"$f":"'Order Form'!$E$6","v":0},{"$f":"'Order Form'!$E$9","v":0},{"$f":"'Order Form'!$E$10 & \"\"","v":""},{"$f":"IF('Order Form'!D85=\"\",'Order Form'!C85,'Order Form'!D85)","v":0},{"$f":"'Order Form'!E85","v":0},{"$f":"'Order Form'!F85","v":0},{"$f":"'Order Form'!J85","v":0},{"$f":"'Order Form'!H85","v":0},{"$f":"'Order Form'!I85","v":0},{"$f":"'Order Form'!K85 & \"\"","v":""},{"$f":"'Order Form'!M85 & \"\"","v":""},{"$f":"'Order Form'!C85 & \"\"","v":""},{"$f":"'Order Form'!L85 & \"\"","v":""},{"$f":"'Order Form'!$E$12","v":"YES"},{"$f":"'Order Form'!$E$13","v":"ASAP (order with branding can take up to 3 business days to dispatch) Premium delivery recommended to guarantee delivery prior to Christmas, fees apply."},{"$f":"'Order Form'!$E$15","v":"FREE gift card"},{"$f":"'Order Form'!$E$16","v":"No thanks"},null,null,null,null,{"$f":"IF(N68=\"\",\"\",IFERROR(INDIRECT(\"Postcodes!$C\"&SUMPRODUCT(--(Postcodes!$A$2:$A$100<=N68)*(Postcodes!$B$2:$B$100>=N68), ROW(Postcodes!$A$2:$A$100))),\"WRONG CODE\"))","v":0},null,null,null,null,null,null,""]
[{"$f":"'Order Form'!A86","v":68},{"$f":"'Order Form'!N86","v":""},{"$f":"'Order Form'!$E$2","v":0},{"$f":"'Order Form'!$E$3","v":0},{"$f":"'Order Form'!$E$4","v":0},{"$f":"'Order Form'!$E$5","v":0},{"$f":"'Order Form'!$E$7","v":0},{"$f":"'Order Form'!$E$6","v":0},{"$f":"'Order Form'!$E$9","v":0},{"$f":"'Order Form'!$E$10 & \"\"","v":""},{"$f":"IF('Order Form'!D86=\"\",'Order Form'!C86,'Order Form'!D86)","v":0},{"$f":"'Order Form'!E86","v":0},{"$f":"'Order Form'!F86","v":0},{"$f":"'Order Form'!J86","v":0},{"$f":"'Order Form'!H86","v":0},{"$f":"'Order Form'!I86","v":0},{"$f":"'Order Form'!K86 & \"\"","v":""},{"$f":"'Order Form'!M86 & \"\"","v":""},{"$f":"'Order Form'!C86 & \"\"","v":""},{"$f":"'Order Form'!L86 & \"\"","v":""},{"$f":"'Order Form'!$E$12","v":"YES"},{"$f":"'Order Form'!$E$13","v":"ASAP (order with branding can take up to 3 business days to dispatch) Premium delivery recommended to guarantee delivery prior to Christmas, fees apply."},{"$f":"'Order Form'!$E$15","v":"FREE gift card"},{"$f":"'Order Form'!$E$16","v":"No thanks"},null,null,null,null,{"$f":"IF(N69=\"\",\"\",IFERROR(INDIRECT(\"Postcodes!$C\"&SUMPRODUCT(--(Postcodes!$A$2:$A$100<=N69)*(Postcodes!$B$2:$B$100>=N69), ROW(Postcodes!$A$2:$A$100))),\"WRONG CODE\"))","v":0},null,null,null,null,null,null,""]
[{"$f":"'Order Form'!A87","v":69},{"$f":"'Order Form'!N87","v":""},{"$f":"'Order Form'!$E$2","v":0},{"$f":"'Order Form'!$E$3","v":0},{"$f":"'Order Form'!$E$4","v":0},{"$f":"'Order Form'!$E$5","v":0},{"$f":"'Order Form'!$E$7","v":0},{"$f":"'Order Form'!$E$6","v":0},{"$f":"'Order Form'!$E$9","v":0},{"$f":"'Order Form'!$E$10 & \"\"","v":""},{"$f":"IF('Order Form'!D87=\"\",'Order Form'!C87,'Order Form'!D87)","v":0},{"$f":"'Order Form'!E87","v":0},{"$f":"'Order Form'!F87","v":0},{"$f":"'Order Form'!J87","v":0},{"$f":"'Order Form'!H87","v":0},{"$f":"'Order Form'!I87","v":0},{"$f":"'Order Form'!K87 & \"\"","v":""},{"$f":"'Order Form'!M87 & \"\"","v":""},{"$f":"'Order Form'!C87 & \"\"","v":""},{"$f":"'Order Form'!L87 & \"\"","v":""},{"$f":"'Order Form'!$E$12","v":"YES"},{"$f":"'Order Form'!$E$13","v":"ASAP (order with branding can take up to 3 business days to dispatch) Premium delivery recommended to guarantee delivery prior to Christmas, fees apply."},{"$f":"'Order Form'!$E$15","v":"FREE gift card"},{"$f":"'Order Form'!$E$16","v":"No thanks"},null,null,null,null,{"$f":"IF(N70=\"\",\"\",IFERROR(INDIRECT(\"Postcodes!$C\"&SUMPRODUCT(--(Postcodes!$A$2:$A$100<=N70)*(Postcodes!$B$2:$B$100>=N70), ROW(Postcodes!$A$2:$A$100))),\"WRONG CODE\"))","v":0},null,null,null,null,null,null,""]
[{"$f":"'Order Form'!A88","v":70},{"$f":"'Order Form'!N88","v":""},{"$f":"'Order Form'!$E$2","v":0},{"$f":"'Order Form'!$E$3","v":0},{"$f":"'Order Form'!$E$4","v":0},{"$f":"'Order Form'!$E$5","v":0},{"$f":"'Order Form'!$E$7","v":0},{"$f":"'Order Form'!$E$6","v":0},{"$f":"'Order Form'!$E$9","v":0},{"$f":"'Order Form'!$E$10 & \"\"","v":""},{"$f":"IF('Order Form'!D88=\"\",'Order Form'!C88,'Order Form'!D88)","v":0},{"$f":"'Order Form'!E88","v":0},{"$f":"'Order Form'!F88","v":0},{"$f":"'Order Form'!J88","v":0},{"$f":"'Order Form'!H88","v":0},{"$f":"'Order Form'!I88","v":0},{"$f":"'Order Form'!K88 & \"\"","v":""},{"$f":"'Order Form'!M88 & \"\"","v":""},{"$f":"'Order Form'!C88 & \"\"","v":""},{"$f":"'Order Form'!L88 & \"\"","v":""},{"$f":"'Order Form'!$E$12","v":"YES"},{"$f":"'Order Form'!$E$13","v":"ASAP (order with branding can take up to 3 business days to dispatch) Premium delivery recommended to guarantee delivery prior to Christmas, fees apply."},{"$f":"'Order Form'!$E$15","v":"FREE gift card"},{"$f":"'Order Form'!$E$16","v":"No thanks"},null,null,null,null,{"$f":"IF(N71=\"\",\"\",IFERROR(INDIRECT(\"Postcodes!$C\"&SUMPRODUCT(--(Postcodes!$A$2:$A$100<=N71)*(Postcodes!$B$2:$B$100>=N71), ROW(Postcodes!$A$2:$A$100))),\"WRONG CODE\"))","v":0},null,null,null,null,null,null,""]
[{"$f":"'Order Form'!A89","v":71},{"$f":"'Order Form'!N89","v":""},{"$f":"'Order Form'!$E$2","v":0},{"$f":"'Order Form'!$E$3","v":0},{"$f":"'Order Form'!$E$4","v":0},{"$f":"'Order Form'!$E$5","v":0},{"$f":"'Order Form'!$E$7","v":0},{"$f":"'Order Form'!$E$6","v":0},{"$f":"'Order Form'!$E$9","v":0},{"$f":"'Order Form'!$E$10 & \"\"","v":""},{"$f":"IF('Order Form'!D89=\"\",'Order Form'!C89,'Order Form'!D89)","v":0},{"$f":"'Order Form'!E89","v":0},{"$f":"'Order Form'!F89","v":0},{"$f":"'Order Form'!J89","v":0},{"$f":"'Order Form'!H89","v":0},{"$f":"'Order Form'!I89","v":0},{"$f":"'Order Form'!K89 & \"\"","v":""},{"$f":"'Order Form'!M89 & \"\"","v":""},{"$f":"'Order Form'!C89 & \"\"","v":""},{"$f":"'Order Form'!L89 & \"\"","v":""},{"$f":"'Order Form'!$E$12","v":"YES"},{"$f":"'Order Form'!$E$13","v":"ASAP (order with branding can take up to 3 business days to dispatch) Premium delivery recommended to guarantee delivery prior to Christmas, fees apply."},{"$f":"'Order Form'!$E$15","v":"FREE gift card"},{"$f":"'Order Form'!$E$16","v":"No thanks"},null,null,null,null,{"$f":"IF(N72=\"\",\"\",IFERROR(INDIRECT(\"Postcodes!$C\"&SUMPRODUCT(--(Postcodes!$A$2:$A$100<=N72)*(Postcodes!$B$2:$B$100>=N72), ROW(Postcodes!$A$2:$A$100))),\"WRONG CODE\"))","v":0},null,null,null,null,null,null,""]
[{"$f":"'Order Form'!A90","v":72},{"$f":"'Order Form'!N90","v":""},{"$f":"'Order Form'!$E$2","v":0},{"$f":"'Order Form'!$E$3","v":0},{"$f":"'Order Form'!$E$4","v":0},{"$f":"'Order Form'!$E$5","v":0},{"$f":"'Order Form'!$E$7","v":0},{"$f":"'Order Form'!$E$6","v":0},{"$f":"'Order Form'!$E$9","v":0},{"$f":"'Order Form'!$E$10 & \"\"","v":""},{"$f":"IF('Order Form'!D90=\"\",'Order Form'!C90,'Order Form'!D90)","v":0},{"$f":"'Order Form'!E90","v":0},{"$f":"'Order Form'!F90","v":0},{"$f":"'Order Form'!J90","v":0},{"$f":"'Order Form'!H90","v":0},{"$f":"'Order Form'!I90","v":0},{"$f":"'Order Form'!K90 & \"\"","v":""},{"$f":"'Order Form'!M90 & \"\"","v":""},{"$f":"'Order Form'!C90 & \"\"","v":""},{"$f":"'Order Form'!L90 & \"\"","v":""},{"$f":"'Order Form'!$E$12","v":"YES"},{"$f":"'Order Form'!$E$13","v":"ASAP (order with branding can take up to 3 business days to dispatch) Premium delivery recommended to guarantee delivery prior to Christmas, fees apply."},{"$f":"'Order Form'!$E$15","v":"FREE gift card"},{"$f":"'Order Form'!$E$16","v":"No thanks"},null,null,null,null,{"$f":"IF(N73=\"\",\"\",IFERROR(INDIRECT(\"Postcodes!$C\"&SUMPRODUCT(--(Postcodes!$A$2:$A$100<=N73)*(Postcodes!$B$2:$B$100>=N73), ROW(Postcodes!$A$2:$A$100))),\"WRONG CODE\"))","v":0},null,null,null,null,null,null,""]
[{"$f":"'Order Form'!A91","v":73},{"$f":"'Order Form'!N91","v":""},{"$f":"'Order Form'!$E$2","v":0},{"$f":"'Order Form'!$E$3","v":0},{"$f":"'Order Form'!$E$4","v":0},{"$f":"'Order Form'!$E$5","v":0},{"$f":"'Order Form'!$E$7","v":0},{"$f":"'Order Form'!$E$6","v":0},{"$f":"'Order Form'!$E$9","v":0},{"$f":"'Order Form'!$E$10 & \"\"","v":""},{"$f":"IF('Order Form'!D91=\"\",'Order Form'!C91,'Order Form'!D91)","v":0},{"$f":"'Order Form'!E91","v":0},{"$f":"'Order Form'!F91","v":0},{"$f":"'Order Form'!J91","v":0},{"$f":"'Order Form'!H91","v":0},{"$f":"'Order Form'!I91","v":0},{"$f":"'Order Form'!K91 & \"\"","v":""},{"$f":"'Order Form'!M91 & \"\"","v":""},{"$f":"'Order Form'!C91 & \"\"","v":""},{"$f":"'Order Form'!L91 & \"\"","v":""},{"$f":"'Order Form'!$E$12","v":"YES"},{"$f":"'Order Form'!$E$13","v":"ASAP (order with branding can take up to 3 business days to dispatch) Premium delivery recommended to guarantee delivery prior to Christmas, fees apply."},{"$f":"'Order Form'!$E$15","v":"FREE gift card"},{"$f":"'Order Form'!$E$16","v":"No thanks"},null,null,null,null,{"$f":"IF(N74=\"\",\"\",IFERROR(INDIRECT(\"Postcodes!$C\"&SUMPRODUCT(--(Postcodes!$A$2:$A$100<=N74)*(Postcodes!$B$2:$B$100>=N74), ROW(Postcodes!$A$2:$A$100))),\"WRONG CODE\"))","v":0},null,null,null,null,null,null,""]
[{"$f":"'Order Form'!A92","v":74},{"$f":"'Order Form'!N92","v":""},{"$f":"'Order Form'!$E$2","v":0},{"$f":"'Order Form'!$E$3","v":0},{"$f":"'Order Form'!$E$4","v":0},{"$f":"'Order Form'!$E$5","v":0},{"$f":"'Order Form'!$E$7","v":0},{"$f":"'Order Form'!$E$6","v":0},{"$f":"'Order Form'!$E$9","v":0},{"$f":"'Order Form'!$E$10 & \"\"","v":""},{"$f":"IF('Order Form'!D92=\"\",'Order Form'!C92,'Order Form'!D92)","v":0},{"$f":"'Order Form'!E92","v":0},{"$f":"'Order Form'!F92","v":0},{"$f":"'Order Form'!J92","v":0},{"$f":"'Order Form'!H92","v":0},{"$f":"'Order Form'!I92","v":0},{"$f":"'Order Form'!K92 & \"\"","v":""},{"$f":"'Order Form'!M92 & \"\"","v":""},{"$f":"'Order Form'!C92 & \"\"","v":""},{"$f":"'Order Form'!L92 & \"\"","v":""},{"$f":"'Order Form'!$E$12","v":"YES"},{"$f":"'Order Form'!$E$13","v":"ASAP (order with branding can take up to 3 business days to dispatch) Premium delivery recommended to guarantee delivery prior to Christmas, fees apply."},{"$f":"'Order Form'!$E$15","v":"FREE gift card"},{"$f":"'Order Form'!$E$16","v":"No thanks"},null,null,null,null,{"$f":"IF(N75=\"\",\"\",IFERROR(INDIRECT(\"Postcodes!$C\"&SUMPRODUCT(--(Postcodes!$A$2:$A$100<=N75)*(Postcodes!$B$2:$B$100>=N75), ROW(Postcodes!$A$2:$A$100))),\"WRONG CODE\"))","v":0},null,null,null,null,null,null,""]
[{"$f":"'Order Form'!A93","v":75},{"$f":"'Order Form'!N93","v":""},{"$f":"'Order Form'!$E$2","v":0},{"$f":"'Order Form'!$E$3","v":0},{"$f":"'Order Form'!$E$4","v":0},{"$f":"'Order Form'!$E$5","v":0},{"$f":"'Order Form'!$E$7","v":0},{"$f":"'Order Form'!$E$6","v":0},{"$f":"'Order Form'!$E$9","v":0},{"$f":"'Order Form'!$E$10 & \"\"","v":""},{"$f":"IF('Order Form'!D93=\"\",'Order Form'!C93,'Order Form'!D93)","v":0},{"$f":"'Order Form'!E93","v":0},{"$f":"'Order Form'!F93","v":0},{"$f":"'Order Form'!J93","v":0},{"$f":"'Order Form'!H93","v":0},{"$f":"'Order Form'!I93","v":0},{"$f":"'Order Form'!K93 & \"\"","v":""},{"$f":"'Order Form'!M93 & \"\"","v":""},{"$f":"'Order Form'!C93 & \"\"","v":""},{"$f":"'Order Form'!L93 & \"\"","v":""},{"$f":"'Order Form'!$E$12","v":"YES"},{"$f":"'Order Form'!$E$13","v":"ASAP (order with branding can take up to 3 business days to dispatch) Premium delivery recommended to guarantee delivery prior to Christmas, fees apply."},{"$f":"'Order Form'!$E$15","v":"FREE gift card"},{"$f":"'Order Form'!$E$16","v":"No thanks"},null,null,null,null,{"$f":"IF(N76=\"\",\"\",IFERROR(INDIRECT(\"Postcodes!$C\"&SUMPRODUCT(--(Postcodes!$A$2:$A$100<=N76)*(Postcodes!$B$2:$B$100>=N76), ROW(Postcodes!$A$2:$A$100))),\"WRONG CODE\"))","v":0},null,null,null,null,null,null,""]
[{"$f":"'Order Form'!A94","v":76},{"$f":"'Order Form'!N94","v":""},{"$f":"'Order Form'!$E$2","v":0},{"$f":"'Order Form'!$E$3","v":0},{"$f":"'Order Form'!$E$4","v":0},{"$f":"'Order Form'!$E$5","v":0},{"$f":"'Order Form'!$E$7","v":0},{"$f":"'Order Form'!$E$6","v":0},{"$f":"'Order Form'!$E$9","v":0},{"$f":"'Order Form'!$E$10 & \"\"","v":""},{"$f":"IF('Order Form'!D94=\"\",'Order Form'!C94,'Order Form'!D94)","v":0},{"$f":"'Order Form'!E94","v":0},{"$f":"'Order Form'!F94","v":0},{"$f":"'Order Form'!J94","v":0},{"$f":"'Order Form'!H94","v":0},{"$f":"'Order Form'!I94","v":0},{"$f":"'Order Form'!K94 & \"\"","v":""},{"$f":"'Order Form'!M94 & \"\"","v":""},{"$f":"'Order Form'!C94 & \"\"","v":""},{"$f":"'Order Form'!L94 & \"\"","v":""},{"$f":"'Order Form'!$E$12","v":"YES"},{"$f":"'Order Form'!$E$13","v":"ASAP (order with branding can take up to 3 business days to dispatch) Premium delivery recommended to guarantee delivery prior to Christmas, fees apply."},{"$f":"'Order Form'!$E$15","v":"FREE gift card"},{"$f":"'Order Form'!$E$16","v":"No thanks"},null,null,null,null,{"$f":"IF(N77=\"\",\"\",IFERROR(INDIRECT(\"Postcodes!$C\"&SUMPRODUCT(--(Postcodes!$A$2:$A$100<=N77)*(Postcodes!$B$2:$B$100>=N77), ROW(Postcodes!$A$2:$A$100))),\"WRONG CODE\"))","v":0},null,null,null,null,null,null,""]
[{"$f":"'Order Form'!A95","v":77},{"$f":"'Order Form'!N95","v":""},{"$f":"'Order Form'!$E$2","v":0},{"$f":"'Order Form'!$E$3","v":0},{"$f":"'Order Form'!$E$4","v":0},{"$f":"'Order Form'!$E$5","v":0},{"$f":"'Order Form'!$E$7","v":0},{"$f":"'Order Form'!$E$6","v":0},{"$f":"'Order Form'!$E$9","v":0},{"$f":"'Order Form'!$E$10 & \"\"","v":""},{"$f":"IF('Order Form'!D95=\"\",'Order Form'!C95,'Order Form'!D95)","v":0},{"$f":"'Order Form'!E95","v":0},{"$f":"'Order Form'!F95","v":0},{"$f":"'Order Form'!J95","v":0},{"$f":"'Order Form'!H95","v":0},{"$f":"'Order Form'!I95","v":0},{"$f":"'Order Form'!K95 & \"\"","v":""},{"$f":"'Order Form'!M95 & \"\"","v":""},{"$f":"'Order Form'!C95 & \"\"","v":""},{"$f":"'Order Form'!L95 & \"\"","v":""},{"$f":"'Order Form'!$E$12","v":"YES"},{"$f":"'Order Form'!$E$13","v":"ASAP (order with branding can take up to 3 business days to dispatch) Premium delivery recommended to guarantee delivery prior to Christmas, fees apply."},{"$f":"'Order Form'!$E$15","v":"FREE gift card"},{"$f":"'Order Form'!$E$16","v":"No thanks"},null,null,null,null,{"$f":"IF(N78=\"\",\"\",IFERROR(INDIRECT(\"Postcodes!$C\"&SUMPRODUCT(--(Postcodes!$A$2:$A$100<=N78)*(Postcodes!$B$2:$B$100>=N78), ROW(Postcodes!$A$2:$A$100))),\"WRONG CODE\"))","v":0},null,null,null,null,null,null,""]
[{"$f":"'Order Form'!A96","v":78},{"$f":"'Order Form'!N96","v":""},{"$f":"'Order Form'!$E$2","v":0},{"$f":"'Order Form'!$E$3","v":0},{"$f":"'Order Form'!$E$4","v":0},{"$f":"'Order Form'!$E$5","v":0},{"$f":"'Order Form'!$E$7","v":0},{"$f":"'Order Form'!$E$6","v":0},{"$f":"'Order Form'!$E$9","v":0},{"$f":"'Order Form'!$E$10 & \"\"","v":""},{"$f":"IF('Order Form'!D96=\"\",'Order Form'!C96,'Order Form'!D96)","v":0},{"$f":"'Order Form'!E96","v":0},{"$f":"'Order Form'!F96","v":0},{"$f":"'Order Form'!J96","v":0},{"$f":"'Order Form'!H96","v":0},{"$f":"'Order Form'!I96","v":0},{"$f":"'Order Form'!K96 & \"\"","v":""},{"$f":"'Order Form'!M96 & \"\"","v":""},{"$f":"'Order Form'!C96 & \"\"","v":""},{"$f":"'Order Form'!L96 & \"\"","v":""},{"$f":"'Order Form'!$E$12","v":"YES"},{"$f":"'Order Form'!$E$13","v":"ASAP (order with branding can take up to 3 business days to dispatch) Premium delivery recommended to guarantee delivery prior to Christmas, fees apply."},{"$f":"'Order Form'!$E$15","v":"FREE gift card"},{"$f":"'Order Form'!$E$16","v":"No thanks"},null,null,null,null,{"$f":"IF(N79=\"\",\"\",IFERROR(INDIRECT(\"Postcodes!$C\"&SUMPRODUCT(--(Postcodes!$A$2:$A$100<=N79)*(Postcodes!$B$2:$B$100>=N79), ROW(Postcodes!$A$2:$A$100))),\"WRONG CODE\"))","v":0},null,null,null,null,null,null,""]
[{"$f":"'Order Form'!A97","v":79},{"$f":"'Order Form'!N97","v":""},{"$f":"'Order Form'!$E$2","v":0},{"$f":"'Order Form'!$E$3","v":0},{"$f":"'Order Form'!$E$4","v":0},{"$f":"'Order Form'!$E$5","v":0},{"$f":"'Order Form'!$E$7","v":0},{"$f":"'Order Form'!$E$6","v":0},{"$f":"'Order Form'!$E$9","v":0},{"$f":"'Order Form'!$E$10 & \"\"","v":""},{"$f":"IF('Order Form'!D97=\"\",'Order Form'!C97,'Order Form'!D97)","v":0},{"$f":"'Order Form'!E97","v":0},{"$f":"'Order Form'!F97","v":0},{"$f":"'Order Form'!J97","v":0},{"$f":"'Order Form'!H97","v":0},{"$f":"'Order Form'!I97","v":0},{"$f":"'Order Form'!K97 & \"\"","v":""},{"$f":"'Order Form'!M97 & \"\"","v":""},{"$f":"'Order Form'!C97 & \"\"","v":""},{"$f":"'Order Form'!L97 & \"\"","v":""},{"$f":"'Order Form'!$E$12","v":"YES"},{"$f":"'Order Form'!$E$13","v":"ASAP (order with branding can take up to 3 business days to dispatch) Premium delivery recommended to guarantee delivery prior to Christmas, fees apply."},{"$f":"'Order Form'!$E$15","v":"FREE gift card"},{"$f":"'Order Form'!$E$16","v":"No thanks"},null,null,null,null,{"$f":"IF(N80=\"\",\"\",IFERROR(INDIRECT(\"Postcodes!$C\"&SUMPRODUCT(--(Postcodes!$A$2:$A$100<=N80)*(Postcodes!$B$2:$B$100>=N80), ROW(Postcodes!$A$2:$A$100))),\"WRONG CODE\"))","v":0},null,null,null,null,null,null,""]
[{"$f":"'Order Form'!A98","v":80},{"$f":"'Order Form'!N98","v":""},{"$f":"'Order Form'!$E$2","v":0},{"$f":"'Order Form'!$E$3","v":0},{"$f":"'Order Form'!$E$4","v":0},{"$f":"'Order Form'!$E$5","v":0},{"$f":"'Order Form'!$E$7","v":0},{"$f":"'Order Form'!$E$6","v":0},{"$f":"'Order Form'!$E$9","v":0},{"$f":"'Order Form'!$E$10 & \"\"","v":""},{"$f":"IF('Order Form'!D98=\"\",'Order Form'!C98,'Order Form'!D98)","v":0},{"$f":"'Order Form'!E98","v":0},{"$f":"'Order Form'!F98","v":0},{"$f":"'Order Form'!J98","v":0},{"$f":"'Order Form'!H98","v":0},{"$f":"'Order Form'!I98","v":0},{"$f":"'Order Form'!K98 & \"\"","v":""},{"$f":"'Order Form'!M98 & \"\"","v":""},{"$f":"'Order Form'!C98 & \"\"","v":""},{"$f":"'Order Form'!L98 & \"\"","v":""},{"$f":"'Order Form'!$E$12","v":"YES"},{"$f":"'Order Form'!$E$13","v":"ASAP (order with branding can take up to 3 business days to dispatch) Premium delivery recommended to guarantee delivery prior to Christmas, fees apply."},{"$f":"'Order Form'!$E$15","v":"FREE gift card"},{"$f":"'Order Form'!$E$16","v":"No thanks"},null,null,null,null,{"$f":"IF(N81=\"\",\"\",IFERROR(INDIRECT(\"Postcodes!$C\"&SUMPRODUCT(--(Postcodes!$A$2:$A$100<=N81)*(Postcodes!$B$2:$B$100>=N81), ROW(Postcodes!$A$2:$A$100))),\"WRONG CODE\"))","v":0},null,null,null,null,null,null,""]
[{"$f":"'Order Form'!A99","v":81},{"$f":"'Order Form'!N99","v":""},{"$f":"'Order Form'!$E$2","v":0},{"$f":"'Order Form'!$E$3","v":0},{"$f":"'Order Form'!$E$4","v":0},{"$f":"'Order Form'!$E$5","v":0},{"$f":"'Order Form'!$E$7","v":0},{"$f":"'Order Form'!$E$6","v":0},{"$f":"'Order Form'!$E$9","v":0},{"$f":"'Order Form'!$E$10 & \"\"","v":""},{"$f":"IF('Order Form'!D99=\"\",'Order Form'!C99,'Order Form'!D99)","v":0},{"$f":"'Order Form'!E99","v":0},{"$f":"'Order Form'!F99","v":0},{"$f":"'Order Form'!J99","v":0},{"$f":"'Order Form'!H99","v":0},{"$f":"'Order Form'!I99","v":0},{"$f":"'Order Form'!K99 & \"\"","v":""},{"$f":"'Order Form'!M99 & \"\"","v":""},{"$f":"'Order Form'!C99 & \"\"","v":""},{"$f":"'Order Form'!L99 & \"\"","v":""},{"$f":"'Order Form'!$E$12","v":"YES"},{"$f":"'Order Form'!$E$13","v":"ASAP (order with branding can take up to 3 business days to dispatch) Premium delivery recommended to guarantee delivery prior to Christmas, fees apply."},{"$f":"'Order Form'!$E$15","v":"FREE gift card"},{"$f":"'Order Form'!$E$16","v":"No thanks"},null,null,null,null,{"$f":"IF(N82=\"\",\"\",IFERROR(INDIRECT(\"Postcodes!$C\"&SUMPRODUCT(--(Postcodes!$A$2:$A$100<=N82)*(Postcodes!$B$2:$B$100>=N82), ROW(Postcodes!$A$2:$A$100))),\"WRONG CODE\"))","v":0},null,null,null,null,null,null,""]
[{"$f":"'Order Form'!A100","v":82},{"$f":"'Order Form'!N100","v":""},{"$f":"'Order Form'!$E$2","v":0},{"$f":"'Order Form'!$E$3","v":0},{"$f":"'Order Form'!$E$4","v":0},{"$f":"'Order Form'!$E$5","v":0},{"$f":"'Order Form'!$E$7","v":0},{"$f":"'Order Form'!$E$6","v":0},{"$f":"'Order Form'!$E$9","v":0},{"$f":"'Order Form'!$E$10 & \"\"","v":""},{"$f":"IF('Order Form'!D100=\"\",'Order Form'!C100,'Order Form'!D100)","v":0},{"$f":"'Order Form'!E100","v":0},{"$f":"'Order Form'!F100","v":0},{"$f":"'Order Form'!J100","v":0},{"$f":"'Order Form'!H100","v":0},{"$f":"'Order Form'!I100","v":0},{"$f":"'Order Form'!K100 & \"\"","v":""},{"$f":"'Order Form'!M100 & \"\"","v":""},{"$f":"'Order Form'!C100 & \"\"","v":""},{"$f":"'Order Form'!L100 & \"\"","v":""},{"$f":"'Order Form'!$E$12","v":"YES"},{"$f":"'Order Form'!$E$13","v":"ASAP (order with branding can take up to 3 business days to dispatch) Premium delivery recommended to guarantee delivery prior to Christmas, fees apply."},{"$f":"'Order Form'!$E$15","v":"FREE gift card"},{"$f":"'Order Form'!$E$16","v":"No thanks"},null,null,null,null,{"$f":"IF(N83=\"\",\"\",IFERROR(INDIRECT(\"Postcodes!$C\"&SUMPRODUCT(--(Postcodes!$A$2:$A$100<=N83)*(Postcodes!$B$2:$B$100>=N83), ROW(Postcodes!$A$2:$A$100))),\"WRONG CODE\"))","v":0},null,null,null,null,null,null,""]
[{"$f":"'Order Form'!A101","v":83},{"$f":"'Order Form'!N101","v":""},{"$f":"'Order Form'!$E$2","v":0},{"$f":"'Order Form'!$E$3","v":0},{"$f":"'Order Form'!$E$4","v":0},{"$f":"'Order Form'!$E$5","v":0},{"$f":"'Order Form'!$E$7","v":0},{"$f":"'Order Form'!$E$6","v":0},{"$f":"'Order Form'!$E$9","v":0},{"$f":"'Order Form'!$E$10 & \"\"","v":""},{"$f":"IF('Order Form'!D101=\"\",'Order Form'!C101,'Order Form'!D101)","v":0},{"$f":"'Order Form'!E101","v":0},{"$f":"'Order Form'!F101","v":0},{"$f":"'Order Form'!J101","v":0},{"$f":"'Order Form'!H101","v":0},{"$f":"'Order Form'!I101","v":0},{"$f":"'Order Form'!K101 & \"\"","v":""},{"$f":"'Order Form'!M101 & \"\"","v":""},{"$f":"'Order Form'!C101 & \"\"","v":""},{"$f":"'Order Form'!L101 & \"\"","v":""},{"$f":"'Order Form'!$E$12","v":"YES"},{"$f":"'Order Form'!$E$13","v":"ASAP (order with branding can take up to 3 business days to dispatch) Premium delivery recommended to guarantee delivery prior to Christmas, fees apply."},{"$f":"'Order Form'!$E$15","v":"FREE gift card"},{"$f":"'Order Form'!$E$16","v":"No thanks"},null,null,null,null,{"$f":"IF(N84=\"\",\"\",IFERROR(INDIRECT(\"Postcodes!$C\"&SUMPRODUCT(--(Postcodes!$A$2:$A$100<=N84)*(Postcodes!$B$2:$B$100>=N84), ROW(Postcodes!$A$2:$A$100))),\"WRONG CODE\"))","v":0},null,null,null,null,null,null,""]
[{"$f":"'Order Form'!A102","v":84},{"$f":"'Order Form'!N102","v":""},{"$f":"'Order Form'!$E$2","v":0},{"$f":"'Order Form'!$E$3","v":0},{"$f":"'Order Form'!$E$4","v":0},{"$f":"'Order Form'!$E$5","v":0},{"$f":"'Order Form'!$E$7","v":0},{"$f":"'Order Form'!$E$6","v":0},{"$f":"'Order Form'!$E$9","v":0},{"$f":"'Order Form'!$E$10 & \"\"","v":""},{"$f":"IF('Order Form'!D102=\"\",'Order Form'!C102,'Order Form'!D102)","v":0},{"$f":"'Order Form'!E102","v":0},{"$f":"'Order Form'!F102","v":0},{"$f":"'Order Form'!J102","v":0},{"$f":"'Order Form'!H102","v":0},{"$f":"'Order Form'!I102","v":0},{"$f":"'Order Form'!K102 & \"\"","v":""},{"$f":"'Order Form'!M102 & \"\"","v":""},{"$f":"'Order Form'!C102 & \"\"","v":""},{"$f":"'Order Form'!L102 & \"\"","v":""},{"$f":"'Order Form'!$E$12","v":"YES"},{"$f":"'Order Form'!$E$13","v":"ASAP (order with branding can take up to 3 business days to dispatch) Premium delivery recommended to guarantee delivery prior to Christmas, fees apply."},{"$f":"'Order Form'!$E$15","v":"FREE gift card"},{"$f":"'Order Form'!$E$16","v":"No thanks"},null,null,null,null,{"$f":"IF(N85=\"\",\"\",IFERROR(INDIRECT(\"Postcodes!$C\"&SUMPRODUCT(--(Postcodes!$A$2:$A$100<=N85)*(Postcodes!$B$2:$B$100>=N85), ROW(Postcodes!$A$2:$A$100))),\"WRONG CODE\"))","v":0},null,null,null,null,null,null,""]
[{"$f":"'Order Form'!A103","v":85},{"$f":"'Order Form'!N103","v":""},{"$f":"'Order Form'!$E$2","v":0},{"$f":"'Order Form'!$E$3","v":0},{"$f":"'Order Form'!$E$4","v":0},{"$f":"'Order Form'!$E$5","v":0},{"$f":"'Order Form'!$E$7","v":0},{"$f":"'Order Form'!$E$6","v":0},{"$f":"'Order Form'!$E$9","v":0},{"$f":"'Order Form'!$E$10 & \"\"","v":""},{"$f":"IF('Order Form'!D103=\"\",'Order Form'!C103,'Order Form'!D103)","v":0},{"$f":"'Order Form'!E103","v":0},{"$f":"'Order Form'!F103","v":0},{"$f":"'Order Form'!J103","v":0},{"$f":"'Order Form'!H103","v":0},{"$f":"'Order Form'!I103","v":0},{"$f":"'Order Form'!K103 & \"\"","v":""},{"$f":"'Order Form'!M103 & \"\"","v":""},{"$f":"'Order Form'!C103 & \"\"","v":""},{"$f":"'Order Form'!L103 & \"\"","v":""},{"$f":"'Order Form'!$E$12","v":"YES"},{"$f":"'Order Form'!$E$13","v":"ASAP (order with branding can take up to 3 business days to dispatch) Premium delivery recommended to guarantee delivery prior to Christmas, fees apply."},{"$f":"'Order Form'!$E$15","v":"FREE gift card"},{"$f":"'Order Form'!$E$16","v":"No thanks"},null,null,null,null,{"$f":"IF(N86=\"\",\"\",IFERROR(INDIRECT(\"Postcodes!$C\"&SUMPRODUCT(--(Postcodes!$A$2:$A$100<=N86)*(Postcodes!$B$2:$B$100>=N86), ROW(Postcodes!$A$2:$A$100))),\"WRONG CODE\"))","v":0},null,null,null,null,null,null,""]
[{"$f":"'Order Form'!A104","v":86},{"$f":"'Order Form'!N104","v":""},{"$f":"'Order Form'!$E$2","v":0},{"$f":"'Order Form'!$E$3","v":0},{"$f":"'Order Form'!$E$4","v":0},{"$f":"'Order Form'!$E$5","v":0},{"$f":"'Order Form'!$E$7","v":0},{"$f":"'Order Form'!$E$6","v":0},{"$f":"'Order Form'!$E$9","v":0},{"$f":"'Order Form'!$E$10 & \"\"","v":""},{"$f":"IF('Order Form'!D104=\"\",'Order Form'!C104,'Order Form'!D104)","v":0},{"$f":"'Order Form'!E104","v":0},{"$f":"'Order Form'!F104","v":0},{"$f":"'Order Form'!J104","v":0},{"$f":"'Order Form'!H104","v":0},{"$f":"'Order Form'!I104","v":0},{"$f":"'Order Form'!K104 & \"\"","v":""},{"$f":"'Order Form'!M104 & \"\"","v":""},{"$f":"'Order Form'!C104 & \"\"","v":""},{"$f":"'Order Form'!L104 & \"\"","v":""},{"$f":"'Order Form'!$E$12","v":"YES"},{"$f":"'Order Form'!$E$13","v":"ASAP (order with branding can take up to 3 business days to dispatch) Premium delivery recommended to guarantee delivery prior to Christmas, fees apply."},{"$f":"'Order Form'!$E$15","v":"FREE gift card"},{"$f":"'Order Form'!$E$16","v":"No thanks"},null,null,null,null,{"$f":"IF(N87=\"\",\"\",IFERROR(INDIRECT(\"Postcodes!$C\"&SUMPRODUCT(--(Postcodes!$A$2:$A$100<=N87)*(Postcodes!$B$2:$B$100>=N87), ROW(Postcodes!$A$2:$A$100))),\"WRONG CODE\"))","v":0},null,null,null,null,null,null,""]
[{"$f":"'Order Form'!A105","v":87},{"$f":"'Order Form'!N105","v":""},{"$f":"'Order Form'!$E$2","v":0},{"$f":"'Order Form'!$E$3","v":0},{"$f":"'Order Form'!$E$4","v":0},{"$f":"'Order Form'!$E$5","v":0},{"$f":"'Order Form'!$E$7","v":0},{"$f":"'Order Form'!$E$6","v":0},{"$f":"'Order Form'!$E$9","v":0},{"$f":"'Order Form'!$E$10 & \"\"","v":""},{"$f":"IF('Order Form'!D105=\"\",'Order Form'!C105,'Order Form'!D105)","v":0},{"$f":"'Order Form'!E105","v":0},{"$f":"'Order Form'!F105","v":0},{"$f":"'Order Form'!J105","v":0},{"$f":"'Order Form'!H105","v":0},{"$f":"'Order Form'!I105","v":0},{"$f":"'Order Form'!K105 & \"\"","v":""},{"$f":"'Order Form'!M105 & \"\"","v":""},{"$f":"'Order Form'!C105 & \"\"","v":""},{"$f":"'Order Form'!L105 & \"\"","v":""},{"$f":"'Order Form'!$E$12","v":"YES"},{"$f":"'Order Form'!$E$13","v":"ASAP (order with branding can take up to 3 business days to dispatch) Premium delivery recommended to guarantee delivery prior to Christmas, fees apply."},{"$f":"'Order Form'!$E$15","v":"FREE gift card"},{"$f":"'Order Form'!$E$16","v":"No thanks"},null,null,null,null,{"$f":"IF(N88=\"\",\"\",IFERROR(INDIRECT(\"Postcodes!$C\"&SUMPRODUCT(--(Postcodes!$A$2:$A$100<=N88)*(Postcodes!$B$2:$B$100>=N88), ROW(Postcodes!$A$2:$A$100))),\"WRONG CODE\"))","v":0},null,null,null,null,null,null,""]
[{"$f":"'Order Form'!A106","v":88},{"$f":"'Order Form'!N106","v":""},{"$f":"'Order Form'!$E$2","v":0},{"$f":"'Order Form'!$E$3","v":0},{"$f":"'Order Form'!$E$4","v":0},{"$f":"'Order Form'!$E$5","v":0},{"$f":"'Order Form'!$E$7","v":0},{"$f":"'Order Form'!$E$6","v":0},{"$f":"'Order Form'!$E$9","v":0},{"$f":"'Order Form'!$E$10 & \"\"","v":""},{"$f":"IF('Order Form'!D106=\"\",'Order Form'!C106,'Order Form'!D106)","v":0},{"$f":"'Order Form'!E106","v":0},{"$f":"'Order Form'!F106","v":0},{"$f":"'Order Form'!J106","v":0},{"$f":"'Order Form'!H106","v":0},{"$f":"'Order Form'!I106","v":0},{"$f":"'Order Form'!K106 & \"\"","v":""},{"$f":"'Order Form'!M106 & \"\"","v":""},{"$f":"'Order Form'!C106 & \"\"","v":""},{"$f":"'Order Form'!L106 & \"\"","v":""},{"$f":"'Order Form'!$E$12","v":"YES"},{"$f":"'Order Form'!$E$13","v":"ASAP (order with branding can take up to 3 business days to dispatch) Premium delivery recommended to guarantee delivery prior to Christmas, fees apply."},{"$f":"'Order Form'!$E$15","v":"FREE gift card"},{"$f":"'Order Form'!$E$16","v":"No thanks"},null,null,null,null,{"$f":"IF(N89=\"\",\"\",IFERROR(INDIRECT(\"Postcodes!$C\"&SUMPRODUCT(--(Postcodes!$A$2:$A$100<=N89)*(Postcodes!$B$2:$B$100>=N89), ROW(Postcodes!$A$2:$A$100))),\"WRONG CODE\"))","v":0},null,null,null,null,null,null,""]
[{"$f":"'Order Form'!A107","v":89},{"$f":"'Order Form'!N107","v":""},{"$f":"'Order Form'!$E$2","v":0},{"$f":"'Order Form'!$E$3","v":0},{"$f":"'Order Form'!$E$4","v":0},{"$f":"'Order Form'!$E$5","v":0},{"$f":"'Order Form'!$E$7","v":0},{"$f":"'Order Form'!$E$6","v":0},{"$f":"'Order Form'!$E$9","v":0},{"$f":"'Order Form'!$E$10 & \"\"","v":""},{"$f":"IF('Order Form'!D107=\"\",'Order Form'!C107,'Order Form'!D107)","v":0},{"$f":"'Order Form'!E107","v":0},{"$f":"'Order Form'!F107","v":0},{"$f":"'Order Form'!J107","v":0},{"$f":"'Order Form'!H107","v":0},{"$f":"'Order Form'!I107","v":0},{"$f":"'Order Form'!K107 & \"\"","v":""},{"$f":"'Order Form'!M107 & \"\"","v":""},{"$f":"'Order Form'!C107 & \"\"","v":""},{"$f":"'Order Form'!L107 & \"\"","v":""},{"$f":"'Order Form'!$E$12","v":"YES"},{"$f":"'Order Form'!$E$13","v":"ASAP (order with branding can take up to 3 business days to dispatch) Premium delivery recommended to guarantee delivery prior to Christmas, fees apply."},{"$f":"'Order Form'!$E$15","v":"FREE gift card"},{"$f":"'Order Form'!$E$16","v":"No thanks"},null,null,null,null,{"$f":"IF(N90=\"\",\"\",IFERROR(INDIRECT(\"Postcodes!$C\"&SUMPRODUCT(--(Postcodes!$A$2:$A$100<=N90)*(Postcodes!$B$2:$B$100>=N90), ROW(Postcodes!$A$2:$A$100))),\"WRONG CODE\"))","v":0},null,null,null,null,null,null,""]
[{"$f":"'Order Form'!A108","v":90},{"$f":"'Order Form'!N108","v":""},{"$f":"'Order Form'!$E$2","v":0},{"$f":"'Order Form'!$E$3","v":0},{"$f":"'Order Form'!$E$4","v":0},{"$f":"'Order Form'!$E$5","v":0},{"$f":"'Order Form'!$E$7","v":0},{"$f":"'Order Form'!$E$6","v":0},{"$f":"'Order Form'!$E$9","v":0},{"$f":"'Order Form'!$E$10 & \"\"","v":""},{"$f":"IF('Order Form'!D108=\"\",'Order Form'!C108,'Order Form'!D108)","v":0},{"$f":"'Order Form'!E108","v":0},{"$f":"'Order Form'!F108","v":0},{"$f":"'Order Form'!J108","v":0},{"$f":"'Order Form'!H108","v":0},{"$f":"'Order Form'!I108","v":0},{"$f":"'Order Form'!K108 & \"\"","v":""},{"$f":"'Order Form'!M108 & \"\"","v":""},{"$f":"'Order Form'!C108 & \"\"","v":""},{"$f":"'Order Form'!L108 & \"\"","v":""},{"$f":"'Order Form'!$E$12","v":"YES"},{"$f":"'Order Form'!$E$13","v":"ASAP (order with branding can take up to 3 business days to dispatch) Premium delivery recommended to guarantee delivery prior to Christmas, fees apply."},{"$f":"'Order Form'!$E$15","v":"FREE gift card"},{"$f":"'Order Form'!$E$16","v":"No thanks"},null,null,null,null,{"$f":"IF(N91=\"\",\"\",IFERROR(INDIRECT(\"Postcodes!$C\"&SUMPRODUCT(--(Postcodes!$A$2:$A$100<=N91)*(Postcodes!$B$2:$B$100>=N91), ROW(Postcodes!$A$2:$A$100))),\"WRONG CODE\"))","v":0},null,null,null,null,null,null,""]
[{"$f":"'Order Form'!A109","v":91},{"$f":"'Order Form'!N109","v":""},{"$f":"'Order Form'!$E$2","v":0},{"$f":"'Order Form'!$E$3","v":0},{"$f":"'Order Form'!$E$4","v":0},{"$f":"'Order Form'!$E$5","v":0},{"$f":"'Order Form'!$E$7","v":0},{"$f":"'Order Form'!$E$6","v":0},{"$f":"'Order Form'!$E$9","v":0},{"$f":"'Order Form'!$E$10 & \"\"","v":""},{"$f":"IF('Order Form'!D109=\"\",'Order Form'!C109,'Order Form'!D109)","v":0},{"$f":"'Order Form'!E109","v":0},{"$f":"'Order Form'!F109","v":0},{"$f":"'Order Form'!J109","v":0},{"$f":"'Order Form'!H109","v":0},{"$f":"'Order Form'!I109","v":0},{"$f":"'Order Form'!K109 & \"\"","v":""},{"$f":"'Order Form'!M109 & \"\"","v":""},{"$f":"'Order Form'!C109 & \"\"","v":""},{"$f":"'Order Form'!L109 & \"\"","v":""},{"$f":"'Order Form'!$E$12","v":"YES"},{"$f":"'Order Form'!$E$13","v":"ASAP (order with branding can take up to 3 business days to dispatch) Premium delivery recommended to guarantee delivery prior to Christmas, fees apply."},{"$f":"'Order Form'!$E$15","v":"FREE gift card"},{"$f":"'Order Form'!$E$16","v":"No thanks"},null,null,null,null,{"$f":"IF(N92=\"\",\"\",IFERROR(INDIRECT(\"Postcodes!$C\"&SUMPRODUCT(--(Postcodes!$A$2:$A$100<=N92)*(Postcodes!$B$2:$B$100>=N92), ROW(Postcodes!$A$2:$A$100))),\"WRONG CODE\"))","v":0},null,null,null,null,null,null,""]
[{"$f":"'Order Form'!A110","v":92},{"$f":"'Order Form'!N110","v":""},{"$f":"'Order Form'!$E$2","v":0},{"$f":"'Order Form'!$E$3","v":0},{"$f":"'Order Form'!$E$4","v":0},{"$f":"'Order Form'!$E$5","v":0},{"$f":"'Order Form'!$E$7","v":0},{"$f":"'Order Form'!$E$6","v":0},{"$f":"'Order Form'!$E$9","v":0},{"$f":"'Order Form'!$E$10 & \"\"","v":""},{"$f":"IF('Order Form'!D110=\"\",'Order Form'!C110,'Order Form'!D110)","v":0},{"$f":"'Order Form'!E110","v":0},{"$f":"'Order Form'!F110","v":0},{"$f":"'Order Form'!J110","v":0},{"$f":"'Order Form'!H110","v":0},{"$f":"'Order Form'!I110","v":0},{"$f":"'Order Form'!K110 & \"\"","v":""},{"$f":"'Order Form'!M110 & \"\"","v":""},{"$f":"'Order Form'!C110 & \"\"","v":""},{"$f":"'Order Form'!L110 & \"\"","v":""},{"$f":"'Order Form'!$E$12","v":"YES"},{"$f":"'Order Form'!$E$13","v":"ASAP (order with branding can take up to 3 business days to dispatch) Premium delivery recommended to guarantee delivery prior to Christmas, fees apply."},{"$f":"'Order Form'!$E$15","v":"FREE gift card"},{"$f":"'Order Form'!$E$16","v":"No thanks"},null,null,null,null,{"$f":"IF(N93=\"\",\"\",IFERROR(INDIRECT(\"Postcodes!$C\"&SUMPRODUCT(--(Postcodes!$A$2:$A$100<=N93)*(Postcodes!$B$2:$B$100>=N93), ROW(Postcodes!$A$2:$A$100))),\"WRONG CODE\"))","v":0},null,null,null,null,null,null,""]
[{"$f":"'Order Form'!A111","v":93},{"$f":"'Order Form'!N111","v":""},{"$f":"'Order Form'!$E$2","v":0},{"$f":"'Order Form'!$E$3","v":0},{"$f":"'Order Form'!$E$4","v":0},{"$f":"'Order Form'!$E$5","v":0},{"$f":"'Order Form'!$E$7","v":0},{"$f":"'Order Form'!$E$6","v":0},{"$f":"'Order Form'!$E$9","v":0},{"$f":"'Order Form'!$E$10 & \"\"","v":""},{"$f":"IF('Order Form'!D111=\"\",'Order Form'!C111,'Order Form'!D111)","v":0},{"$f":"'Order Form'!E111","v":0},{"$f":"'Order Form'!F111","v":0},{"$f":"'Order Form'!J111","v":0},{"$f":"'Order Form'!H111","v":0},{"$f":"'Order Form'!I111","v":0},{"$f":"'Order Form'!K111 & \"\"","v":""},{"$f":"'Order Form'!M111 & \"\"","v":""},{"$f":"'Order Form'!C111 & \"\"","v":""},{"$f":"'Order Form'!L111 & \"\"","v":""},{"$f":"'Order Form'!$E$12","v":"YES"},{"$f":"'Order Form'!$E$13","v":"ASAP (order with branding can take up to 3 business days to dispatch) Premium delivery recommended to guarantee delivery prior to Christmas, fees apply."},{"$f":"'Order Form'!$E$15","v":"FREE gift card"},{"$f":"'Order Form'!$E$16","v":"No thanks"},null,null,null,null,{"$f":"IF(N94=\"\",\"\",IFERROR(INDIRECT(\"Postcodes!$C\"&SUMPRODUCT(--(Postcodes!$A$2:$A$100<=N94)*(Postcodes!$B$2:$B$100>=N94), ROW(Postcodes!$A$2:$A$100))),\"WRONG CODE\"))","v":0},null,null,null,null,null,null,""]
[{"$f":"'Order Form'!A112","v":94},{"$f":"'Order Form'!N112","v":""},{"$f":"'Order Form'!$E$2","v":0},{"$f":"'Order Form'!$E$3","v":0},{"$f":"'Order Form'!$E$4","v":0},{"$f":"'Order Form'!$E$5","v":0},{"$f":"'Order Form'!$E$7","v":0},{"$f":"'Order Form'!$E$6","v":0},{"$f":"'Order Form'!$E$9","v":0},{"$f":"'Order Form'!$E$10 & \"\"","v":""},{"$f":"IF('Order Form'!D112=\"\",'Order Form'!C112,'Order Form'!D112)","v":0},{"$f":"'Order Form'!E112","v":0},{"$f":"'Order Form'!F112","v":0},{"$f":"'Order Form'!J112","v":0},{"$f":"'Order Form'!H112","v":0},{"$f":"'Order Form'!I112","v":0},{"$f":"'Order Form'!K112 & \"\"","v":""},{"$f":"'Order Form'!M112 & \"\"","v":""},{"$f":"'Order Form'!C112 & \"\"","v":""},{"$f":"'Order Form'!L112 & \"\"","v":""},{"$f":"'Order Form'!$E$12","v":"YES"},{"$f":"'Order Form'!$E$13","v":"ASAP (order with branding can take up to 3 business days to dispatch) Premium delivery recommended to guarantee delivery prior to Christmas, fees apply."},{"$f":"'Order Form'!$E$15","v":"FREE gift card"},{"$f":"'Order Form'!$E$16","v":"No thanks"},null,null,null,null,{"$f":"IF(N95=\"\",\"\",IFERROR(INDIRECT(\"Postcodes!$C\"&SUMPRODUCT(--(Postcodes!$A$2:$A$100<=N95)*(Postcodes!$B$2:$B$100>=N95), ROW(Postcodes!$A$2:$A$100))),\"WRONG CODE\"))","v":0},null,null,null,null,null,null,""]
[{"$f":"'Order Form'!A113","v":95},{"$f":"'Order Form'!N113","v":""},{"$f":"'Order Form'!$E$2","v":0},{"$f":"'Order Form'!$E$3","v":0},{"$f":"'Order Form'!$E$4","v":0},{"$f":"'Order Form'!$E$5","v":0},{"$f":"'Order Form'!$E$7","v":0},{"$f":"'Order Form'!$E$6","v":0},{"$f":"'Order Form'!$E$9","v":0},{"$f":"'Order Form'!$E$10 & \"\"","v":""},{"$f":"IF('Order Form'!D113=\"\",'Order Form'!C113,'Order Form'!D113)","v":0},{"$f":"'Order Form'!E113","v":0},{"$f":"'Order Form'!F113","v":0},{"$f":"'Order Form'!J113","v":0},{"$f":"'Order Form'!H113","v":0},{"$f":"'Order Form'!I113","v":0},{"$f":"'Order Form'!K113 & \"\"","v":""},{"$f":"'Order Form'!M113 & \"\"","v":""},{"$f":"'Order Form'!C113 & \"\"","v":""},{"$f":"'Order Form'!L113 & \"\"","v":""},{"$f":"'Order Form'!$E$12","v":"YES"},{"$f":"'Order Form'!$E$13","v":"ASAP (order with branding can take up to 3 business days to dispatch) Premium delivery recommended to guarantee delivery prior to Christmas, fees apply."},{"$f":"'Order Form'!$E$15","v":"FREE gift card"},{"$f":"'Order Form'!$E$16","v":"No thanks"},null,null,null,null,{"$f":"IF(N96=\"\",\"\",IFERROR(INDIRECT(\"Postcodes!$C\"&SUMPRODUCT(--(Postcodes!$A$2:$A$100<=N96)*(Postcodes!$B$2:$B$100>=N96), ROW(Postcodes!$A$2:$A$100))),\"WRONG CODE\"))","v":0},null,null,null,null,null,null,""]
[{"$f":"'Order Form'!A114","v":96},{"$f":"'Order Form'!N114","v":""},{"$f":"'Order Form'!$E$2","v":0},{"$f":"'Order Form'!$E$3","v":0},{"$f":"'Order Form'!$E$4","v":0},{"$f":"'Order Form'!$E$5","v":0},{"$f":"'Order Form'!$E$7","v":0},{"$f":"'Order Form'!$E$6","v":0},{"$f":"'Order Form'!$E$9","v":0},{"$f":"'Order Form'!$E$10 & \"\"","v":""},{"$f":"IF('Order Form'!D114=\"\",'Order Form'!C114,'Order Form'!D114)","v":0},{"$f":"'Order Form'!E114","v":0},{"$f":"'Order Form'!F114","v":0},{"$f":"'Order Form'!J114","v":0},{"$f":"'Order Form'!H114","v":0},{"$f":"'Order Form'!I114","v":0},{"$f":"'Order Form'!K114 & \"\"","v":""},{"$f":"'Order Form'!M114 & \"\"","v":""},{"$f":"'Order Form'!C114 & \"\"","v":""},{"$f":"'Order Form'!L114 & \"\"","v":""},{"$f":"'Order Form'!$E$12","v":"YES"},{"$f":"'Order Form'!$E$13","v":"ASAP (order with branding can take up to 3 business days to dispatch) Premium delivery recommended to guarantee delivery prior to Christmas, fees apply."},{"$f":"'Order Form'!$E$15","v":"FREE gift card"},{"$f":"'Order Form'!$E$16","v":"No thanks"},null,null,null,null,{"$f":"IF(N97=\"\",\"\",IFERROR(INDIRECT(\"Postcodes!$C\"&SUMPRODUCT(--(Postcodes!$A$2:$A$100<=N97)*(Postcodes!$B$2:$B$100>=N97), ROW(Postcodes!$A$2:$A$100))),\"WRONG CODE\"))","v":0},null,null,null,null,null,null,""]
[{"$f":"'Order Form'!A115","v":97},{"$f":"'Order Form'!N115","v":""},{"$f":"'Order Form'!$E$2","v":0},{"$f":"'Order Form'!$E$3","v":0},{"$f":"'Order Form'!$E$4","v":0},{"$f":"'Order Form'!$E$5","v":0},{"$f":"'Order Form'!$E$7","v":0},{"$f":"'Order Form'!$E$6","v":0},{"$f":"'Order Form'!$E$9","v":0},{"$f":"'Order Form'!$E$10 & \"\"","v":""},{"$f":"IF('Order Form'!D115=\"\",'Order Form'!C115,'Order Form'!D115)","v":0},{"$f":"'Order Form'!E115","v":0},{"$f":"'Order Form'!F115","v":0},{"$f":"'Order Form'!J115","v":0},{"$f":"'Order Form'!H115","v":0},{"$f":"'Order Form'!I115","v":0},{"$f":"'Order Form'!K115 & \"\"","v":""},{"$f":"'Order Form'!M115 & \"\"","v":""},{"$f":"'Order Form'!C115 & \"\"","v":""},{"$f":"'Order Form'!L115 & \"\"","v":""},{"$f":"'Order Form'!$E$12","v":"YES"},{"$f":"'Order Form'!$E$13","v":"ASAP (order with branding can take up to 3 business days to dispatch) Premium delivery recommended to guarantee delivery prior to Christmas, fees apply."},{"$f":"'Order Form'!$E$15","v":"FREE gift card"},{"$f":"'Order Form'!$E$16","v":"No thanks"},null,null,null,null,{"$f":"IF(N98=\"\",\"\",IFERROR(INDIRECT(\"Postcodes!$C\"&SUMPRODUCT(--(Postcodes!$A$2:$A$100<=N98)*(Postcodes!$B$2:$B$100>=N98), ROW(Postcodes!$A$2:$A$100))),\"WRONG CODE\"))","v":0},null,null,null,null,null,null,""]
[{"$f":"'Order Form'!A116","v":98},{"$f":"'Order Form'!N116","v":""},{"$f":"'Order Form'!$E$2","v":0},{"$f":"'Order Form'!$E$3","v":0},{"$f":"'Order Form'!$E$4","v":0},{"$f":"'Order Form'!$E$5","v":0},{"$f":"'Order Form'!$E$7","v":0},{"$f":"'Order Form'!$E$6","v":0},{"$f":"'Order Form'!$E$9","v":0},{"$f":"'Order Form'!$E$10 & \"\"","v":""},{"$f":"IF('Order Form'!D116=\"\",'Order Form'!C116,'Order Form'!D116)","v":0},{"$f":"'Order Form'!E116","v":0},{"$f":"'Order Form'!F116","v":0},{"$f":"'Order Form'!J116","v":0},{"$f":"'Order Form'!H116","v":0},{"$f":"'Order Form'!I116","v":0},{"$f":"'Order Form'!K116 & \"\"","v":""},{"$f":"'Order Form'!M116 & \"\"","v":""},{"$f":"'Order Form'!C116 & \"\"","v":""},{"$f":"'Order Form'!L116 & \"\"","v":""},{"$f":"'Order Form'!$E$12","v":"YES"},{"$f":"'Order Form'!$E$13","v":"ASAP (order with branding can take up to 3 business days to dispatch) Premium delivery recommended to guarantee delivery prior to Christmas, fees apply."},{"$f":"'Order Form'!$E$15","v":"FREE gift card"},{"$f":"'Order Form'!$E$16","v":"No thanks"},null,null,null,null,{"$f":"IF(N99=\"\",\"\",IFERROR(INDIRECT(\"Postcodes!$C\"&SUMPRODUCT(--(Postcodes!$A$2:$A$100<=N99)*(Postcodes!$B$2:$B$100>=N99), ROW(Postcodes!$A$2:$A$100))),\"WRONG CODE\"))","v":0},null,null,null,null,null,null,""]
[{"$f":"'Order Form'!A117","v":99},{"$f":"'Order Form'!N117","v":""},{"$f":"'Order Form'!$E$2","v":0},{"$f":"'Order Form'!$E$3","v":0},{"$f":"'Order Form'!$E$4","v":0},{"$f":"'Order Form'!$E$5","v":0},{"$f":"'Order Form'!$E$7","v":0},{"$f":"'Order Form'!$E$6","v":0},{"$f":"'Order Form'!$E$9","v":0},{"$f":"'Order Form'!$E$10 & \"\"","v":""},{"$f":"IF('Order Form'!D117=\"\",'Order Form'!C117,'Order Form'!D117)","v":0},{"$f":"'Order Form'!E117","v":0},{"$f":"'Order Form'!F117","v":0},{"$f":"'Order Form'!J117","v":0},{"$f":"'Order Form'!H117","v":0},{"$f":"'Order Form'!I117","v":0},{"$f":"'Order Form'!K117 & \"\"","v":""},{"$f":"'Order Form'!M117 & \"\"","v":""},{"$f":"'Order Form'!C117 & \"\"","v":""},{"$f":"'Order Form'!L117 & \"\"","v":""},{"$f":"'Order Form'!$E$12","v":"YES"},{"$f":"'Order Form'!$E$13","v":"ASAP (order with branding can take up to 3 business days to dispatch) Premium delivery recommended to guarantee delivery prior to Christmas, fees apply."},{"$f":"'Order Form'!$E$15","v":"FREE gift card"},{"$f":"'Order Form'!$E$16","v":"No thanks"},null,null,null,null,{"$f":"IF(N100=\"\",\"\",IFERROR(INDIRECT(\"Postcodes!$C\"&SUMPRODUCT(--(Postcodes!$A$2:$A$100<=N100)*(Postcodes!$B$2:$B$100>=N100), ROW(Postcodes!$A$2:$A$100))),\"WRONG CODE\"))","v":0},null,null,null,null,null,null,""]
[{"$f":"'Order Form'!A118","v":100},{"$f":"'Order Form'!N118","v":""},{"$f":"'Order Form'!$E$2","v":0},{"$f":"'Order Form'!$E$3","v":0},{"$f":"'Order Form'!$E$4","v":0},{"$f":"'Order Form'!$E$5","v":0},{"$f":"'Order Form'!$E$7","v":0},{"$f":"'Order Form'!$E$6","v":0},{"$f":"'Order Form'!$E$9","v":0},{"$f":"'Order Form'!$E$10 & \"\"","v":""},{"$f":"IF('Order Form'!D118=\"\",'Order Form'!C118,'Order Form'!D118)","v":0},{"$f":"'Order Form'!E118","v":0},{"$f":"'Order Form'!F118","v":0},{"$f":"'Order Form'!J118","v":0},{"$f":"'Order Form'!H118","v":0},{"$f":"'Order Form'!I118","v":0},{"$f":"'Order Form'!K118 & \"\"","v":""},{"$f":"'Order Form'!M118 & \"\"","v":""},{"$f":"'Order Form'!C118 & \"\"","v":""},{"$f":"'Order Form'!L118 & \"\"","v":""},{"$f":"'Order Form'!$E$12","v":"YES"},{"$f":"'Order Form'!$E$13","v":"ASAP (order with branding can take up to 3 business days to dispatch) Premium delivery recommended to guarantee delivery prior to Christmas, fees apply."},{"$f":"'Order Form'!$E$15","v":"FREE gift card"},{"$f":"'Order Form'!$E$16","v":"No thanks"},null,null,null,null,{"$f":"IF(N101=\"\",\"\",IFERROR(INDIRECT(\"Postcodes!$C\"&SUMPRODUCT(--(Postcodes!$A$2:$A$100<=N101)*(Postcodes!$B$2:$B$100>=N101), ROW(Postcodes!$A$2:$A$100))),\"WRONG CODE\"))","v":0},null,null,null,null,null,null,""]
[{"$f":"'Order Form'!A119","v":101},{"$f":"'Order Form'!N119","v":""},{"$f":"'Order Form'!$E$2","v":0},{"$f":"'Order Form'!$E$3","v":0},{"$f":"'Order Form'!$E$4","v":0},{"$f":"'Order Form'!$E$5","v":0},{"$f":"'Order Form'!$E$7","v":0},{"$f":"'Order Form'!$E$6","v":0},{"$f":"'Order Form'!$E$9","v":0},{"$f":"'Order Form'!$E$10 & \"\"","v":""},{"$f":"IF('Order Form'!D119=\"\",'Order Form'!C119,'Order Form'!D119)","v":0},{"$f":"'Order Form'!E119","v":0},{"$f":"'Order Form'!F119","v":0},{"$f":"'Order Form'!J119","v":0},{"$f":"'Order Form'!H119","v":0},{"$f":"'Order Form'!I119","v":0},{"$f":"'Order Form'!K119 & \"\"","v":""},{"$f":"'Order Form'!M119 & \"\"","v":""},{"$f":"'Order Form'!C119 & \"\"","v":""},{"$f":"'Order Form'!L119 & \"\"","v":""},{"$f":"'Order Form'!$E$12","v":"YES"},{"$f":"'Order Form'!$E$13","v":"ASAP (order with branding can take up to 3 business days to dispatch) Premium delivery recommended to guarantee delivery prior to Christmas, fees apply."},{"$f":"'Order Form'!$E$15","v":"FREE gift card"},{"$f":"'Order Form'!$E$16","v":"No thanks"},null,null,null,null,{"$f":"IF(N102=\"\",\"\",IFERROR(INDIRECT(\"Postcodes!$C\"&SUMPRODUCT(--(Postcodes!$A$2:$A$100<=N102)*(Postcodes!$B$2:$B$100>=N102), ROW(Postcodes!$A$2:$A$100))),\"WRONG CODE\"))","v":0},null,null,null,null,null,null,""]
[{"$f":"'Order Form'!A120","v":102},{"$f":"'Order Form'!N120","v":""},{"$f":"'Order Form'!$E$2","v":0},{"$f":"'Order Form'!$E$3","v":0},{"$f":"'Order Form'!$E$4","v":0},{"$f":"'Order Form'!$E$5","v":0},{"$f":"'Order Form'!$E$7","v":0},{"$f":"'Order Form'!$E$6","v":0},{"$f":"'Order Form'!$E$9","v":0},{"$f":"'Order Form'!$E$10 & \"\"","v":""},{"$f":"IF('Order Form'!D120=\"\",'Order Form'!C120,'Order Form'!D120)","v":0},{"$f":"'Order Form'!E120","v":0},{"$f":"'Order Form'!F120","v":0},{"$f":"'Order Form'!J120","v":0},{"$f":"'Order Form'!H120","v":0},{"$f":"'Order Form'!I120","v":0},{"$f":"'Order Form'!K120 & \"\"","v":""},{"$f":"'Order Form'!M120 & \"\"","v":""},{"$f":"'Order Form'!C120 & \"\"","v":""},{"$f":"'Order Form'!L120 & \"\"","v":""},{"$f":"'Order Form'!$E$12","v":"YES"},{"$f":"'Order Form'!$E$13","v":"ASAP (order with branding can take up to 3 business days to dispatch) Premium delivery recommended to guarantee delivery prior to Christmas, fees apply."},{"$f":"'Order Form'!$E$15","v":"FREE gift card"},{"$f":"'Order Form'!$E$16","v":"No thanks"},null,null,null,null,{"$f":"IF(N103=\"\",\"\",IFERROR(INDIRECT(\"Postcodes!$C\"&SUMPRODUCT(--(Postcodes!$A$2:$A$100<=N103)*(Postcodes!$B$2:$B$100>=N103), ROW(Postcodes!$A$2:$A$100))),\"WRONG CODE\"))","v":0},null,null,null,null,null,null,""]
[{"$f":"'Order Form'!A121","v":103},{"$f":"'Order Form'!N121","v":""},{"$f":"'Order Form'!$E$2","v":0},{"$f":"'Order Form'!$E$3","v":0},{"$f":"'Order Form'!$E$4","v":0},{"$f":"'Order Form'!$E$5","v":0},{"$f":"'Order Form'!$E$7","v":0},{"$f":"'Order Form'!$E$6","v":0},{"$f":"'Order Form'!$E$9","v":0},{"$f":"'Order Form'!$E$10 & \"\"","v":""},{"$f":"IF('Order Form'!D121=\"\",'Order Form'!C121,'Order Form'!D121)","v":0},{"$f":"'Order Form'!E121","v":0},{"$f":"'Order Form'!F121","v":0},{"$f":"'Order Form'!J121","v":0},{"$f":"'Order Form'!H121","v":0},{"$f":"'Order Form'!I121","v":0},{"$f":"'Order Form'!K121 & \"\"","v":""},{"$f":"'Order Form'!M121 & \"\"","v":""},{"$f":"'Order Form'!C121 & \"\"","v":""},{"$f":"'Order Form'!L121 & \"\"","v":""},{"$f":"'Order Form'!$E$12","v":"YES"},{"$f":"'Order Form'!$E$13","v":"ASAP (order with branding can take up to 3 business days to dispatch) Premium delivery recommended to guarantee delivery prior to Christmas, fees apply."},{"$f":"'Order Form'!$E$15","v":"FREE gift card"},{"$f":"'Order Form'!$E$16","v":"No thanks"},null,null,null,null,{"$f":"IF(N104=\"\",\"\",IFERROR(INDIRECT(\"Postcodes!$C\"&SUMPRODUCT(--(Postcodes!$A$2:$A$100<=N104)*(Postcodes!$B$2:$B$100>=N104), ROW(Postcodes!$A$2:$A$100))),\"WRONG CODE\"))","v":0},null,null,null,null,null,null,""]
[{"$f":"'Order Form'!A122","v":104},{"$f":"'Order Form'!N122","v":""},{"$f":"'Order Form'!$E$2","v":0},{"$f":"'Order Form'!$E$3","v":0},{"$f":"'Order Form'!$E$4","v":0},{"$f":"'Order Form'!$E$5","v":0},{"$f":"'Order Form'!$E$7","v":0},{"$f":"'Order Form'!$E$6","v":0},{"$f":"'Order Form'!$E$9","v":0},{"$f":"'Order Form'!$E$10 & \"\"","v":""},{"$f":"IF('Order Form'!D122=\"\",'Order Form'!C122,'Order Form'!D122)","v":0},{"$f":"'Order Form'!E122","v":0},{"$f":"'Order Form'!F122","v":0},{"$f":"'Order Form'!J122","v":0},{"$f":"'Order Form'!H122","v":0},{"$f":"'Order Form'!I122","v":0},{"$f":"'Order Form'!K122 & \"\"","v":""},{"$f":"'Order Form'!M122 & \"\"","v":""},{"$f":"'Order Form'!C122 & \"\"","v":""},{"$f":"'Order Form'!L122 & \"\"","v":""},{"$f":"'Order Form'!$E$12","v":"YES"},{"$f":"'Order Form'!$E$13","v":"ASAP (order with branding can take up to 3 business days to dispatch) Premium delivery recommended to guarantee delivery prior to Christmas, fees apply."},{"$f":"'Order Form'!$E$15","v":"FREE gift card"},{"$f":"'Order Form'!$E$16","v":"No thanks"},null,null,null,null,{"$f":"IF(N105=\"\",\"\",IFERROR(INDIRECT(\"Postcodes!$C\"&SUMPRODUCT(--(Postcodes!$A$2:$A$100<=N105)*(Postcodes!$B$2:$B$100>=N105), ROW(Postcodes!$A$2:$A$100))),\"WRONG CODE\"))","v":0},null,null,null,null,null,null,""]
[{"$f":"'Order Form'!A123","v":105},{"$f":"'Order Form'!N123","v":""},{"$f":"'Order Form'!$E$2","v":0},{"$f":"'Order Form'!$E$3","v":0},{"$f":"'Order Form'!$E$4","v":0},{"$f":"'Order Form'!$E$5","v":0},{"$f":"'Order Form'!$E$7","v":0},{"$f":"'Order Form'!$E$6","v":0},{"$f":"'Order Form'!$E$9","v":0},{"$f":"'Order Form'!$E$10 & \"\"","v":""},{"$f":"IF('Order Form'!D123=\"\",'Order Form'!C123,'Order Form'!D123)","v":0},{"$f":"'Order Form'!E123","v":0},{"$f":"'Order Form'!F123","v":0},{"$f":"'Order Form'!J123","v":0},{"$f":"'Order Form'!H123","v":0},{"$f":"'Order Form'!I123","v":0},{"$f":"'Order Form'!K123 & \"\"","v":""},{"$f":"'Order Form'!M123 & \"\"","v":""},{"$f":"'Order Form'!C123 & \"\"","v":""},{"$f":"'Order Form'!L123 & \"\"","v":""},{"$f":"'Order Form'!$E$12","v":"YES"},{"$f":"'Order Form'!$E$13","v":"ASAP (order with branding can take up to 3 business days to dispatch) Premium delivery recommended to guarantee delivery prior to Christmas, fees apply."},{"$f":"'Order Form'!$E$15","v":"FREE gift card"},{"$f":"'Order Form'!$E$16","v":"No thanks"},null,null,null,null,{"$f":"IF(N106=\"\",\"\",IFERROR(INDIRECT(\"Postcodes!$C\"&SUMPRODUCT(--(Postcodes!$A$2:$A$100<=N106)*(Postcodes!$B$2:$B$100>=N106), ROW(Postcodes!$A$2:$A$100))),\"WRONG CODE\"))","v":0},null,null,null,null,null,null,""]
[{"$f":"'Order Form'!A124","v":106},{"$f":"'Order Form'!N124","v":""},{"$f":"'Order Form'!$E$2","v":0},{"$f":"'Order Form'!$E$3","v":0},{"$f":"'Order Form'!$E$4","v":0},{"$f":"'Order Form'!$E$5","v":0},{"$f":"'Order Form'!$E$7","v":0},{"$f":"'Order Form'!$E$6","v":0},{"$f":"'Order Form'!$E$9","v":0},{"$f":"'Order Form'!$E$10 & \"\"","v":""},{"$f":"IF('Order Form'!D124=\"\",'Order Form'!C124,'Order Form'!D124)","v":0},{"$f":"'Order Form'!E124","v":0},{"$f":"'Order Form'!F124","v":0},{"$f":"'Order Form'!J124","v":0},{"$f":"'Order Form'!H124","v":0},{"$f":"'Order Form'!I124","v":0},{"$f":"'Order Form'!K124 & \"\"","v":""},{"$f":"'Order Form'!M124 & \"\"","v":""},{"$f":"'Order Form'!C124 & \"\"","v":""},{"$f":"'Order Form'!L124 & \"\"","v":""},{"$f":"'Order Form'!$E$12","v":"YES"},{"$f":"'Order Form'!$E$13","v":"ASAP (order with branding can take up to 3 business days to dispatch) Premium delivery recommended to guarantee delivery prior to Christmas, fees apply."},{"$f":"'Order Form'!$E$15","v":"FREE gift card"},{"$f":"'Order Form'!$E$16","v":"No thanks"},null,null,null,null,{"$f":"IF(N107=\"\",\"\",IFERROR(INDIRECT(\"Postcodes!$C\"&SUMPRODUCT(--(Postcodes!$A$2:$A$100<=N107)*(Postcodes!$B$2:$B$100>=N107), ROW(Postcodes!$A$2:$A$100))),\"WRONG CODE\"))","v":0},null,null,null,null,null,null,""]
[{"$f":"'Order Form'!A125","v":107},{"$f":"'Order Form'!N125","v":""},{"$f":"'Order Form'!$E$2","v":0},{"$f":"'Order Form'!$E$3","v":0},{"$f":"'Order Form'!$E$4","v":0},{"$f":"'Order Form'!$E$5","v":0},{"$f":"'Order Form'!$E$7","v":0},{"$f":"'Order Form'!$E$6","v":0},{"$f":"'Order Form'!$E$9","v":0},{"$f":"'Order Form'!$E$10 & \"\"","v":""},{"$f":"IF('Order Form'!D125=\"\",'Order Form'!C125,'Order Form'!D125)","v":0},{"$f":"'Order Form'!E125","v":0},{"$f":"'Order Form'!F125","v":0},{"$f":"'Order Form'!J125","v":0},{"$f":"'Order Form'!H125","v":0},{"$f":"'Order Form'!I125","v":0},{"$f":"'Order Form'!K125 & \"\"","v":""},{"$f":"'Order Form'!M125 & \"\"","v":""},{"$f":"'Order Form'!C125 & \"\"","v":""},{"$f":"'Order Form'!L125 & \"\"","v":""},{"$f":"'Order Form'!$E$12","v":"YES"},{"$f":"'Order Form'!$E$13","v":"ASAP (order with branding can take up to 3 business days to dispatch) Premium delivery recommended to guarantee delivery prior to Christmas, fees apply."},{"$f":"'Order Form'!$E$15","v":"FREE gift card"},{"$f":"'Order Form'!$E$16","v":"No thanks"},null,null,null,null,{"$f":"IF(N108=\"\",\"\",IFERROR(INDIRECT(\"Postcodes!$C\"&SUMPRODUCT(--(Postcodes!$A$2:$A$100<=N108)*(Postcodes!$B$2:$B$100>=N108), ROW(Postcodes!$A$2:$A$100))),\"WRONG CODE\"))","v":0},null,null,null,null,null,null,""]
[{"$f":"'Order Form'!A126","v":108},{"$f":"'Order Form'!N126","v":""},{"$f":"'Order Form'!$E$2","v":0},{"$f":"'Order Form'!$E$3","v":0},{"$f":"'Order Form'!$E$4","v":0},{"$f":"'Order Form'!$E$5","v":0},{"$f":"'Order Form'!$E$7","v":0},{"$f":"'Order Form'!$E$6","v":0},{"$f":"'Order Form'!$E$9","v":0},{"$f":"'Order Form'!$E$10 & \"\"","v":""},{"$f":"IF('Order Form'!D126=\"\",'Order Form'!C126,'Order Form'!D126)","v":0},{"$f":"'Order Form'!E126","v":0},{"$f":"'Order Form'!F126","v":0},{"$f":"'Order Form'!J126","v":0},{"$f":"'Order Form'!H126","v":0},{"$f":"'Order Form'!I126","v":0},{"$f":"'Order Form'!K126 & \"\"","v":""},{"$f":"'Order Form'!M126 & \"\"","v":""},{"$f":"'Order Form'!C126 & \"\"","v":""},{"$f":"'Order Form'!L126 & \"\"","v":""},{"$f":"'Order Form'!$E$12","v":"YES"},{"$f":"'Order Form'!$E$13","v":"ASAP (order with branding can take up to 3 business days to dispatch) Premium delivery recommended to guarantee delivery prior to Christmas, fees apply."},{"$f":"'Order Form'!$E$15","v":"FREE gift card"},{"$f":"'Order Form'!$E$16","v":"No thanks"},null,null,null,null,{"$f":"IF(N109=\"\",\"\",IFERROR(INDIRECT(\"Postcodes!$C\"&SUMPRODUCT(--(Postcodes!$A$2:$A$100<=N109)*(Postcodes!$B$2:$B$100>=N109), ROW(Postcodes!$A$2:$A$100))),\"WRONG CODE\"))","v":0},null,null,null,null,null,null,""]
[{"$f":"'Order Form'!A127","v":109},{"$f":"'Order Form'!N127","v":""},{"$f":"'Order Form'!$E$2","v":0},{"$f":"'Order Form'!$E$3","v":0},{"$f":"'Order Form'!$E$4","v":0},{"$f":"'Order Form'!$E$5","v":0},{"$f":"'Order Form'!$E$7","v":0},{"$f":"'Order Form'!$E$6","v":0},{"$f":"'Order Form'!$E$9","v":0},{"$f":"'Order Form'!$E$10 & \"\"","v":""},{"$f":"IF('Order Form'!D127=\"\",'Order Form'!C127,'Order Form'!D127)","v":0},{"$f":"'Order Form'!E127","v":0},{"$f":"'Order Form'!F127","v":0},{"$f":"'Order Form'!J127","v":0},{"$f":"'Order Form'!H127","v":0},{"$f":"'Order Form'!I127","v":0},{"$f":"'Order Form'!K127 & \"\"","v":""},{"$f":"'Order Form'!M127 & \"\"","v":""},{"$f":"'Order Form'!C127 & \"\"","v":""},{"$f":"'Order Form'!L127 & \"\"","v":""},{"$f":"'Order Form'!$E$12","v":"YES"},{"$f":"'Order Form'!$E$13","v":"ASAP (order with branding can take up to 3 business days to dispatch) Premium delivery recommended to guarantee delivery prior to Christmas, fees apply."},{"$f":"'Order Form'!$E$15","v":"FREE gift card"},{"$f":"'Order Form'!$E$16","v":"No thanks"},null,null,null,null,{"$f":"IF(N110=\"\",\"\",IFERROR(INDIRECT(\"Postcodes!$C\"&SUMPRODUCT(--(Postcodes!$A$2:$A$100<=N110)*(Postcodes!$B$2:$B$100>=N110), ROW(Postcodes!$A$2:$A$100))),\"WRONG CODE\"))","v":0},null,null,null,null,null,null,""]
[{"$f":"'Order Form'!A128","v":110},{"$f":"'Order Form'!N128","v":""},{"$f":"'Order Form'!$E$2","v":0},{"$f":"'Order Form'!$E$3","v":0},{"$f":"'Order Form'!$E$4","v":0},{"$f":"'Order Form'!$E$5","v":0},{"$f":"'Order Form'!$E$7","v":0},{"$f":"'Order Form'!$E$6","v":0},{"$f":"'Order Form'!$E$9","v":0},{"$f":"'Order Form'!$E$10 & \"\"","v":""},{"$f":"IF('Order Form'!D128=\"\",'Order Form'!C128,'Order Form'!D128)","v":0},{"$f":"'Order Form'!E128","v":0},{"$f":"'Order Form'!F128","v":0},{"$f":"'Order Form'!J128","v":0},{"$f":"'Order Form'!H128","v":0},{"$f":"'Order Form'!I128","v":0},{"$f":"'Order Form'!K128 & \"\"","v":""},{"$f":"'Order Form'!M128 & \"\"","v":""},{"$f":"'Order Form'!C128 & \"\"","v":""},{"$f":"'Order Form'!L128 & \"\"","v":""},{"$f":"'Order Form'!$E$12","v":"YES"},{"$f":"'Order Form'!$E$13","v":"ASAP (order with branding can take up to 3 business days to dispatch) Premium delivery recommended to guarantee delivery prior to Christmas, fees apply."},{"$f":"'Order Form'!$E$15","v":"FREE gift card"},{"$f":"'Order Form'!$E$16","v":"No thanks"},null,null,null,null,{"$f":"IF(N111=\"\",\"\",IFERROR(INDIRECT(\"Postcodes!$C\"&SUMPRODUCT(--(Postcodes!$A$2:$A$100<=N111)*(Postcodes!$B$2:$B$100>=N111), ROW(Postcodes!$A$2:$A$100))),\"WRONG CODE\"))","v":0},null,null,null,null,null,null,""]
[{"$f":"'Order Form'!A129","v":111},{"$f":"'Order Form'!N129","v":""},{"$f":"'Order Form'!$E$2","v":0},{"$f":"'Order Form'!$E$3","v":0},{"$f":"'Order Form'!$E$4","v":0},{"$f":"'Order Form'!$E$5","v":0},{"$f":"'Order Form'!$E$7","v":0},{"$f":"'Order Form'!$E$6","v":0},{"$f":"'Order Form'!$E$9","v":0},{"$f":"'Order Form'!$E$10 & \"\"","v":""},{"$f":"IF('Order Form'!D129=\"\",'Order Form'!C129,'Order Form'!D129)","v":0},{"$f":"'Order Form'!E129","v":0},{"$f":"'Order Form'!F129","v":0},{"$f":"'Order Form'!J129","v":0},{"$f":"'Order Form'!H129","v":0},{"$f":"'Order Form'!I129","v":0},{"$f":"'Order Form'!K129 & \"\"","v":""},{"$f":"'Order Form'!M129 & \"\"","v":""},{"$f":"'Order Form'!C129 & \"\"","v":""},{"$f":"'Order Form'!L129 & \"\"","v":""},{"$f":"'Order Form'!$E$12","v":"YES"},{"$f":"'Order Form'!$E$13","v":"ASAP (order with branding can take up to 3 business days to dispatch) Premium delivery recommended to guarantee delivery prior to Christmas, fees apply."},{"$f":"'Order Form'!$E$15","v":"FREE gift card"},{"$f":"'Order Form'!$E$16","v":"No thanks"},null,null,null,null,{"$f":"IF(N112=\"\",\"\",IFERROR(INDIRECT(\"Postcodes!$C\"&SUMPRODUCT(--(Postcodes!$A$2:$A$100<=N112)*(Postcodes!$B$2:$B$100>=N112), ROW(Postcodes!$A$2:$A$100))),\"WRONG CODE\"))","v":0},null,null,null,null,null,null,""]
[{"$f":"'Order Form'!A130","v":112},{"$f":"'Order Form'!N130","v":""},{"$f":"'Order Form'!$E$2","v":0},{"$f":"'Order Form'!$E$3","v":0},{"$f":"'Order Form'!$E$4","v":0},{"$f":"'Order Form'!$E$5","v":0},{"$f":"'Order Form'!$E$7","v":0},{"$f":"'Order Form'!$E$6","v":0},{"$f":"'Order Form'!$E$9","v":0},{"$f":"'Order Form'!$E$10 & \"\"","v":""},{"$f":"IF('Order Form'!D130=\"\",'Order Form'!C130,'Order Form'!D130)","v":0},{"$f":"'Order Form'!E130","v":0},{"$f":"'Order Form'!F130","v":0},{"$f":"'Order Form'!J130","v":0},{"$f":"'Order Form'!H130","v":0},{"$f":"'Order Form'!I130","v":0},{"$f":"'Order Form'!K130 & \"\"","v":""},{"$f":"'Order Form'!M130 & \"\"","v":""},{"$f":"'Order Form'!C130 & \"\"","v":""},{"$f":"'Order Form'!L130 & \"\"","v":""},{"$f":"'Order Form'!$E$12","v":"YES"},{"$f":"'Order Form'!$E$13","v":"ASAP (order with branding can take up to 3 business days to dispatch) Premium delivery recommended to guarantee delivery prior to Christmas, fees apply."},{"$f":"'Order Form'!$E$15","v":"FREE gift card"},{"$f":"'Order Form'!$E$16","v":"No thanks"},null,null,null,null,{"$f":"IF(N113=\"\",\"\",IFERROR(INDIRECT(\"Postcodes!$C\"&SUMPRODUCT(--(Postcodes!$A$2:$A$100<=N113)*(Postcodes!$B$2:$B$100>=N113), ROW(Postcodes!$A$2:$A$100))),\"WRONG CODE\"))","v":0},null,null,null,null,null,null,""]
[{"$f":"'Order Form'!A131","v":113},{"$f":"'Order Form'!N131","v":""},{"$f":"'Order Form'!$E$2","v":0},{"$f":"'Order Form'!$E$3","v":0},{"$f":"'Order Form'!$E$4","v":0},{"$f":"'Order Form'!$E$5","v":0},{"$f":"'Order Form'!$E$7","v":0},{"$f":"'Order Form'!$E$6","v":0},{"$f":"'Order Form'!$E$9","v":0},{"$f":"'Order Form'!$E$10 & \"\"","v":""},{"$f":"IF('Order Form'!D131=\"\",'Order Form'!C131,'Order Form'!D131)","v":0},{"$f":"'Order Form'!E131","v":0},{"$f":"'Order Form'!F131","v":0},{"$f":"'Order Form'!J131","v":0},{"$f":"'Order Form'!H131","v":0},{"$f":"'Order Form'!I131","v":0},{"$f":"'Order Form'!K131 & \"\"","v":""},{"$f":"'Order Form'!M131 & \"\"","v":""},{"$f":"'Order Form'!C131 & \"\"","v":""},{"$f":"'Order Form'!L131 & \"\"","v":""},{"$f":"'Order Form'!$E$12","v":"YES"},{"$f":"'Order Form'!$E$13","v":"ASAP (order with branding can take up to 3 business days to dispatch) Premium delivery recommended to guarantee delivery prior to Christmas, fees apply."},{"$f":"'Order Form'!$E$15","v":"FREE gift card"},{"$f":"'Order Form'!$E$16","v":"No thanks"},null,null,null,null,{"$f":"IF(N114=\"\",\"\",IFERROR(INDIRECT(\"Postcodes!$C\"&SUMPRODUCT(--(Postcodes!$A$2:$A$100<=N114)*(Postcodes!$B$2:$B$100>=N114), ROW(Postcodes!$A$2:$A$100))),\"WRONG CODE\"))","v":0},null,null,null,null,null,null,""]
[{"$f":"'Order Form'!A132","v":114},{"$f":"'Order Form'!N132","v":""},{"$f":"'Order Form'!$E$2","v":0},{"$f":"'Order Form'!$E$3","v":0},{"$f":"'Order Form'!$E$4","v":0},{"$f":"'Order Form'!$E$5","v":0},{"$f":"'Order Form'!$E$7","v":0},{"$f":"'Order Form'!$E$6","v":0},{"$f":"'Order Form'!$E$9","v":0},{"$f":"'Order Form'!$E$10 & \"\"","v":""},{"$f":"IF('Order Form'!D132=\"\",'Order Form'!C132,'Order Form'!D132)","v":0},{"$f":"'Order Form'!E132","v":0},{"$f":"'Order Form'!F132","v":0},{"$f":"'Order Form'!J132","v":0},{"$f":"'Order Form'!H132","v":0},{"$f":"'Order Form'!I132","v":0},{"$f":"'Order Form'!K132 & \"\"","v":""},{"$f":"'Order Form'!M132 & \"\"","v":""},{"$f":"'Order Form'!C132 & \"\"","v":""},{"$f":"'Order Form'!L132 & \"\"","v":""},{"$f":"'Order Form'!$E$12","v":"YES"},{"$f":"'Order Form'!$E$13","v":"ASAP (order with branding can take up to 3 business days to dispatch) Premium delivery recommended to guarantee delivery prior to Christmas, fees apply."},{"$f":"'Order Form'!$E$15","v":"FREE gift card"},{"$f":"'Order Form'!$E$16","v":"No thanks"},null,null,null,null,{"$f":"IF(N115=\"\",\"\",IFERROR(INDIRECT(\"Postcodes!$C\"&SUMPRODUCT(--(Postcodes!$A$2:$A$100<=N115)*(Postcodes!$B$2:$B$100>=N115), ROW(Postcodes!$A$2:$A$100))),\"WRONG CODE\"))","v":0},null,null,null,null,null,null,""]
[{"$f":"'Order Form'!A133","v":115},{"$f":"'Order Form'!N133","v":""},{"$f":"'Order Form'!$E$2","v":0},{"$f":"'Order Form'!$E$3","v":0},{"$f":"'Order Form'!$E$4","v":0},{"$f":"'Order Form'!$E$5","v":0},{"$f":"'Order Form'!$E$7","v":0},{"$f":"'Order Form'!$E$6","v":0},{"$f":"'Order Form'!$E$9","v":0},{"$f":"'Order Form'!$E$10 & \"\"","v":""},{"$f":"IF('Order Form'!D133=\"\",'Order Form'!C133,'Order Form'!D133)","v":0},{"$f":"'Order Form'!E133","v":0},{"$f":"'Order Form'!F133","v":0},{"$f":"'Order Form'!J133","v":0},{"$f":"'Order Form'!H133","v":0},{"$f":"'Order Form'!I133","v":0},{"$f":"'Order Form'!K133 & \"\"","v":""},{"$f":"'Order Form'!M133 & \"\"","v":""},{"$f":"'Order Form'!C133 & \"\"","v":""},{"$f":"'Order Form'!L133 & \"\"","v":""},{"$f":"'Order Form'!$E$12","v":"YES"},{"$f":"'Order Form'!$E$13","v":"ASAP (order with branding can take up to 3 business days to dispatch) Premium delivery recommended to guarantee delivery prior to Christmas, fees apply."},{"$f":"'Order Form'!$E$15","v":"FREE gift card"},{"$f":"'Order Form'!$E$16","v":"No thanks"},null,null,null,null,{"$f":"IF(N116=\"\",\"\",IFERROR(INDIRECT(\"Postcodes!$C\"&SUMPRODUCT(--(Postcodes!$A$2:$A$100<=N116)*(Postcodes!$B$2:$B$100>=N116), ROW(Postcodes!$A$2:$A$100))),\"WRONG CODE\"))","v":0},null,null,null,null,null,null,""]
[{"$f":"'Order Form'!A134","v":116},{"$f":"'Order Form'!N134","v":""},{"$f":"'Order Form'!$E$2","v":0},{"$f":"'Order Form'!$E$3","v":0},{"$f":"'Order Form'!$E$4","v":0},{"$f":"'Order Form'!$E$5","v":0},{"$f":"'Order Form'!$E$7","v":0},{"$f":"'Order Form'!$E$6","v":0},{"$f":"'Order Form'!$E$9","v":0},{"$f":"'Order Form'!$E$10 & \"\"","v":""},{"$f":"IF('Order Form'!D134=\"\",'Order Form'!C134,'Order Form'!D134)","v":0},{"$f":"'Order Form'!E134","v":0},{"$f":"'Order Form'!F134","v":0},{"$f":"'Order Form'!J134","v":0},{"$f":"'Order Form'!H134","v":0},{"$f":"'Order Form'!I134","v":0},{"$f":"'Order Form'!K134 & \"\"","v":""},{"$f":"'Order Form'!M134 & \"\"","v":""},{"$f":"'Order Form'!C134 & \"\"","v":""},{"$f":"'Order Form'!L134 & \"\"","v":""},{"$f":"'Order Form'!$E$12","v":"YES"},{"$f":"'Order Form'!$E$13","v":"ASAP (order with branding can take up to 3 business days to dispatch) Premium delivery recommended to guarantee delivery prior to Christmas, fees apply."},{"$f":"'Order Form'!$E$15","v":"FREE gift card"},{"$f":"'Order Form'!$E$16","v":"No thanks"},null,null,null,null,{"$f":"IF(N117=\"\",\"\",IFERROR(INDIRECT(\"Postcodes!$C\"&SUMPRODUCT(--(Postcodes!$A$2:$A$100<=N117)*(Postcodes!$B$2:$B$100>=N117), ROW(Postcodes!$A$2:$A$100))),\"WRONG CODE\"))","v":0},null,null,null,null,null,null,""]
[{"$f":"'Order Form'!A135","v":117},{"$f":"'Order Form'!N135","v":""},{"$f":"'Order Form'!$E$2","v":0},{"$f":"'Order Form'!$E$3","v":0},{"$f":"'Order Form'!$E$4","v":0},{"$f":"'Order Form'!$E$5","v":0},{"$f":"'Order Form'!$E$7","v":0},{"$f":"'Order Form'!$E$6","v":0},{"$f":"'Order Form'!$E$9","v":0},{"$f":"'Order Form'!$E$10 & \"\"","v":""},{"$f":"IF('Order Form'!D135=\"\",'Order Form'!C135,'Order Form'!D135)","v":0},{"$f":"'Order Form'!E135","v":0},{"$f":"'Order Form'!F135","v":0},{"$f":"'Order Form'!J135","v":0},{"$f":"'Order Form'!H135","v":0},{"$f":"'Order Form'!I135","v":0},{"$f":"'Order Form'!K135 & \"\"","v":""},{"$f":"'Order Form'!M135 & \"\"","v":""},{"$f":"'Order Form'!C135 & \"\"","v":""},{"$f":"'Order Form'!L135 & \"\"","v":""},{"$f":"'Order Form'!$E$12","v":"YES"},{"$f":"'Order Form'!$E$13","v":"ASAP (order with branding can take up to 3 business days to dispatch) Premium delivery recommended to guarantee delivery prior to Christmas, fees apply."},{"$f":"'Order Form'!$E$15","v":"FREE gift card"},{"$f":"'Order Form'!$E$16","v":"No thanks"},null,null,null,null,{"$f":"IF(N118=\"\",\"\",IFERROR(INDIRECT(\"Postcodes!$C\"&SUMPRODUCT(--(Postcodes!$A$2:$A$100<=N118)*(Postcodes!$B$2:$B$100>=N118), ROW(Postcodes!$A$2:$A$100))),\"WRONG CODE\"))","v":0},null,null,null,null,null,null,""]
[{"$f":"'Order Form'!A136","v":118},{"$f":"'Order Form'!N136","v":""},{"$f":"'Order Form'!$E$2","v":0},{"$f":"'Order Form'!$E$3","v":0},{"$f":"'Order Form'!$E$4","v":0},{"$f":"'Order Form'!$E$5","v":0},{"$f":"'Order Form'!$E$7","v":0},{"$f":"'Order Form'!$E$6","v":0},{"$f":"'Order Form'!$E$9","v":0},{"$f":"'Order Form'!$E$10 & \"\"","v":""},{"$f":"IF('Order Form'!D136=\"\",'Order Form'!C136,'Order Form'!D136)","v":0},{"$f":"'Order Form'!E136","v":0},{"$f":"'Order Form'!F136","v":0},{"$f":"'Order Form'!J136","v":0},{"$f":"'Order Form'!H136","v":0},{"$f":"'Order Form'!I136","v":0},{"$f":"'Order Form'!K136 & \"\"","v":""},{"$f":"'Order Form'!M136 & \"\"","v":""},{"$f":"'Order Form'!C136 & \"\"","v":""},{"$f":"'Order Form'!L136 & \"\"","v":""},{"$f":"'Order Form'!$E$12","v":"YES"},{"$f":"'Order Form'!$E$13","v":"ASAP (order with branding can take up to 3 business days to dispatch) Premium delivery recommended to guarantee delivery prior to Christmas, fees apply."},{"$f":"'Order Form'!$E$15","v":"FREE gift card"},{"$f":"'Order Form'!$E$16","v":"No thanks"},null,null,null,null,{"$f":"IF(N119=\"\",\"\",IFERROR(INDIRECT(\"Postcodes!$C\"&SUMPRODUCT(--(Postcodes!$A$2:$A$100<=N119)*(Postcodes!$B$2:$B$100>=N119), ROW(Postcodes!$A$2:$A$100))),\"WRONG CODE\"))","v":0},null,null,null,null,null,null,""]
[{"$f":"'Order Form'!A137","v":119},{"$f":"'Order Form'!N137","v":""},{"$f":"'Order Form'!$E$2","v":0},{"$f":"'Order Form'!$E$3","v":0},{"$f":"'Order Form'!$E$4","v":0},{"$f":"'Order Form'!$E$5","v":0},{"$f":"'Order Form'!$E$7","v":0},{"$f":"'Order Form'!$E$6","v":0},{"$f":"'Order Form'!$E$9","v":0},{"$f":"'Order Form'!$E$10 & \"\"","v":""},{"$f":"IF('Order Form'!D137=\"\",'Order Form'!C137,'Order Form'!D137)","v":0},{"$f":"'Order Form'!E137","v":0},{"$f":"'Order Form'!F137","v":0},{"$f":"'Order Form'!J137","v":0},{"$f":"'Order Form'!H137","v":0},{"$f":"'Order Form'!I137","v":0},{"$f":"'Order Form'!K137 & \"\"","v":""},{"$f":"'Order Form'!M137 & \"\"","v":""},{"$f":"'Order Form'!C137 & \"\"","v":""},{"$f":"'Order Form'!L137 & \"\"","v":""},{"$f":"'Order Form'!$E$12","v":"YES"},{"$f":"'Order Form'!$E$13","v":"ASAP (order with branding can take up to 3 business days to dispatch) Premium delivery recommended to guarantee delivery prior to Christmas, fees apply."},{"$f":"'Order Form'!$E$15","v":"FREE gift card"},{"$f":"'Order Form'!$E$16","v":"No thanks"},null,null,null,null,{"$f":"IF(N120=\"\",\"\",IFERROR(INDIRECT(\"Postcodes!$C\"&SUMPRODUCT(--(Postcodes!$A$2:$A$100<=N120)*(Postcodes!$B$2:$B$100>=N120), ROW(Postcodes!$A$2:$A$100))),\"WRONG CODE\"))","v":0},null,null,null,null,null,null,""]
[{"$f":"'Order Form'!A138","v":120},{"$f":"'Order Form'!N138","v":""},{"$f":"'Order Form'!$E$2","v":0},{"$f":"'Order Form'!$E$3","v":0},{"$f":"'Order Form'!$E$4","v":0},{"$f":"'Order Form'!$E$5","v":0},{"$f":"'Order Form'!$E$7","v":0},{"$f":"'Order Form'!$E$6","v":0},{"$f":"'Order Form'!$E$9","v":0},{"$f":"'Order Form'!$E$10 & \"\"","v":""},{"$f":"IF('Order Form'!D138=\"\",'Order Form'!C138,'Order Form'!D138)","v":0},{"$f":"'Order Form'!E138","v":0},{"$f":"'Order Form'!F138","v":0},{"$f":"'Order Form'!J138","v":0},{"$f":"'Order Form'!H138","v":0},{"$f":"'Order Form'!I138","v":0},{"$f":"'Order Form'!K138 & \"\"","v":""},{"$f":"'Order Form'!M138 & \"\"","v":""},{"$f":"'Order Form'!C138 & \"\"","v":""},{"$f":"'Order Form'!L138 & \"\"","v":""},{"$f":"'Order Form'!$E$12","v":"YES"},{"$f":"'Order Form'!$E$13","v":"ASAP (order with branding can take up to 3 business days to dispatch) Premium delivery recommended to guarantee delivery prior to Christmas, fees apply."},{"$f":"'Order Form'!$E$15","v":"FREE gift card"},{"$f":"'Order Form'!$E$16","v":"No thanks"},null,null,null,null,{"$f":"IF(N121=\"\",\"\",IFERROR(INDIRECT(\"Postcodes!$C\"&SUMPRODUCT(--(Postcodes!$A$2:$A$100<=N121)*(Postcodes!$B$2:$B$100>=N121), ROW(Postcodes!$A$2:$A$100))),\"WRONG CODE\"))","v":0},null,null,null,null,null,null,""]
[{"$f":"'Order Form'!A139","v":121},{"$f":"'Order Form'!N139","v":""},{"$f":"'Order Form'!$E$2","v":0},{"$f":"'Order Form'!$E$3","v":0},{"$f":"'Order Form'!$E$4","v":0},{"$f":"'Order Form'!$E$5","v":0},{"$f":"'Order Form'!$E$7","v":0},{"$f":"'Order Form'!$E$6","v":0},{"$f":"'Order Form'!$E$9","v":0},{"$f":"'Order Form'!$E$10 & \"\"","v":""},{"$f":"IF('Order Form'!D139=\"\",'Order Form'!C139,'Order Form'!D139)","v":0},{"$f":"'Order Form'!E139","v":0},{"$f":"'Order Form'!F139","v":0},{"$f":"'Order Form'!J139","v":0},{"$f":"'Order Form'!H139","v":0},{"$f":"'Order Form'!I139","v":0},{"$f":"'Order Form'!K139 & \"\"","v":""},{"$f":"'Order Form'!M139 & \"\"","v":""},{"$f":"'Order Form'!C139 & \"\"","v":""},{"$f":"'Order Form'!L139 & \"\"","v":""},{"$f":"'Order Form'!$E$12","v":"YES"},{"$f":"'Order Form'!$E$13","v":"ASAP (order with branding can take up to 3 business days to dispatch) Premium delivery recommended to guarantee delivery prior to Christmas, fees apply."},{"$f":"'Order Form'!$E$15","v":"FREE gift card"},{"$f":"'Order Form'!$E$16","v":"No thanks"},null,null,null,null,{"$f":"IF(N122=\"\",\"\",IFERROR(INDIRECT(\"Postcodes!$C\"&SUMPRODUCT(--(Postcodes!$A$2:$A$100<=N122)*(Postcodes!$B$2:$B$100>=N122), ROW(Postcodes!$A$2:$A$100))),\"WRONG CODE\"))","v":0},null,null,null,null,null,null,""]
[{"$f":"'Order Form'!A140","v":122},{"$f":"'Order Form'!N140","v":""},{"$f":"'Order Form'!$E$2","v":0},{"$f":"'Order Form'!$E$3","v":0},{"$f":"'Order Form'!$E$4","v":0},{"$f":"'Order Form'!$E$5","v":0},{"$f":"'Order Form'!$E$7","v":0},{"$f":"'Order Form'!$E$6","v":0},{"$f":"'Order Form'!$E$9","v":0},{"$f":"'Order Form'!$E$10 & \"\"","v":""},{"$f":"IF('Order Form'!D140=\"\",'Order Form'!C140,'Order Form'!D140)","v":0},{"$f":"'Order Form'!E140","v":0},{"$f":"'Order Form'!F140","v":0},{"$f":"'Order Form'!J140","v":0},{"$f":"'Order Form'!H140","v":0},{"$f":"'Order Form'!I140","v":0},{"$f":"'Order Form'!K140 & \"\"","v":""},{"$f":"'Order Form'!M140 & \"\"","v":""},{"$f":"'Order Form'!C140 & \"\"","v":""},{"$f":"'Order Form'!L140 & \"\"","v":""},{"$f":"'Order Form'!$E$12","v":"YES"},{"$f":"'Order Form'!$E$13","v":"ASAP (order with branding can take up to 3 business days to dispatch) Premium delivery recommended to guarantee delivery prior to Christmas, fees apply."},{"$f":"'Order Form'!$E$15","v":"FREE gift card"},{"$f":"'Order Form'!$E$16","v":"No thanks"},null,null,null,null,{"$f":"IF(N123=\"\",\"\",IFERROR(INDIRECT(\"Postcodes!$C\"&SUMPRODUCT(--(Postcodes!$A$2:$A$100<=N123)*(Postcodes!$B$2:$B$100>=N123), ROW(Postcodes!$A$2:$A$100))),\"WRONG CODE\"))","v":0},null,null,null,null,null,null,""]
[{"$f":"'Order Form'!A141","v":123},{"$f":"'Order Form'!N141","v":""},{"$f":"'Order Form'!$E$2","v":0},{"$f":"'Order Form'!$E$3","v":0},{"$f":"'Order Form'!$E$4","v":0},{"$f":"'Order Form'!$E$5","v":0},{"$f":"'Order Form'!$E$7","v":0},{"$f":"'Order Form'!$E$6","v":0},{"$f":"'Order Form'!$E$9","v":0},{"$f":"'Order Form'!$E$10 & \"\"","v":""},{"$f":"IF('Order Form'!D141=\"\",'Order Form'!C141,'Order Form'!D141)","v":0},{"$f":"'Order Form'!E141","v":0},{"$f":"'Order Form'!F141","v":0},{"$f":"'Order Form'!J141","v":0},{"$f":"'Order Form'!H141","v":0},{"$f":"'Order Form'!I141","v":0},{"$f":"'Order Form'!K141 & \"\"","v":""},{"$f":"'Order Form'!M141 & \"\"","v":""},{"$f":"'Order Form'!C141 & \"\"","v":""},{"$f":"'Order Form'!L141 & \"\"","v":""},{"$f":"'Order Form'!$E$12","v":"YES"},{"$f":"'Order Form'!$E$13","v":"ASAP (order with branding can take up to 3 business days to dispatch) Premium delivery recommended to guarantee delivery prior to Christmas, fees apply."},{"$f":"'Order Form'!$E$15","v":"FREE gift card"},{"$f":"'Order Form'!$E$16","v":"No thanks"},null,null,null,null,{"$f":"IF(N124=\"\",\"\",IFERROR(INDIRECT(\"Postcodes!$C\"&SUMPRODUCT(--(Postcodes!$A$2:$A$100<=N124)*(Postcodes!$B$2:$B$100>=N124), ROW(Postcodes!$A$2:$A$100))),\"WRONG CODE\"))","v":0},null,null,null,null,null,null,""]
[{"$f":"'Order Form'!A142","v":124},{"$f":"'Order Form'!N142","v":""},{"$f":"'Order Form'!$E$2","v":0},{"$f":"'Order Form'!$E$3","v":0},{"$f":"'Order Form'!$E$4","v":0},{"$f":"'Order Form'!$E$5","v":0},{"$f":"'Order Form'!$E$7","v":0},{"$f":"'Order Form'!$E$6","v":0},{"$f":"'Order Form'!$E$9","v":0},{"$f":"'Order Form'!$E$10 & \"\"","v":""},{"$f":"IF('Order Form'!D142=\"\",'Order Form'!C142,'Order Form'!D142)","v":0},{"$f":"'Order Form'!E142","v":0},{"$f":"'Order Form'!F142","v":0},{"$f":"'Order Form'!J142","v":0},{"$f":"'Order Form'!H142","v":0},{"$f":"'Order Form'!I142","v":0},{"$f":"'Order Form'!K142 & \"\"","v":""},{"$f":"'Order Form'!M142 & \"\"","v":""},{"$f":"'Order Form'!C142 & \"\"","v":""},{"$f":"'Order Form'!L142 & \"\"","v":""},{"$f":"'Order Form'!$E$12","v":"YES"},{"$f":"'Order Form'!$E$13","v":"ASAP (order with branding can take up to 3 business days to dispatch) Premium delivery recommended to guarantee delivery prior to Christmas, fees apply."},{"$f":"'Order Form'!$E$15","v":"FREE gift card"},{"$f":"'Order Form'!$E$16","v":"No thanks"},null,null,null,null,{"$f":"IF(N125=\"\",\"\",IFERROR(INDIRECT(\"Postcodes!$C\"&SUMPRODUCT(--(Postcodes!$A$2:$A$100<=N125)*(Postcodes!$B$2:$B$100>=N125), ROW(Postcodes!$A$2:$A$100))),\"WRONG CODE\"))","v":0},null,null,null,null,null,null,""]
[{"$f":"'Order Form'!A143","v":125},{"$f":"'Order Form'!N143","v":""},{"$f":"'Order Form'!$E$2","v":0},{"$f":"'Order Form'!$E$3","v":0},{"$f":"'Order Form'!$E$4","v":0},{"$f":"'Order Form'!$E$5","v":0},{"$f":"'Order Form'!$E$7","v":0},{"$f":"'Order Form'!$E$6","v":0},{"$f":"'Order Form'!$E$9","v":0},{"$f":"'Order Form'!$E$10 & \"\"","v":""},{"$f":"IF('Order Form'!D143=\"\",'Order Form'!C143,'Order Form'!D143)","v":0},{"$f":"'Order Form'!E143","v":0},{"$f":"'Order Form'!F143","v":0},{"$f":"'Order Form'!J143","v":0},{"$f":"'Order Form'!H143","v":0},{"$f":"'Order Form'!I143","v":0},{"$f":"'Order Form'!K143 & \"\"","v":""},{"$f":"'Order Form'!M143 & \"\"","v":""},{"$f":"'Order Form'!C143 & \"\"","v":""},{"$f":"'Order Form'!L143 & \"\"","v":""},{"$f":"'Order Form'!$E$12","v":"YES"},{"$f":"'Order Form'!$E$13","v":"ASAP (order with branding can take up to 3 business days to dispatch) Premium delivery recommended to guarantee delivery prior to Christmas, fees apply."},{"$f":"'Order Form'!$E$15","v":"FREE gift card"},{"$f":"'Order Form'!$E$16","v":"No thanks"},null,null,null,null,{"$f":"IF(N126=\"\",\"\",IFERROR(INDIRECT(\"Postcodes!$C\"&SUMPRODUCT(--(Postcodes!$A$2:$A$100<=N126)*(Postcodes!$B$2:$B$100>=N126), ROW(Postcodes!$A$2:$A$100))),\"WRONG CODE\"))","v":0},null,null,null,null,null,null,""]
[{"$f":"'Order Form'!A144","v":126},{"$f":"'Order Form'!N144","v":""},{"$f":"'Order Form'!$E$2","v":0},{"$f":"'Order Form'!$E$3","v":0},{"$f":"'Order Form'!$E$4","v":0},{"$f":"'Order Form'!$E$5","v":0},{"$f":"'Order Form'!$E$7","v":0},{"$f":"'Order Form'!$E$6","v":0},{"$f":"'Order Form'!$E$9","v":0},{"$f":"'Order Form'!$E$10 & \"\"","v":""},{"$f":"IF('Order Form'!D144=\"\",'Order Form'!C144,'Order Form'!D144)","v":0},{"$f":"'Order Form'!E144","v":0},{"$f":"'Order Form'!F144","v":0},{"$f":"'Order Form'!J144","v":0},{"$f":"'Order Form'!H144","v":0},{"$f":"'Order Form'!I144","v":0},{"$f":"'Order Form'!K144 & \"\"","v":""},{"$f":"'Order Form'!M144 & \"\"","v":""},{"$f":"'Order Form'!C144 & \"\"","v":""},{"$f":"'Order Form'!L144 & \"\"","v":""},{"$f":"'Order Form'!$E$12","v":"YES"},{"$f":"'Order Form'!$E$13","v":"ASAP (order with branding can take up to 3 business days to dispatch) Premium delivery recommended to guarantee delivery prior to Christmas, fees apply."},{"$f":"'Order Form'!$E$15","v":"FREE gift card"},{"$f":"'Order Form'!$E$16","v":"No thanks"},null,null,null,null,{"$f":"IF(N127=\"\",\"\",IFERROR(INDIRECT(\"Postcodes!$C\"&SUMPRODUCT(--(Postcodes!$A$2:$A$100<=N127)*(Postcodes!$B$2:$B$100>=N127), ROW(Postcodes!$A$2:$A$100))),\"WRONG CODE\"))","v":0},null,null,null,null,null,null,""]
[{"$f":"'Order Form'!A145","v":127},{"$f":"'Order Form'!N145","v":""},{"$f":"'Order Form'!$E$2","v":0},{"$f":"'Order Form'!$E$3","v":0},{"$f":"'Order Form'!$E$4","v":0},{"$f":"'Order Form'!$E$5","v":0},{"$f":"'Order Form'!$E$7","v":0},{"$f":"'Order Form'!$E$6","v":0},{"$f":"'Order Form'!$E$9","v":0},{"$f":"'Order Form'!$E$10 & \"\"","v":""},{"$f":"IF('Order Form'!D145=\"\",'Order Form'!C145,'Order Form'!D145)","v":0},{"$f":"'Order Form'!E145","v":0},{"$f":"'Order Form'!F145","v":0},{"$f":"'Order Form'!J145","v":0},{"$f":"'Order Form'!H145","v":0},{"$f":"'Order Form'!I145","v":0},{"$f":"'Order Form'!K145 & \"\"","v":""},{"$f":"'Order Form'!M145 & \"\"","v":""},{"$f":"'Order Form'!C145 & \"\"","v":""},{"$f":"'Order Form'!L145 & \"\"","v":""},{"$f":"'Order Form'!$E$12","v":"YES"},{"$f":"'Order Form'!$E$13","v":"ASAP (order with branding can take up to 3 business days to dispatch) Premium delivery recommended to guarantee delivery prior to Christmas, fees apply."},{"$f":"'Order Form'!$E$15","v":"FREE gift card"},{"$f":"'Order Form'!$E$16","v":"No thanks"},null,null,null,null,{"$f":"IF(N128=\"\",\"\",IFERROR(INDIRECT(\"Postcodes!$C\"&SUMPRODUCT(--(Postcodes!$A$2:$A$100<=N128)*(Postcodes!$B$2:$B$100>=N128), ROW(Postcodes!$A$2:$A$100))),\"WRONG CODE\"))","v":0},null,null,null,null,null,null,""]
[{"$f":"'Order Form'!A146","v":128},{"$f":"'Order Form'!N146","v":""},{"$f":"'Order Form'!$E$2","v":0},{"$f":"'Order Form'!$E$3","v":0},{"$f":"'Order Form'!$E$4","v":0},{"$f":"'Order Form'!$E$5","v":0},{"$f":"'Order Form'!$E$7","v":0},{"$f":"'Order Form'!$E$6","v":0},{"$f":"'Order Form'!$E$9","v":0},{"$f":"'Order Form'!$E$10 & \"\"","v":""},{"$f":"IF('Order Form'!D146=\"\",'Order Form'!C146,'Order Form'!D146)","v":0},{"$f":"'Order Form'!E146","v":0},{"$f":"'Order Form'!F146","v":0},{"$f":"'Order Form'!J146","v":0},{"$f":"'Order Form'!H146","v":0},{"$f":"'Order Form'!I146","v":0},{"$f":"'Order Form'!K146 & \"\"","v":""},{"$f":"'Order Form'!M146 & \"\"","v":""},{"$f":"'Order Form'!C146 & \"\"","v":""},{"$f":"'Order Form'!L146 & \"\"","v":""},{"$f":"'Order Form'!$E$12","v":"YES"},{"$f":"'Order Form'!$E$13","v":"ASAP (order with branding can take up to 3 business days to dispatch) Premium delivery recommended to guarantee delivery prior to Christmas, fees apply."},{"$f":"'Order Form'!$E$15","v":"FREE gift card"},{"$f":"'Order Form'!$E$16","v":"No thanks"},null,null,null,null,{"$f":"IF(N129=\"\",\"\",IFERROR(INDIRECT(\"Postcodes!$C\"&SUMPRODUCT(--(Postcodes!$A$2:$A$100<=N129)*(Postcodes!$B$2:$B$100>=N129), ROW(Postcodes!$A$2:$A$100))),\"WRONG CODE\"))","v":0},null,null,null,null,null,null,""]
[{"$f":"'Order Form'!A147","v":129},{"$f":"'Order Form'!N147","v":""},{"$f":"'Order Form'!$E$2","v":0},{"$f":"'Order Form'!$E$3","v":0},{"$f":"'Order Form'!$E$4","v":0},{"$f":"'Order Form'!$E$5","v":0},{"$f":"'Order Form'!$E$7","v":0},{"$f":"'Order Form'!$E$6","v":0},{"$f":"'Order Form'!$E$9","v":0},{"$f":"'Order Form'!$E$10 & \"\"","v":""},{"$f":"IF('Order Form'!D147=\"\",'Order Form'!C147,'Order Form'!D147)","v":0},{"$f":"'Order Form'!E147","v":0},{"$f":"'Order Form'!F147","v":0},{"$f":"'Order Form'!J147","v":0},{"$f":"'Order Form'!H147","v":0},{"$f":"'Order Form'!I147","v":0},{"$f":"'Order Form'!K147 & \"\"","v":""},{"$f":"'Order Form'!M147 & \"\"","v":""},{"$f":"'Order Form'!C147 & \"\"","v":""},{"$f":"'Order Form'!L147 & \"\"","v":""},{"$f":"'Order Form'!$E$12","v":"YES"},{"$f":"'Order Form'!$E$13","v":"ASAP (order with branding can take up to 3 business days to dispatch) Premium delivery recommended to guarantee delivery prior to Christmas, fees apply."},{"$f":"'Order Form'!$E$15","v":"FREE gift card"},{"$f":"'Order Form'!$E$16","v":"No thanks"},null,null,null,null,{"$f":"IF(N130=\"\",\"\",IFERROR(INDIRECT(\"Postcodes!$C\"&SUMPRODUCT(--(Postcodes!$A$2:$A$100<=N130)*(Postcodes!$B$2:$B$100>=N130), ROW(Postcodes!$A$2:$A$100))),\"WRONG CODE\"))","v":0},null,null,null,null,null,null,""]
[{"$f":"'Order Form'!A148","v":130},{"$f":"'Order Form'!N148","v":""},{"$f":"'Order Form'!$E$2","v":0},{"$f":"'Order Form'!$E$3","v":0},{"$f":"'Order Form'!$E$4","v":0},{"$f":"'Order Form'!$E$5","v":0},{"$f":"'Order Form'!$E$7","v":0},{"$f":"'Order Form'!$E$6","v":0},{"$f":"'Order Form'!$E$9","v":0},{"$f":"'Order Form'!$E$10 & \"\"","v":""},{"$f":"IF('Order Form'!D148=\"\",'Order Form'!C148,'Order Form'!D148)","v":0},{"$f":"'Order Form'!E148","v":0},{"$f":"'Order Form'!F148","v":0},{"$f":"'Order Form'!J148","v":0},{"$f":"'Order Form'!H148","v":0},{"$f":"'Order Form'!I148","v":0},{"$f":"'Order Form'!K148 & \"\"","v":""},{"$f":"'Order Form'!M148 & \"\"","v":""},{"$f":"'Order Form'!C148 & \"\"","v":""},{"$f":"'Order Form'!L148 & \"\"","v":""},{"$f":"'Order Form'!$E$12","v":"YES"},{"$f":"'Order Form'!$E$13","v":"ASAP (order with branding can take up to 3 business days to dispatch) Premium delivery recommended to guarantee delivery prior to Christmas, fees apply."},{"$f":"'Order Form'!$E$15","v":"FREE gift card"},{"$f":"'Order Form'!$E$16","v":"No thanks"},null,null,null,null,{"$f":"IF(N131=\"\",\"\",IFERROR(INDIRECT(\"Postcodes!$C\"&SUMPRODUCT(--(Postcodes!$A$2:$A$100<=N131)*(Postcodes!$B$2:$B$100>=N131), ROW(Postcodes!$A$2:$A$100))),\"WRONG CODE\"))","v":0},null,null,null,null,null,null,{"$f":"IF(AND(V131=\"ASAP (order with branding can take up to 3 business days to dispatch)\",W131=\"FREE gift card\",X131=\"No Thanks\"),\"asap\",\"\")","v":""}]
[{"$f":"'Order Form'!A149","v":131},{"$f":"'Order Form'!N149","v":""},{"$f":"'Order Form'!$E$2","v":0},{"$f":"'Order Form'!$E$3","v":0},{"$f":"'Order Form'!$E$4","v":0},{"$f":"'Order Form'!$E$5","v":0},{"$f":"'Order Form'!$E$7","v":0},{"$f":"'Order Form'!$E$6","v":0},{"$f":"'Order Form'!$E$9","v":0},{"$f":"'Order Form'!$E$10 & \"\"","v":""},{"$f":"IF('Order Form'!D149=\"\",'Order Form'!C149,'Order Form'!D149)","v":0},{"$f":"'Order Form'!E149","v":0},{"$f":"'Order Form'!F149","v":0},{"$f":"'Order Form'!J149","v":0},{"$f":"'Order Form'!H149","v":0},{"$f":"'Order Form'!I149","v":0},{"$f":"'Order Form'!K149 & \"\"","v":""},{"$f":"'Order Form'!M149 & \"\"","v":""},{"$f":"'Order Form'!C149 & \"\"","v":""},{"$f":"'Order Form'!L149 & \"\"","v":""},{"$f":"'Order Form'!$E$12","v":"YES"},{"$f":"'Order Form'!$E$13","v":"ASAP (order with branding can take up to 3 business days to dispatch) Premium delivery recommended to guarantee delivery prior to Christmas, fees apply."},{"$f":"'Order Form'!$E$15","v":"FREE gift card"},{"$f":"'Order Form'!$E$16","v":"No thanks"},null,null,null,null,{"$f":"IF(N132=\"\",\"\",IFERROR(INDIRECT(\"Postcodes!$C\"&SUMPRODUCT(--(Postcodes!$A$2:$A$100<=N132)*(Postcodes!$B$2:$B$100>=N132), ROW(Postcodes!$A$2:$A$100))),\"WRONG CODE\"))","v":0},null,null,null,null,null,null,""]
[{"$f":"'Order Form'!A150","v":132},{"$f":"'Order Form'!N150","v":""},{"$f":"'Order Form'!$E$2","v":0},{"$f":"'Order Form'!$E$3","v":0},{"$f":"'Order Form'!$E$4","v":0},{"$f":"'Order Form'!$E$5","v":0},{"$f":"'Order Form'!$E$7","v":0},{"$f":"'Order Form'!$E$6","v":0},{"$f":"'Order Form'!$E$9","v":0},{"$f":"'Order Form'!$E$10 & \"\"","v":""},{"$f":"IF('Order Form'!D150=\"\",'Order Form'!C150,'Order Form'!D150)","v":0},{"$f":"'Order Form'!E150","v":0},{"$f":"'Order Form'!F150","v":0},{"$f":"'Order Form'!J150","v":0},{"$f":"'Order Form'!H150","v":0},{"$f":"'Order Form'!I150","v":0},{"$f":"'Order Form'!K150 & \"\"","v":""},{"$f":"'Order Form'!M150 & \"\"","v":""},{"$f":"'Order Form'!C150 & \"\"","v":""},{"$f":"'Order Form'!L150 & \"\"","v":""},{"$f":"'Order Form'!$E$12","v":"YES"},{"$f":"'Order Form'!$E$13","v":"ASAP (order with branding can take up to 3 business days to dispatch) Premium delivery recommended to guarantee delivery prior to Christmas, fees apply."},{"$f":"'Order Form'!$E$15","v":"FREE gift card"},{"$f":"'Order Form'!$E$16","v":"No thanks"},null,null,null,null,{"$f":"IF(N133=\"\",\"\",IFERROR(INDIRECT(\"Postcodes!$C\"&SUMPRODUCT(--(Postcodes!$A$2:$A$100<=N133)*(Postcodes!$B$2:$B$100>=N133), ROW(Postcodes!$A$2:$A$100))),\"WRONG CODE\"))","v":0},null,null,null,null,null,null,""]
[{"$f":"'Order Form'!A151","v":133},{"$f":"'Order Form'!N151","v":""},{"$f":"'Order Form'!$E$2","v":0},{"$f":"'Order Form'!$E$3","v":0},{"$f":"'Order Form'!$E$4","v":0},{"$f":"'Order Form'!$E$5","v":0},{"$f":"'Order Form'!$E$7","v":0},{"$f":"'Order Form'!$E$6","v":0},{"$f":"'Order Form'!$E$9","v":0},{"$f":"'Order Form'!$E$10 & \"\"","v":""},{"$f":"IF('Order Form'!D151=\"\",'Order Form'!C151,'Order Form'!D151)","v":0},{"$f":"'Order Form'!E151","v":0},{"$f":"'Order Form'!F151","v":0},{"$f":"'Order Form'!J151","v":0},{"$f":"'Order Form'!H151","v":0},{"$f":"'Order Form'!I151","v":0},{"$f":"'Order Form'!K151 & \"\"","v":""},{"$f":"'Order Form'!M151 & \"\"","v":""},{"$f":"'Order Form'!C151 & \"\"","v":""},{"$f":"'Order Form'!L151 & \"\"","v":""},{"$f":"'Order Form'!$E$12","v":"YES"},{"$f":"'Order Form'!$E$13","v":"ASAP (order with branding can take up to 3 business days to dispatch) Premium delivery recommended to guarantee delivery prior to Christmas, fees apply."},{"$f":"'Order Form'!$E$15","v":"FREE gift card"},{"$f":"'Order Form'!$E$16","v":"No thanks"},null,null,null,null,{"$f":"IF(N134=\"\",\"\",IFERROR(INDIRECT(\"Postcodes!$C\"&SUMPRODUCT(--(Postcodes!$A$2:$A$100<=N134)*(Postcodes!$B$2:$B$100>=N134), ROW(Postcodes!$A$2:$A$100))),\"WRONG CODE\"))","v":0},null,null,null,null,null,null,""]
[{"$f":"'Order Form'!A152","v":134},{"$f":"'Order Form'!N152","v":""},{"$f":"'Order Form'!$E$2","v":0},{"$f":"'Order Form'!$E$3","v":0},{"$f":"'Order Form'!$E$4","v":0},{"$f":"'Order Form'!$E$5","v":0},{"$f":"'Order Form'!$E$7","v":0},{"$f":"'Order Form'!$E$6","v":0},{"$f":"'Order Form'!$E$9","v":0},{"$f":"'Order Form'!$E$10 & \"\"","v":""},{"$f":"IF('Order Form'!D152=\"\",'Order Form'!C152,'Order Form'!D152)","v":0},{"$f":"'Order Form'!E152","v":0},{"$f":"'Order Form'!F152","v":0},{"$f":"'Order Form'!J152","v":0},{"$f":"'Order Form'!H152","v":0},{"$f":"'Order Form'!I152","v":0},{"$f":"'Order Form'!K152 & \"\"","v":""},{"$f":"'Order Form'!M152 & \"\"","v":""},{"$f":"'Order Form'!C152 & \"\"","v":""},{"$f":"'Order Form'!L152 & \"\"","v":""},{"$f":"'Order Form'!$E$12","v":"YES"},{"$f":"'Order Form'!$E$13","v":"ASAP (order with branding can take up to 3 business days to dispatch) Premium delivery recommended to guarantee delivery prior to Christmas, fees apply."},{"$f":"'Order Form'!$E$15","v":"FREE gift card"},{"$f":"'Order Form'!$E$16","v":"No thanks"},null,null,null,null,{"$f":"IF(N135=\"\",\"\",IFERROR(INDIRECT(\"Postcodes!$C\"&SUMPRODUCT(--(Postcodes!$A$2:$A$100<=N135)*(Postcodes!$B$2:$B$100>=N135), ROW(Postcodes!$A$2:$A$100))),\"WRONG CODE\"))","v":0},null,null,null,null,null,null,""]
[{"$f":"'Order Form'!A153","v":135},{"$f":"'Order Form'!N153","v":""},{"$f":"'Order Form'!$E$2","v":0},{"$f":"'Order Form'!$E$3","v":0},{"$f":"'Order Form'!$E$4","v":0},{"$f":"'Order Form'!$E$5","v":0},{"$f":"'Order Form'!$E$7","v":0},{"$f":"'Order Form'!$E$6","v":0},{"$f":"'Order Form'!$E$9","v":0},{"$f":"'Order Form'!$E$10 & \"\"","v":""},{"$f":"IF('Order Form'!D153=\"\",'Order Form'!C153,'Order Form'!D153)","v":0},{"$f":"'Order Form'!E153","v":0},{"$f":"'Order Form'!F153","v":0},{"$f":"'Order Form'!J153","v":0},{"$f":"'Order Form'!H153","v":0},{"$f":"'Order Form'!I153","v":0},{"$f":"'Order Form'!K153 & \"\"","v":""},{"$f":"'Order Form'!M153 & \"\"","v":""},{"$f":"'Order Form'!C153 & \"\"","v":""},{"$f":"'Order Form'!L153 & \"\"","v":""},{"$f":"'Order Form'!$E$12","v":"YES"},{"$f":"'Order Form'!$E$13","v":"ASAP (order with branding can take up to 3 business days to dispatch) Premium delivery recommended to guarantee delivery prior to Christmas, fees apply."},{"$f":"'Order Form'!$E$15","v":"FREE gift card"},{"$f":"'Order Form'!$E$16","v":"No thanks"},null,null,null,null,{"$f":"IF(N136=\"\",\"\",IFERROR(INDIRECT(\"Postcodes!$C\"&SUMPRODUCT(--(Postcodes!$A$2:$A$100<=N136)*(Postcodes!$B$2:$B$100>=N136), ROW(Postcodes!$A$2:$A$100))),\"WRONG CODE\"))","v":0},null,null,null,null,null,null,""]
[{"$f":"'Order Form'!A154","v":136},{"$f":"'Order Form'!N154","v":""},{"$f":"'Order Form'!$E$2","v":0},{"$f":"'Order Form'!$E$3","v":0},{"$f":"'Order Form'!$E$4","v":0},{"$f":"'Order Form'!$E$5","v":0},{"$f":"'Order Form'!$E$7","v":0},{"$f":"'Order Form'!$E$6","v":0},{"$f":"'Order Form'!$E$9","v":0},{"$f":"'Order Form'!$E$10 & \"\"","v":""},{"$f":"IF('Order Form'!D154=\"\",'Order Form'!C154,'Order Form'!D154)","v":0},{"$f":"'Order Form'!E154","v":0},{"$f":"'Order Form'!F154","v":0},{"$f":"'Order Form'!J154","v":0},{"$f":"'Order Form'!H154","v":0},{"$f":"'Order Form'!I154","v":0},{"$f":"'Order Form'!K154 & \"\"","v":""},{"$f":"'Order Form'!M154 & \"\"","v":""},{"$f":"'Order Form'!C154 & \"\"","v":""},{"$f":"'Order Form'!L154 & \"\"","v":""},{"$f":"'Order Form'!$E$12","v":"YES"},{"$f":"'Order Form'!$E$13","v":"ASAP (order with branding can take up to 3 business days to dispatch) Premium delivery recommended to guarantee delivery prior to Christmas, fees apply."},{"$f":"'Order Form'!$E$15","v":"FREE gift card"},{"$f":"'Order Form'!$E$16","v":"No thanks"},null,null,null,null,{"$f":"IF(N137=\"\",\"\",IFERROR(INDIRECT(\"Postcodes!$C\"&SUMPRODUCT(--(Postcodes!$A$2:$A$100<=N137)*(Postcodes!$B$2:$B$100>=N137), ROW(Postcodes!$A$2:$A$100))),\"WRONG CODE\"))","v":0},null,null,null,null,null,null,""]
[{"$f":"'Order Form'!A155","v":137},{"$f":"'Order Form'!N155","v":""},{"$f":"'Order Form'!$E$2","v":0},{"$f":"'Order Form'!$E$3","v":0},{"$f":"'Order Form'!$E$4","v":0},{"$f":"'Order Form'!$E$5","v":0},{"$f":"'Order Form'!$E$7","v":0},{"$f":"'Order Form'!$E$6","v":0},{"$f":"'Order Form'!$E$9","v":0},{"$f":"'Order Form'!$E$10 & \"\"","v":""},{"$f":"IF('Order Form'!D155=\"\",'Order Form'!C155,'Order Form'!D155)","v":0},{"$f":"'Order Form'!E155","v":0},{"$f":"'Order Form'!F155","v":0},{"$f":"'Order Form'!J155","v":0},{"$f":"'Order Form'!H155","v":0},{"$f":"'Order Form'!I155","v":0},{"$f":"'Order Form'!K155 & \"\"","v":""},{"$f":"'Order Form'!M155 & \"\"","v":""},{"$f":"'Order Form'!C155 & \"\"","v":""},{"$f":"'Order Form'!L155 & \"\"","v":""},{"$f":"'Order Form'!$E$12","v":"YES"},{"$f":"'Order Form'!$E$13","v":"ASAP (order with branding can take up to 3 business days to dispatch) Premium delivery recommended to guarantee delivery prior to Christmas, fees apply."},{"$f":"'Order Form'!$E$15","v":"FREE gift card"},{"$f":"'Order Form'!$E$16","v":"No thanks"},null,null,null,null,{"$f":"IF(N138=\"\",\"\",IFERROR(INDIRECT(\"Postcodes!$C\"&SUMPRODUCT(--(Postcodes!$A$2:$A$100<=N138)*(Postcodes!$B$2:$B$100>=N138), ROW(Postcodes!$A$2:$A$100))),\"WRONG CODE\"))","v":0},null,null,null,null,null,null,""]
[{"$f":"'Order Form'!A156","v":138},{"$f":"'Order Form'!N156","v":""},{"$f":"'Order Form'!$E$2","v":0},{"$f":"'Order Form'!$E$3","v":0},{"$f":"'Order Form'!$E$4","v":0},{"$f":"'Order Form'!$E$5","v":0},{"$f":"'Order Form'!$E$7","v":0},{"$f":"'Order Form'!$E$6","v":0},{"$f":"'Order Form'!$E$9","v":0},{"$f":"'Order Form'!$E$10 & \"\"","v":""},{"$f":"IF('Order Form'!D156=\"\",'Order Form'!C156,'Order Form'!D156)","v":0},{"$f":"'Order Form'!E156","v":0},{"$f":"'Order Form'!F156","v":0},{"$f":"'Order Form'!J156","v":0},{"$f":"'Order Form'!H156","v":0},{"$f":"'Order Form'!I156","v":0},{"$f":"'Order Form'!K156 & \"\"","v":""},{"$f":"'Order Form'!M156 & \"\"","v":""},{"$f":"'Order Form'!C156 & \"\"","v":""},{"$f":"'Order Form'!L156 & \"\"","v":""},{"$f":"'Order Form'!$E$12","v":"YES"},{"$f":"'Order Form'!$E$13","v":"ASAP (order with branding can take up to 3 business days to dispatch) Premium delivery recommended to guarantee delivery prior to Christmas, fees apply."},{"$f":"'Order Form'!$E$15","v":"FREE gift card"},{"$f":"'Order Form'!$E$16","v":"No thanks"},null,null,null,null,{"$f":"IF(N139=\"\",\"\",IFERROR(INDIRECT(\"Postcodes!$C\"&SUMPRODUCT(--(Postcodes!$A$2:$A$100<=N139)*(Postcodes!$B$2:$B$100>=N139), ROW(Postcodes!$A$2:$A$100))),\"WRONG CODE\"))","v":0},null,null,null,null,null,null,""]
[{"$f":"'Order Form'!A157","v":139},{"$f":"'Order Form'!N157","v":""},{"$f":"'Order Form'!$E$2","v":0},{"$f":"'Order Form'!$E$3","v":0},{"$f":"'Order Form'!$E$4","v":0},{"$f":"'Order Form'!$E$5","v":0},{"$f":"'Order Form'!$E$7","v":0},{"$f":"'Order Form'!$E$6","v":0},{"$f":"'Order Form'!$E$9","v":0},{"$f":"'Order Form'!$E$10 & \"\"","v":""},{"$f":"IF('Order Form'!D157=\"\",'Order Form'!C157,'Order Form'!D157)","v":0},{"$f":"'Order Form'!E157","v":0},{"$f":"'Order Form'!F157","v":0},{"$f":"'Order Form'!J157","v":0},{"$f":"'Order Form'!H157","v":0},{"$f":"'Order Form'!I157","v":0},{"$f":"'Order Form'!K157 & \"\"","v":""},{"$f":"'Order Form'!M157 & \"\"","v":""},{"$f":"'Order Form'!C157 & \"\"","v":""},{"$f":"'Order Form'!L157 & \"\"","v":""},{"$f":"'Order Form'!$E$12","v":"YES"},{"$f":"'Order Form'!$E$13","v":"ASAP (order with branding can take up to 3 business days to dispatch) Premium delivery recommended to guarantee delivery prior to Christmas, fees apply."},{"$f":"'Order Form'!$E$15","v":"FREE gift card"},{"$f":"'Order Form'!$E$16","v":"No thanks"},null,null,null,null,{"$f":"IF(N140=\"\",\"\",IFERROR(INDIRECT(\"Postcodes!$C\"&SUMPRODUCT(--(Postcodes!$A$2:$A$100<=N140)*(Postcodes!$B$2:$B$100>=N140), ROW(Postcodes!$A$2:$A$100))),\"WRONG CODE\"))","v":0},null,null,null,null,null,null,""]
[{"$f":"'Order Form'!A158","v":140},{"$f":"'Order Form'!N158","v":""},{"$f":"'Order Form'!$E$2","v":0},{"$f":"'Order Form'!$E$3","v":0},{"$f":"'Order Form'!$E$4","v":0},{"$f":"'Order Form'!$E$5","v":0},{"$f":"'Order Form'!$E$7","v":0},{"$f":"'Order Form'!$E$6","v":0},{"$f":"'Order Form'!$E$9","v":0},{"$f":"'Order Form'!$E$10 & \"\"","v":""},{"$f":"IF('Order Form'!D158=\"\",'Order Form'!C158,'Order Form'!D158)","v":0},{"$f":"'Order Form'!E158","v":0},{"$f":"'Order Form'!F158","v":0},{"$f":"'Order Form'!J158","v":0},{"$f":"'Order Form'!H158","v":0},{"$f":"'Order Form'!I158","v":0},{"$f":"'Order Form'!K158 & \"\"","v":""},{"$f":"'Order Form'!M158 & \"\"","v":""},{"$f":"'Order Form'!C158 & \"\"","v":""},{"$f":"'Order Form'!L158 & \"\"","v":""},{"$f":"'Order Form'!$E$12","v":"YES"},{"$f":"'Order Form'!$E$13","v":"ASAP (order with branding can take up to 3 business days to dispatch) Premium delivery recommended to guarantee delivery prior to Christmas, fees apply."},{"$f":"'Order Form'!$E$15","v":"FREE gift card"},{"$f":"'Order Form'!$E$16","v":"No thanks"},null,null,null,null,{"$f":"IF(N141=\"\",\"\",IFERROR(INDIRECT(\"Postcodes!$C\"&SUMPRODUCT(--(Postcodes!$A$2:$A$100<=N141)*(Postcodes!$B$2:$B$100>=N141), ROW(Postcodes!$A$2:$A$100))),\"WRONG CODE\"))","v":0},null,null,null,null,null,null,""]
[{"$f":"'Order Form'!A159","v":141},{"$f":"'Order Form'!N159","v":""},{"$f":"'Order Form'!$E$2","v":0},{"$f":"'Order Form'!$E$3","v":0},{"$f":"'Order Form'!$E$4","v":0},{"$f":"'Order Form'!$E$5","v":0},{"$f":"'Order Form'!$E$7","v":0},{"$f":"'Order Form'!$E$6","v":0},{"$f":"'Order Form'!$E$9","v":0},{"$f":"'Order Form'!$E$10 & \"\"","v":""},{"$f":"IF('Order Form'!D159=\"\",'Order Form'!C159,'Order Form'!D159)","v":0},{"$f":"'Order Form'!E159","v":0},{"$f":"'Order Form'!F159","v":0},{"$f":"'Order Form'!J159","v":0},{"$f":"'Order Form'!H159","v":0},{"$f":"'Order Form'!I159","v":0},{"$f":"'Order Form'!K159 & \"\"","v":""},{"$f":"'Order Form'!M159 & \"\"","v":""},{"$f":"'Order Form'!C159 & \"\"","v":""},{"$f":"'Order Form'!L159 & \"\"","v":""},{"$f":"'Order Form'!$E$12","v":"YES"},{"$f":"'Order Form'!$E$13","v":"ASAP (order with branding can take up to 3 business days to dispatch) Premium delivery recommended to guarantee delivery prior to Christmas, fees apply."},{"$f":"'Order Form'!$E$15","v":"FREE gift card"},{"$f":"'Order Form'!$E$16","v":"No thanks"},null,null,null,null,{"$f":"IF(N142=\"\",\"\",IFERROR(INDIRECT(\"Postcodes!$C\"&SUMPRODUCT(--(Postcodes!$A$2:$A$100<=N142)*(Postcodes!$B$2:$B$100>=N142), ROW(Postcodes!$A$2:$A$100))),\"WRONG CODE\"))","v":0},null,null,null,null,null,null,""]
[{"$f":"'Order Form'!A160","v":142},{"$f":"'Order Form'!N160","v":""},{"$f":"'Order Form'!$E$2","v":0},{"$f":"'Order Form'!$E$3","v":0},{"$f":"'Order Form'!$E$4","v":0},{"$f":"'Order Form'!$E$5","v":0},{"$f":"'Order Form'!$E$7","v":0},{"$f":"'Order Form'!$E$6","v":0},{"$f":"'Order Form'!$E$9","v":0},{"$f":"'Order Form'!$E$10 & \"\"","v":""},{"$f":"IF('Order Form'!D160=\"\",'Order Form'!C160,'Order Form'!D160)","v":0},{"$f":"'Order Form'!E160","v":0},{"$f":"'Order Form'!F160","v":0},{"$f":"'Order Form'!J160","v":0},{"$f":"'Order Form'!H160","v":0},{"$f":"'Order Form'!I160","v":0},{"$f":"'Order Form'!K160 & \"\"","v":""},{"$f":"'Order Form'!M160 & \"\"","v":""},{"$f":"'Order Form'!C160 & \"\"","v":""},{"$f":"'Order Form'!L160 & \"\"","v":""},{"$f":"'Order Form'!$E$12","v":"YES"},{"$f":"'Order Form'!$E$13","v":"ASAP (order with branding can take up to 3 business days to dispatch) Premium delivery recommended to guarantee delivery prior to Christmas, fees apply."},{"$f":"'Order Form'!$E$15","v":"FREE gift card"},{"$f":"'Order Form'!$E$16","v":"No thanks"},null,null,null,null,{"$f":"IF(N143=\"\",\"\",IFERROR(INDIRECT(\"Postcodes!$C\"&SUMPRODUCT(--(Postcodes!$A$2:$A$100<=N143)*(Postcodes!$B$2:$B$100>=N143), ROW(Postcodes!$A$2:$A$100))),\"WRONG CODE\"))","v":0},null,null,null,null,null,null,""]
[{"$f":"'Order Form'!A161","v":143},{"$f":"'Order Form'!N161","v":""},{"$f":"'Order Form'!$E$2","v":0},{"$f":"'Order Form'!$E$3","v":0},{"$f":"'Order Form'!$E$4","v":0},{"$f":"'Order Form'!$E$5","v":0},{"$f":"'Order Form'!$E$7","v":0},{"$f":"'Order Form'!$E$6","v":0},{"$f":"'Order Form'!$E$9","v":0},{"$f":"'Order Form'!$E$10 & \"\"","v":""},{"$f":"IF('Order Form'!D161=\"\",'Order Form'!C161,'Order Form'!D161)","v":0},{"$f":"'Order Form'!E161","v":0},{"$f":"'Order Form'!F161","v":0},{"$f":"'Order Form'!J161","v":0},{"$f":"'Order Form'!H161","v":0},{"$f":"'Order Form'!I161","v":0},{"$f":"'Order Form'!K161 & \"\"","v":""},{"$f":"'Order Form'!M161 & \"\"","v":""},{"$f":"'Order Form'!C161 & \"\"","v":""},{"$f":"'Order Form'!L161 & \"\"","v":""},{"$f":"'Order Form'!$E$12","v":"YES"},{"$f":"'Order Form'!$E$13","v":"ASAP (order with branding can take up to 3 business days to dispatch) Premium delivery recommended to guarantee delivery prior to Christmas, fees apply."},{"$f":"'Order Form'!$E$15","v":"FREE gift card"},{"$f":"'Order Form'!$E$16","v":"No thanks"},null,null,null,null,{"$f":"IF(N144=\"\",\"\",IFERROR(INDIRECT(\"Postcodes!$C\"&SUMPRODUCT(--(Postcodes!$A$2:$A$100<=N144)*(Postcodes!$B$2:$B$100>=N144), ROW(Postcodes!$A$2:$A$100))),\"WRONG CODE\"))","v":0},null,null,null,null,null,null,""]
[{"$f":"'Order Form'!A162","v":144},{"$f":"'Order Form'!N162","v":""},{"$f":"'Order Form'!$E$2","v":0},{"$f":"'Order Form'!$E$3","v":0},{"$f":"'Order Form'!$E$4","v":0},{"$f":"'Order Form'!$E$5","v":0},{"$f":"'Order Form'!$E$7","v":0},{"$f":"'Order Form'!$E$6","v":0},{"$f":"'Order Form'!$E$9","v":0},{"$f":"'Order Form'!$E$10 & \"\"","v":""},{"$f":"IF('Order Form'!D162=\"\",'Order Form'!C162,'Order Form'!D162)","v":0},{"$f":"'Order Form'!E162","v":0},{"$f":"'Order Form'!F162","v":0},{"$f":"'Order Form'!J162","v":0},{"$f":"'Order Form'!H162","v":0},{"$f":"'Order Form'!I162","v":0},{"$f":"'Order Form'!K162 & \"\"","v":""},{"$f":"'Order Form'!M162 & \"\"","v":""},{"$f":"'Order Form'!C162 & \"\"","v":""},{"$f":"'Order Form'!L162 & \"\"","v":""},{"$f":"'Order Form'!$E$12","v":"YES"},{"$f":"'Order Form'!$E$13","v":"ASAP (order with branding can take up to 3 business days to dispatch) Premium delivery recommended to guarantee delivery prior to Christmas, fees apply."},{"$f":"'Order Form'!$E$15","v":"FREE gift card"},{"$f":"'Order Form'!$E$16","v":"No thanks"},null,null,null,null,{"$f":"IF(N145=\"\",\"\",IFERROR(INDIRECT(\"Postcodes!$C\"&SUMPRODUCT(--(Postcodes!$A$2:$A$100<=N145)*(Postcodes!$B$2:$B$100>=N145), ROW(Postcodes!$A$2:$A$100))),\"WRONG CODE\"))","v":0},null,null,null,null,null,null,""]
[{"$f":"'Order Form'!A163","v":145},{"$f":"'Order Form'!N163","v":""},{"$f":"'Order Form'!$E$2","v":0},{"$f":"'Order Form'!$E$3","v":0},{"$f":"'Order Form'!$E$4","v":0},{"$f":"'Order Form'!$E$5","v":0},{"$f":"'Order Form'!$E$7","v":0},{"$f":"'Order Form'!$E$6","v":0},{"$f":"'Order Form'!$E$9","v":0},{"$f":"'Order Form'!$E$10 & \"\"","v":""},{"$f":"IF('Order Form'!D163=\"\",'Order Form'!C163,'Order Form'!D163)","v":0},{"$f":"'Order Form'!E163","v":0},{"$f":"'Order Form'!F163","v":0},{"$f":"'Order Form'!J163","v":0},{"$f":"'Order Form'!H163","v":0},{"$f":"'Order Form'!I163","v":0},{"$f":"'Order Form'!K163 & \"\"","v":""},{"$f":"'Order Form'!M163 & \"\"","v":""},{"$f":"'Order Form'!C163 & \"\"","v":""},{"$f":"'Order Form'!L163 & \"\"","v":""},{"$f":"'Order Form'!$E$12","v":"YES"},{"$f":"'Order Form'!$E$13","v":"ASAP (order with branding can take up to 3 business days to dispatch) Premium delivery recommended to guarantee delivery prior to Christmas, fees apply."},{"$f":"'Order Form'!$E$15","v":"FREE gift card"},{"$f":"'Order Form'!$E$16","v":"No thanks"},null,null,null,null,{"$f":"IF(N146=\"\",\"\",IFERROR(INDIRECT(\"Postcodes!$C\"&SUMPRODUCT(--(Postcodes!$A$2:$A$100<=N146)*(Postcodes!$B$2:$B$100>=N146), ROW(Postcodes!$A$2:$A$100))),\"WRONG CODE\"))","v":0},null,null,null,null,null,null,""]
[{"$f":"'Order Form'!A164","v":146},{"$f":"'Order Form'!N164","v":""},{"$f":"'Order Form'!$E$2","v":0},{"$f":"'Order Form'!$E$3","v":0},{"$f":"'Order Form'!$E$4","v":0},{"$f":"'Order Form'!$E$5","v":0},{"$f":"'Order Form'!$E$7","v":0},{"$f":"'Order Form'!$E$6","v":0},{"$f":"'Order Form'!$E$9","v":0},{"$f":"'Order Form'!$E$10 & \"\"","v":""},{"$f":"IF('Order Form'!D164=\"\",'Order Form'!C164,'Order Form'!D164)","v":0},{"$f":"'Order Form'!E164","v":0},{"$f":"'Order Form'!F164","v":0},{"$f":"'Order Form'!J164","v":0},{"$f":"'Order Form'!H164","v":0},{"$f":"'Order Form'!I164","v":0},{"$f":"'Order Form'!K164 & \"\"","v":""},{"$f":"'Order Form'!M164 & \"\"","v":""},{"$f":"'Order Form'!C164 & \"\"","v":""},{"$f":"'Order Form'!L164 & \"\"","v":""},{"$f":"'Order Form'!$E$12","v":"YES"},{"$f":"'Order Form'!$E$13","v":"ASAP (order with branding can take up to 3 business days to dispatch) Premium delivery recommended to guarantee delivery prior to Christmas, fees apply."},{"$f":"'Order Form'!$E$15","v":"FREE gift card"},{"$f":"'Order Form'!$E$16","v":"No thanks"},null,null,null,null,{"$f":"IF(N147=\"\",\"\",IFERROR(INDIRECT(\"Postcodes!$C\"&SUMPRODUCT(--(Postcodes!$A$2:$A$100<=N147)*(Postcodes!$B$2:$B$100>=N147), ROW(Postcodes!$A$2:$A$100))),\"WRONG CODE\"))","v":0},null,null,null,null,null,null,""]
[{"$f":"'Order Form'!A165","v":147},{"$f":"'Order Form'!N165","v":""},{"$f":"'Order Form'!$E$2","v":0},{"$f":"'Order Form'!$E$3","v":0},{"$f":"'Order Form'!$E$4","v":0},{"$f":"'Order Form'!$E$5","v":0},{"$f":"'Order Form'!$E$7","v":0},{"$f":"'Order Form'!$E$6","v":0},{"$f":"'Order Form'!$E$9","v":0},{"$f":"'Order Form'!$E$10 & \"\"","v":""},{"$f":"IF('Order Form'!D165=\"\",'Order Form'!C165,'Order Form'!D165)","v":0},{"$f":"'Order Form'!E165","v":0},{"$f":"'Order Form'!F165","v":0},{"$f":"'Order Form'!J165","v":0},{"$f":"'Order Form'!H165","v":0},{"$f":"'Order Form'!I165","v":0},{"$f":"'Order Form'!K165 & \"\"","v":""},{"$f":"'Order Form'!M165 & \"\"","v":""},{"$f":"'Order Form'!C165 & \"\"","v":""},{"$f":"'Order Form'!L165 & \"\"","v":""},{"$f":"'Order Form'!$E$12","v":"YES"},{"$f":"'Order Form'!$E$13","v":"ASAP (order with branding can take up to 3 business days to dispatch) Premium delivery recommended to guarantee delivery prior to Christmas, fees apply."},{"$f":"'Order Form'!$E$15","v":"FREE gift card"},{"$f":"'Order Form'!$E$16","v":"No thanks"},null,null,null,null,{"$f":"IF(N148=\"\",\"\",IFERROR(INDIRECT(\"Postcodes!$C\"&SUMPRODUCT(--(Postcodes!$A$2:$A$100<=N148)*(Postcodes!$B$2:$B$100>=N148), ROW(Postcodes!$A$2:$A$100))),\"WRONG CODE\"))","v":0},null,null,null,null,null,null,""]
[{"$f":"'Order Form'!A166","v":148},{"$f":"'Order Form'!N166","v":""},{"$f":"'Order Form'!$E$2","v":0},{"$f":"'Order Form'!$E$3","v":0},{"$f":"'Order Form'!$E$4","v":0},{"$f":"'Order Form'!$E$5","v":0},{"$f":"'Order Form'!$E$7","v":0},{"$f":"'Order Form'!$E$6","v":0},{"$f":"'Order Form'!$E$9","v":0},{"$f":"'Order Form'!$E$10 & \"\"","v":""},{"$f":"IF('Order Form'!D166=\"\",'Order Form'!C166,'Order Form'!D166)","v":0},{"$f":"'Order Form'!E166","v":0},{"$f":"'Order Form'!F166","v":0},{"$f":"'Order Form'!J166","v":0},{"$f":"'Order Form'!H166","v":0},{"$f":"'Order Form'!I166","v":0},{"$f":"'Order Form'!K166 & \"\"","v":""},{"$f":"'Order Form'!M166 & \"\"","v":""},{"$f":"'Order Form'!C166 & \"\"","v":""},{"$f":"'Order Form'!L166 & \"\"","v":""},{"$f":"'Order Form'!$E$12","v":"YES"},{"$f":"'Order Form'!$E$13","v":"ASAP (order with branding can take up to 3 business days to dispatch) Premium delivery recommended to guarantee delivery prior to Christmas, fees apply."},{"$f":"'Order Form'!$E$15","v":"FREE gift card"},{"$f":"'Order Form'!$E$16","v":"No thanks"},null,null,null,null,{"$f":"IF(N149=\"\",\"\",IFERROR(INDIRECT(\"Postcodes!$C\"&SUMPRODUCT(--(Postcodes!$A$2:$A$100<=N149)*(Postcodes!$B$2:$B$100>=N149), ROW(Postcodes!$A$2:$A$100))),\"WRONG CODE\"))","v":0},null,null,null,null,null,null,""]
[{"$f":"'Order Form'!A167","v":149},{"$f":"'Order Form'!N167","v":""},{"$f":"'Order Form'!$E$2","v":0},{"$f":"'Order Form'!$E$3","v":0},{"$f":"'Order Form'!$E$4","v":0},{"$f":"'Order Form'!$E$5","v":0},{"$f":"'Order Form'!$E$7","v":0},{"$f":"'Order Form'!$E$6","v":0},{"$f":"'Order Form'!$E$9","v":0},{"$f":"'Order Form'!$E$10 & \"\"","v":""},{"$f":"IF('Order Form'!D167=\"\",'Order Form'!C167,'Order Form'!D167)","v":0},{"$f":"'Order Form'!E167","v":0},{"$f":"'Order Form'!F167","v":0},{"$f":"'Order Form'!J167","v":0},{"$f":"'Order Form'!H167","v":0},{"$f":"'Order Form'!I167","v":0},{"$f":"'Order Form'!K167 & \"\"","v":""},{"$f":"'Order Form'!M167 & \"\"","v":""},{"$f":"'Order Form'!C167 & \"\"","v":""},{"$f":"'Order Form'!L167 & \"\"","v":""},{"$f":"'Order Form'!$E$12","v":"YES"},{"$f":"'Order Form'!$E$13","v":"ASAP (order with branding can take up to 3 business days to dispatch) Premium delivery recommended to guarantee delivery prior to Christmas, fees apply."},{"$f":"'Order Form'!$E$15","v":"FREE gift card"},{"$f":"'Order Form'!$E$16","v":"No thanks"},null,null,null,null,{"$f":"IF(N150=\"\",\"\",IFERROR(INDIRECT(\"Postcodes!$C\"&SUMPRODUCT(--(Postcodes!$A$2:$A$100<=N150)*(Postcodes!$B$2:$B$100>=N150), ROW(Postcodes!$A$2:$A$100))),\"WRONG CODE\"))","v":0},null,null,null,null,null,null,""]
[{"$f":"'Order Form'!A168","v":150},{"$f":"'Order Form'!N168","v":""},{"$f":"'Order Form'!$E$2","v":0},{"$f":"'Order Form'!$E$3","v":0},{"$f":"'Order Form'!$E$4","v":0},{"$f":"'Order Form'!$E$5","v":0},{"$f":"'Order Form'!$E$7","v":0},{"$f":"'Order Form'!$E$6","v":0},{"$f":"'Order Form'!$E$9","v":0},{"$f":"'Order Form'!$E$10 & \"\"","v":""},{"$f":"IF('Order Form'!D168=\"\",'Order Form'!C168,'Order Form'!D168)","v":0},{"$f":"'Order Form'!E168","v":0},{"$f":"'Order Form'!F168","v":0},{"$f":"'Order Form'!J168","v":0},{"$f":"'Order Form'!H168","v":0},{"$f":"'Order Form'!I168","v":0},{"$f":"'Order Form'!K168 & \"\"","v":""},{"$f":"'Order Form'!M168 & \"\"","v":""},{"$f":"'Order Form'!C168 & \"\"","v":""},{"$f":"'Order Form'!L168 & \"\"","v":""},{"$f":"'Order Form'!$E$12","v":"YES"},{"$f":"'Order Form'!$E$13","v":"ASAP (order with branding can take up to 3 business days to dispatch) Premium delivery recommended to guarantee delivery prior to Christmas, fees apply."},{"$f":"'Order Form'!$E$15","v":"FREE gift card"},{"$f":"'Order Form'!$E$16","v":"No thanks"},null,null,null,null,{"$f":"IF(N151=\"\",\"\",IFERROR(INDIRECT(\"Postcodes!$C\"&SUMPRODUCT(--(Postcodes!$A$2:$A$100<=N151)*(Postcodes!$B$2:$B$100>=N151), ROW(Postcodes!$A$2:$A$100))),\"WRONG CODE\"))","v":0},null,null,null,null,null,null,""]
[{"$f":"'Order Form'!A169","v":151},{"$f":"'Order Form'!N169","v":""},{"$f":"'Order Form'!$E$2","v":0},{"$f":"'Order Form'!$E$3","v":0},{"$f":"'Order Form'!$E$4","v":0},{"$f":"'Order Form'!$E$5","v":0},{"$f":"'Order Form'!$E$7","v":0},{"$f":"'Order Form'!$E$6","v":0},{"$f":"'Order Form'!$E$9","v":0},{"$f":"'Order Form'!$E$10 & \"\"","v":""},{"$f":"IF('Order Form'!D169=\"\",'Order Form'!C169,'Order Form'!D169)","v":0},{"$f":"'Order Form'!E169","v":0},{"$f":"'Order Form'!F169","v":0},{"$f":"'Order Form'!J169","v":0},{"$f":"'Order Form'!H169","v":0},{"$f":"'Order Form'!I169","v":0},{"$f":"'Order Form'!K169 & \"\"","v":""},{"$f":"'Order Form'!M169 & \"\"","v":""},{"$f":"'Order Form'!C169 & \"\"","v":""},{"$f":"'Order Form'!L169 & \"\"","v":""},{"$f":"'Order Form'!$E$12","v":"YES"},{"$f":"'Order Form'!$E$13","v":"ASAP (order with branding can take up to 3 business days to dispatch) Premium delivery recommended to guarantee delivery prior to Christmas, fees apply."},{"$f":"'Order Form'!$E$15","v":"FREE gift card"},{"$f":"'Order Form'!$E$16","v":"No thanks"},null,null,null,null,{"$f":"IF(N152=\"\",\"\",IFERROR(INDIRECT(\"Postcodes!$C\"&SUMPRODUCT(--(Postcodes!$A$2:$A$100<=N152)*(Postcodes!$B$2:$B$100>=N152), ROW(Postcodes!$A$2:$A$100))),\"WRONG CODE\"))","v":0},null,null,null,null,null,null,""]
[{"$f":"'Order Form'!A170","v":152},{"$f":"'Order Form'!N170","v":""},{"$f":"'Order Form'!$E$2","v":0},{"$f":"'Order Form'!$E$3","v":0},{"$f":"'Order Form'!$E$4","v":0},{"$f":"'Order Form'!$E$5","v":0},{"$f":"'Order Form'!$E$7","v":0},{"$f":"'Order Form'!$E$6","v":0},{"$f":"'Order Form'!$E$9","v":0},{"$f":"'Order Form'!$E$10 & \"\"","v":""},{"$f":"IF('Order Form'!D170=\"\",'Order Form'!C170,'Order Form'!D170)","v":0},{"$f":"'Order Form'!E170","v":0},{"$f":"'Order Form'!F170","v":0},{"$f":"'Order Form'!J170","v":0},{"$f":"'Order Form'!H170","v":0},{"$f":"'Order Form'!I170","v":0},{"$f":"'Order Form'!K170 & \"\"","v":""},{"$f":"'Order Form'!M170 & \"\"","v":""},{"$f":"'Order Form'!C170 & \"\"","v":""},{"$f":"'Order Form'!L170 & \"\"","v":""},{"$f":"'Order Form'!$E$12","v":"YES"},{"$f":"'Order Form'!$E$13","v":"ASAP (order with branding can take up to 3 business days to dispatch) Premium delivery recommended to guarantee delivery prior to Christmas, fees apply."},{"$f":"'Order Form'!$E$15","v":"FREE gift card"},{"$f":"'Order Form'!$E$16","v":"No thanks"},null,null,null,null,{"$f":"IF(N153=\"\",\"\",IFERROR(INDIRECT(\"Postcodes!$C\"&SUMPRODUCT(--(Postcodes!$A$2:$A$100<=N153)*(Postcodes!$B$2:$B$100>=N153), ROW(Postcodes!$A$2:$A$100))),\"WRONG CODE\"))","v":0},null,null,null,null,null,null,""]
[{"$f":"'Order Form'!A171","v":153},{"$f":"'Order Form'!N171","v":""},{"$f":"'Order Form'!$E$2","v":0},{"$f":"'Order Form'!$E$3","v":0},{"$f":"'Order Form'!$E$4","v":0},{"$f":"'Order Form'!$E$5","v":0},{"$f":"'Order Form'!$E$7","v":0},{"$f":"'Order Form'!$E$6","v":0},{"$f":"'Order Form'!$E$9","v":0},{"$f":"'Order Form'!$E$10 & \"\"","v":""},{"$f":"IF('Order Form'!D171=\"\",'Order Form'!C171,'Order Form'!D171)","v":0},{"$f":"'Order Form'!E171","v":0},{"$f":"'Order Form'!F171","v":0},{"$f":"'Order Form'!J171","v":0},{"$f":"'Order Form'!H171","v":0},{"$f":"'Order Form'!I171","v":0},{"$f":"'Order Form'!K171 & \"\"","v":""},{"$f":"'Order Form'!M171 & \"\"","v":""},{"$f":"'Order Form'!C171 & \"\"","v":""},{"$f":"'Order Form'!L171 & \"\"","v":""},{"$f":"'Order Form'!$E$12","v":"YES"},{"$f":"'Order Form'!$E$13","v":"ASAP (order with branding can take up to 3 business days to dispatch) Premium delivery recommended to guarantee delivery prior to Christmas, fees apply."},{"$f":"'Order Form'!$E$15","v":"FREE gift card"},{"$f":"'Order Form'!$E$16","v":"No thanks"},null,null,null,null,{"$f":"IF(N154=\"\",\"\",IFERROR(INDIRECT(\"Postcodes!$C\"&SUMPRODUCT(--(Postcodes!$A$2:$A$100<=N154)*(Postcodes!$B$2:$B$100>=N154), ROW(Postcodes!$A$2:$A$100))),\"WRONG CODE\"))","v":0},null,null,null,null,null,null,""]
[{"$f":"'Order Form'!A172","v":154},{"$f":"'Order Form'!N172","v":""},{"$f":"'Order Form'!$E$2","v":0},{"$f":"'Order Form'!$E$3","v":0},{"$f":"'Order Form'!$E$4","v":0},{"$f":"'Order Form'!$E$5","v":0},{"$f":"'Order Form'!$E$7","v":0},{"$f":"'Order Form'!$E$6","v":0},{"$f":"'Order Form'!$E$9","v":0},{"$f":"'Order Form'!$E$10 & \"\"","v":""},{"$f":"IF('Order Form'!D172=\"\",'Order Form'!C172,'Order Form'!D172)","v":0},{"$f":"'Order Form'!E172","v":0},{"$f":"'Order Form'!F172","v":0},{"$f":"'Order Form'!J172","v":0},{"$f":"'Order Form'!H172","v":0},{"$f":"'Order Form'!I172","v":0},{"$f":"'Order Form'!K172 & \"\"","v":""},{"$f":"'Order Form'!M172 & \"\"","v":""},{"$f":"'Order Form'!C172 & \"\"","v":""},{"$f":"'Order Form'!L172 & \"\"","v":""},{"$f":"'Order Form'!$E$12","v":"YES"},{"$f":"'Order Form'!$E$13","v":"ASAP (order with branding can take up to 3 business days to dispatch) Premium delivery recommended to guarantee delivery prior to Christmas, fees apply."},{"$f":"'Order Form'!$E$15","v":"FREE gift card"},{"$f":"'Order Form'!$E$16","v":"No thanks"},null,null,null,null,{"$f":"IF(N155=\"\",\"\",IFERROR(INDIRECT(\"Postcodes!$C\"&SUMPRODUCT(--(Postcodes!$A$2:$A$100<=N155)*(Postcodes!$B$2:$B$100>=N155), ROW(Postcodes!$A$2:$A$100))),\"WRONG CODE\"))","v":0},null,null,null,null,null,null,""]
[{"$f":"'Order Form'!A173","v":155},{"$f":"'Order Form'!N173","v":""},{"$f":"'Order Form'!$E$2","v":0},{"$f":"'Order Form'!$E$3","v":0},{"$f":"'Order Form'!$E$4","v":0},{"$f":"'Order Form'!$E$5","v":0},{"$f":"'Order Form'!$E$7","v":0},{"$f":"'Order Form'!$E$6","v":0},{"$f":"'Order Form'!$E$9","v":0},{"$f":"'Order Form'!$E$10 & \"\"","v":""},{"$f":"IF('Order Form'!D173=\"\",'Order Form'!C173,'Order Form'!D173)","v":0},{"$f":"'Order Form'!E173","v":0},{"$f":"'Order Form'!F173","v":0},{"$f":"'Order Form'!J173","v":0},{"$f":"'Order Form'!H173","v":0},{"$f":"'Order Form'!I173","v":0},{"$f":"'Order Form'!K173 & \"\"","v":""},{"$f":"'Order Form'!M173 & \"\"","v":""},{"$f":"'Order Form'!C173 & \"\"","v":""},{"$f":"'Order Form'!L173 & \"\"","v":""},{"$f":"'Order Form'!$E$12","v":"YES"},{"$f":"'Order Form'!$E$13","v":"ASAP (order with branding can take up to 3 business days to dispatch) Premium delivery recommended to guarantee delivery prior to Christmas, fees apply."},{"$f":"'Order Form'!$E$15","v":"FREE gift card"},{"$f":"'Order Form'!$E$16","v":"No thanks"},null,null,null,null,{"$f":"IF(N156=\"\",\"\",IFERROR(INDIRECT(\"Postcodes!$C\"&SUMPRODUCT(--(Postcodes!$A$2:$A$100<=N156)*(Postcodes!$B$2:$B$100>=N156), ROW(Postcodes!$A$2:$A$100))),\"WRONG CODE\"))","v":0},null,null,null,null,null,null,""]
[{"$f":"'Order Form'!A174","v":156},{"$f":"'Order Form'!N174","v":""},{"$f":"'Order Form'!$E$2","v":0},{"$f":"'Order Form'!$E$3","v":0},{"$f":"'Order Form'!$E$4","v":0},{"$f":"'Order Form'!$E$5","v":0},{"$f":"'Order Form'!$E$7","v":0},{"$f":"'Order Form'!$E$6","v":0},{"$f":"'Order Form'!$E$9","v":0},{"$f":"'Order Form'!$E$10 & \"\"","v":""},{"$f":"IF('Order Form'!D174=\"\",'Order Form'!C174,'Order Form'!D174)","v":0},{"$f":"'Order Form'!E174","v":0},{"$f":"'Order Form'!F174","v":0},{"$f":"'Order Form'!J174","v":0},{"$f":"'Order Form'!H174","v":0},{"$f":"'Order Form'!I174","v":0},{"$f":"'Order Form'!K174 & \"\"","v":""},{"$f":"'Order Form'!M174 & \"\"","v":""},{"$f":"'Order Form'!C174 & \"\"","v":""},{"$f":"'Order Form'!L174 & \"\"","v":""},{"$f":"'Order Form'!$E$12","v":"YES"},{"$f":"'Order Form'!$E$13","v":"ASAP (order with branding can take up to 3 business days to dispatch) Premium delivery recommended to guarantee delivery prior to Christmas, fees apply."},{"$f":"'Order Form'!$E$15","v":"FREE gift card"},{"$f":"'Order Form'!$E$16","v":"No thanks"},null,null,null,null,{"$f":"IF(N157=\"\",\"\",IFERROR(INDIRECT(\"Postcodes!$C\"&SUMPRODUCT(--(Postcodes!$A$2:$A$100<=N157)*(Postcodes!$B$2:$B$100>=N157), ROW(Postcodes!$A$2:$A$100))),\"WRONG CODE\"))","v":0},null,null,null,null,null,null,""]
[{"$f":"'Order Form'!A175","v":157},{"$f":"'Order Form'!N175","v":""},{"$f":"'Order Form'!$E$2","v":0},{"$f":"'Order Form'!$E$3","v":0},{"$f":"'Order Form'!$E$4","v":0},{"$f":"'Order Form'!$E$5","v":0},{"$f":"'Order Form'!$E$7","v":0},{"$f":"'Order Form'!$E$6","v":0},{"$f":"'Order Form'!$E$9","v":0},{"$f":"'Order Form'!$E$10 & \"\"","v":""},{"$f":"IF('Order Form'!D175=\"\",'Order Form'!C175,'Order Form'!D175)","v":0},{"$f":"'Order Form'!E175","v":0},{"$f":"'Order Form'!F175","v":0},{"$f":"'Order Form'!J175","v":0},{"$f":"'Order Form'!H175","v":0},{"$f":"'Order Form'!I175","v":0},{"$f":"'Order Form'!K175 & \"\"","v":""},{"$f":"'Order Form'!M175 & \"\"","v":""},{"$f":"'Order Form'!C175 & \"\"","v":""},{"$f":"'Order Form'!L175 & \"\"","v":""},{"$f":"'Order Form'!$E$12","v":"YES"},{"$f":"'Order Form'!$E$13","v":"ASAP (order with branding can take up to 3 business days to dispatch) Premium delivery recommended to guarantee delivery prior to Christmas, fees apply."},{"$f":"'Order Form'!$E$15","v":"FREE gift card"},{"$f":"'Order Form'!$E$16","v":"No thanks"},null,null,null,null,{"$f":"IF(N158=\"\",\"\",IFERROR(INDIRECT(\"Postcodes!$C\"&SUMPRODUCT(--(Postcodes!$A$2:$A$100<=N158)*(Postcodes!$B$2:$B$100>=N158), ROW(Postcodes!$A$2:$A$100))),\"WRONG CODE\"))","v":0},null,null,null,null,null,null,""]
[{"$f":"'Order Form'!A176","v":158},{"$f":"'Order Form'!N176","v":""},{"$f":"'Order Form'!$E$2","v":0},{"$f":"'Order Form'!$E$3","v":0},{"$f":"'Order Form'!$E$4","v":0},{"$f":"'Order Form'!$E$5","v":0},{"$f":"'Order Form'!$E$7","v":0},{"$f":"'Order Form'!$E$6","v":0},{"$f":"'Order Form'!$E$9","v":0},{"$f":"'Order Form'!$E$10 & \"\"","v":""},{"$f":"IF('Order Form'!D176=\"\",'Order Form'!C176,'Order Form'!D176)","v":0},{"$f":"'Order Form'!E176","v":0},{"$f":"'Order Form'!F176","v":0},{"$f":"'Order Form'!J176","v":0},{"$f":"'Order Form'!H176","v":0},{"$f":"'Order Form'!I176","v":0},{"$f":"'Order Form'!K176 & \"\"","v":""},{"$f":"'Order Form'!M176 & \"\"","v":""},{"$f":"'Order Form'!C176 & \"\"","v":""},{"$f":"'Order Form'!L176 & \"\"","v":""},{"$f":"'Order Form'!$E$12","v":"YES"},{"$f":"'Order Form'!$E$13","v":"ASAP (order with branding can take up to 3 business days to dispatch) Premium delivery recommended to guarantee delivery prior to Christmas, fees apply."},{"$f":"'Order Form'!$E$15","v":"FREE gift card"},{"$f":"'Order Form'!$E$16","v":"No thanks"},null,null,null,null,{"$f":"IF(N159=\"\",\"\",IFERROR(INDIRECT(\"Postcodes!$C\"&SUMPRODUCT(--(Postcodes!$A$2:$A$100<=N159)*(Postcodes!$B$2:$B$100>=N159), ROW(Postcodes!$A$2:$A$100))),\"WRONG CODE\"))","v":0},null,null,null,null,null,null,""]
[{"$f":"'Order Form'!A177","v":159},{"$f":"'Order Form'!N177","v":""},{"$f":"'Order Form'!$E$2","v":0},{"$f":"'Order Form'!$E$3","v":0},{"$f":"'Order Form'!$E$4","v":0},{"$f":"'Order Form'!$E$5","v":0},{"$f":"'Order Form'!$E$7","v":0},{"$f":"'Order Form'!$E$6","v":0},{"$f":"'Order Form'!$E$9","v":0},{"$f":"'Order Form'!$E$10 & \"\"","v":""},{"$f":"IF('Order Form'!D177=\"\",'Order Form'!C177,'Order Form'!D177)","v":0},{"$f":"'Order Form'!E177","v":0},{"$f":"'Order Form'!F177","v":0},{"$f":"'Order Form'!J177","v":0},{"$f":"'Order Form'!H177","v":0},{"$f":"'Order Form'!I177","v":0},{"$f":"'Order Form'!K177 & \"\"","v":""},{"$f":"'Order Form'!M177 & \"\"","v":""},{"$f":"'Order Form'!C177 & \"\"","v":""},{"$f":"'Order Form'!L177 & \"\"","v":""},{"$f":"'Order Form'!$E$12","v":"YES"},{"$f":"'Order Form'!$E$13","v":"ASAP (order with branding can take up to 3 business days to dispatch) Premium delivery recommended to guarantee delivery prior to Christmas, fees apply."},{"$f":"'Order Form'!$E$15","v":"FREE gift card"},{"$f":"'Order Form'!$E$16","v":"No thanks"},null,null,null,null,{"$f":"IF(N160=\"\",\"\",IFERROR(INDIRECT(\"Postcodes!$C\"&SUMPRODUCT(--(Postcodes!$A$2:$A$100<=N160)*(Postcodes!$B$2:$B$100>=N160), ROW(Postcodes!$A$2:$A$100))),\"WRONG CODE\"))","v":0},null,null,null,null,null,null,""]
[{"$f":"'Order Form'!A178","v":160},{"$f":"'Order Form'!N178","v":""},{"$f":"'Order Form'!$E$2","v":0},{"$f":"'Order Form'!$E$3","v":0},{"$f":"'Order Form'!$E$4","v":0},{"$f":"'Order Form'!$E$5","v":0},{"$f":"'Order Form'!$E$7","v":0},{"$f":"'Order Form'!$E$6","v":0},{"$f":"'Order Form'!$E$9","v":0},{"$f":"'Order Form'!$E$10 & \"\"","v":""},{"$f":"IF('Order Form'!D178=\"\",'Order Form'!C178,'Order Form'!D178)","v":0},{"$f":"'Order Form'!E178","v":0},{"$f":"'Order Form'!F178","v":0},{"$f":"'Order Form'!J178","v":0},{"$f":"'Order Form'!H178","v":0},{"$f":"'Order Form'!I178","v":0},{"$f":"'Order Form'!K178 & \"\"","v":""},{"$f":"'Order Form'!M178 & \"\"","v":""},{"$f":"'Order Form'!C178 & \"\"","v":""},{"$f":"'Order Form'!L178 & \"\"","v":""},{"$f":"'Order Form'!$E$12","v":"YES"},{"$f":"'Order Form'!$E$13","v":"ASAP (order with branding can take up to 3 business days to dispatch) Premium delivery recommended to guarantee delivery prior to Christmas, fees apply."},{"$f":"'Order Form'!$E$15","v":"FREE gift card"},{"$f":"'Order Form'!$E$16","v":"No thanks"},null,null,null,null,{"$f":"IF(N161=\"\",\"\",IFERROR(INDIRECT(\"Postcodes!$C\"&SUMPRODUCT(--(Postcodes!$A$2:$A$100<=N161)*(Postcodes!$B$2:$B$100>=N161), ROW(Postcodes!$A$2:$A$100))),\"WRONG CODE\"))","v":0},null,null,null,null,null,null,""]
[{"$f":"'Order Form'!A179","v":161},{"$f":"'Order Form'!N179","v":""},{"$f":"'Order Form'!$E$2","v":0},{"$f":"'Order Form'!$E$3","v":0},{"$f":"'Order Form'!$E$4","v":0},{"$f":"'Order Form'!$E$5","v":0},{"$f":"'Order Form'!$E$7","v":0},{"$f":"'Order Form'!$E$6","v":0},{"$f":"'Order Form'!$E$9","v":0},{"$f":"'Order Form'!$E$10 & \"\"","v":""},{"$f":"IF('Order Form'!D179=\"\",'Order Form'!C179,'Order Form'!D179)","v":0},{"$f":"'Order Form'!E179","v":0},{"$f":"'Order Form'!F179","v":0},{"$f":"'Order Form'!J179","v":0},{"$f":"'Order Form'!H179","v":0},{"$f":"'Order Form'!I179","v":0},{"$f":"'Order Form'!K179 & \"\"","v":""},{"$f":"'Order Form'!M179 & \"\"","v":""},{"$f":"'Order Form'!C179 & \"\"","v":""},{"$f":"'Order Form'!L179 & \"\"","v":""},{"$f":"'Order Form'!$E$12","v":"YES"},{"$f":"'Order Form'!$E$13","v":"ASAP (order with branding can take up to 3 business days to dispatch) Premium delivery recommended to guarantee delivery prior to Christmas, fees apply."},{"$f":"'Order Form'!$E$15","v":"FREE gift card"},{"$f":"'Order Form'!$E$16","v":"No thanks"},null,null,null,null,{"$f":"IF(N162=\"\",\"\",IFERROR(INDIRECT(\"Postcodes!$C\"&SUMPRODUCT(--(Postcodes!$A$2:$A$100<=N162)*(Postcodes!$B$2:$B$100>=N162), ROW(Postcodes!$A$2:$A$100))),\"WRONG CODE\"))","v":0},null,null,null,null,null,null,""]
[{"$f":"'Order Form'!A180","v":162},{"$f":"'Order Form'!N180","v":""},{"$f":"'Order Form'!$E$2","v":0},{"$f":"'Order Form'!$E$3","v":0},{"$f":"'Order Form'!$E$4","v":0},{"$f":"'Order Form'!$E$5","v":0},{"$f":"'Order Form'!$E$7","v":0},{"$f":"'Order Form'!$E$6","v":0},{"$f":"'Order Form'!$E$9","v":0},{"$f":"'Order Form'!$E$10 & \"\"","v":""},{"$f":"IF('Order Form'!D180=\"\",'Order Form'!C180,'Order Form'!D180)","v":0},{"$f":"'Order Form'!E180","v":0},{"$f":"'Order Form'!F180","v":0},{"$f":"'Order Form'!J180","v":0},{"$f":"'Order Form'!H180","v":0},{"$f":"'Order Form'!I180","v":0},{"$f":"'Order Form'!K180 & \"\"","v":""},{"$f":"'Order Form'!M180 & \"\"","v":""},{"$f":"'Order Form'!C180 & \"\"","v":""},{"$f":"'Order Form'!L180 & \"\"","v":""},{"$f":"'Order Form'!$E$12","v":"YES"},{"$f":"'Order Form'!$E$13","v":"ASAP (order with branding can take up to 3 business days to dispatch) Premium delivery recommended to guarantee delivery prior to Christmas, fees apply."},{"$f":"'Order Form'!$E$15","v":"FREE gift card"},{"$f":"'Order Form'!$E$16","v":"No thanks"},null,null,null,null,{"$f":"IF(N163=\"\",\"\",IFERROR(INDIRECT(\"Postcodes!$C\"&SUMPRODUCT(--(Postcodes!$A$2:$A$100<=N163)*(Postcodes!$B$2:$B$100>=N163), ROW(Postcodes!$A$2:$A$100))),\"WRONG CODE\"))","v":0},null,null,null,null,null,null,""]
[{"$f":"'Order Form'!A181","v":163},{"$f":"'Order Form'!N181","v":""},{"$f":"'Order Form'!$E$2","v":0},{"$f":"'Order Form'!$E$3","v":0},{"$f":"'Order Form'!$E$4","v":0},{"$f":"'Order Form'!$E$5","v":0},{"$f":"'Order Form'!$E$7","v":0},{"$f":"'Order Form'!$E$6","v":0},{"$f":"'Order Form'!$E$9","v":0},{"$f":"'Order Form'!$E$10 & \"\"","v":""},{"$f":"IF('Order Form'!D181=\"\",'Order Form'!C181,'Order Form'!D181)","v":0},{"$f":"'Order Form'!E181","v":0},{"$f":"'Order Form'!F181","v":0},{"$f":"'Order Form'!J181","v":0},{"$f":"'Order Form'!H181","v":0},{"$f":"'Order Form'!I181","v":0},{"$f":"'Order Form'!K181 & \"\"","v":""},{"$f":"'Order Form'!M181 & \"\"","v":""},{"$f":"'Order Form'!C181 & \"\"","v":""},{"$f":"'Order Form'!L181 & \"\"","v":""},{"$f":"'Order Form'!$E$12","v":"YES"},{"$f":"'Order Form'!$E$13","v":"ASAP (order with branding can take up to 3 business days to dispatch) Premium delivery recommended to guarantee delivery prior to Christmas, fees apply."},{"$f":"'Order Form'!$E$15","v":"FREE gift card"},{"$f":"'Order Form'!$E$16","v":"No thanks"},null,null,null,null,{"$f":"IF(N164=\"\",\"\",IFERROR(INDIRECT(\"Postcodes!$C\"&SUMPRODUCT(--(Postcodes!$A$2:$A$100<=N164)*(Postcodes!$B$2:$B$100>=N164), ROW(Postcodes!$A$2:$A$100))),\"WRONG CODE\"))","v":0},null,null,null,null,null,null,""]
[{"$f":"'Order Form'!A182","v":164},{"$f":"'Order Form'!N182","v":""},{"$f":"'Order Form'!$E$2","v":0},{"$f":"'Order Form'!$E$3","v":0},{"$f":"'Order Form'!$E$4","v":0},{"$f":"'Order Form'!$E$5","v":0},{"$f":"'Order Form'!$E$7","v":0},{"$f":"'Order Form'!$E$6","v":0},{"$f":"'Order Form'!$E$9","v":0},{"$f":"'Order Form'!$E$10 & \"\"","v":""},{"$f":"IF('Order Form'!D182=\"\",'Order Form'!C182,'Order Form'!D182)","v":0},{"$f":"'Order Form'!E182","v":0},{"$f":"'Order Form'!F182","v":0},{"$f":"'Order Form'!J182","v":0},{"$f":"'Order Form'!H182","v":0},{"$f":"'Order Form'!I182","v":0},{"$f":"'Order Form'!K182 & \"\"","v":""},{"$f":"'Order Form'!M182 & \"\"","v":""},{"$f":"'Order Form'!C182 & \"\"","v":""},{"$f":"'Order Form'!L182 & \"\"","v":""},{"$f":"'Order Form'!$E$12","v":"YES"},{"$f":"'Order Form'!$E$13","v":"ASAP (order with branding can take up to 3 business days to dispatch) Premium delivery recommended to guarantee delivery prior to Christmas, fees apply."},{"$f":"'Order Form'!$E$15","v":"FREE gift card"},{"$f":"'Order Form'!$E$16","v":"No thanks"},null,null,null,null,{"$f":"IF(N165=\"\",\"\",IFERROR(INDIRECT(\"Postcodes!$C\"&SUMPRODUCT(--(Postcodes!$A$2:$A$100<=N165)*(Postcodes!$B$2:$B$100>=N165), ROW(Postcodes!$A$2:$A$100))),\"WRONG CODE\"))","v":0},null,null,null,null,null,null,""]
[{"$f":"'Order Form'!A183","v":165},{"$f":"'Order Form'!N183","v":""},{"$f":"'Order Form'!$E$2","v":0},{"$f":"'Order Form'!$E$3","v":0},{"$f":"'Order Form'!$E$4","v":0},{"$f":"'Order Form'!$E$5","v":0},{"$f":"'Order Form'!$E$7","v":0},{"$f":"'Order Form'!$E$6","v":0},{"$f":"'Order Form'!$E$9","v":0},{"$f":"'Order Form'!$E$10 & \"\"","v":""},{"$f":"IF('Order Form'!D183=\"\",'Order Form'!C183,'Order Form'!D183)","v":0},{"$f":"'Order Form'!E183","v":0},{"$f":"'Order Form'!F183","v":0},{"$f":"'Order Form'!J183","v":0},{"$f":"'Order Form'!H183","v":0},{"$f":"'Order Form'!I183","v":0},{"$f":"'Order Form'!K183 & \"\"","v":""},{"$f":"'Order Form'!M183 & \"\"","v":""},{"$f":"'Order Form'!C183 & \"\"","v":""},{"$f":"'Order Form'!L183 & \"\"","v":""},{"$f":"'Order Form'!$E$12","v":"YES"},{"$f":"'Order Form'!$E$13","v":"ASAP (order with branding can take up to 3 business days to dispatch) Premium delivery recommended to guarantee delivery prior to Christmas, fees apply."},{"$f":"'Order Form'!$E$15","v":"FREE gift card"},{"$f":"'Order Form'!$E$16","v":"No thanks"},null,null,null,null,{"$f":"IF(N166=\"\",\"\",IFERROR(INDIRECT(\"Postcodes!$C\"&SUMPRODUCT(--(Postcodes!$A$2:$A$100<=N166)*(Postcodes!$B$2:$B$100>=N166), ROW(Postcodes!$A$2:$A$100))),\"WRONG CODE\"))","v":0},null,null,null,null,null,null,""]
[{"$f":"'Order Form'!A184","v":166},{"$f":"'Order Form'!N184","v":""},{"$f":"'Order Form'!$E$2","v":0},{"$f":"'Order Form'!$E$3","v":0},{"$f":"'Order Form'!$E$4","v":0},{"$f":"'Order Form'!$E$5","v":0},{"$f":"'Order Form'!$E$7","v":0},{"$f":"'Order Form'!$E$6","v":0},{"$f":"'Order Form'!$E$9","v":0},{"$f":"'Order Form'!$E$10 & \"\"","v":""},{"$f":"IF('Order Form'!D184=\"\",'Order Form'!C184,'Order Form'!D184)","v":0},{"$f":"'Order Form'!E184","v":0},{"$f":"'Order Form'!F184","v":0},{"$f":"'Order Form'!J184","v":0},{"$f":"'Order Form'!H184","v":0},{"$f":"'Order Form'!I184","v":0},{"$f":"'Order Form'!K184 & \"\"","v":""},{"$f":"'Order Form'!M184 & \"\"","v":""},{"$f":"'Order Form'!C184 & \"\"","v":""},{"$f":"'Order Form'!L184 & \"\"","v":""},{"$f":"'Order Form'!$E$12","v":"YES"},{"$f":"'Order Form'!$E$13","v":"ASAP (order with branding can take up to 3 business days to dispatch) Premium delivery recommended to guarantee delivery prior to Christmas, fees apply."},{"$f":"'Order Form'!$E$15","v":"FREE gift card"},{"$f":"'Order Form'!$E$16","v":"No thanks"},null,null,null,null,{"$f":"IF(N167=\"\",\"\",IFERROR(INDIRECT(\"Postcodes!$C\"&SUMPRODUCT(--(Postcodes!$A$2:$A$100<=N167)*(Postcodes!$B$2:$B$100>=N167), ROW(Postcodes!$A$2:$A$100))),\"WRONG CODE\"))","v":0},null,null,null,null,null,null,""]
[{"$f":"'Order Form'!A185","v":167},{"$f":"'Order Form'!N185","v":""},{"$f":"'Order Form'!$E$2","v":0},{"$f":"'Order Form'!$E$3","v":0},{"$f":"'Order Form'!$E$4","v":0},{"$f":"'Order Form'!$E$5","v":0},{"$f":"'Order Form'!$E$7","v":0},{"$f":"'Order Form'!$E$6","v":0},{"$f":"'Order Form'!$E$9","v":0},{"$f":"'Order Form'!$E$10 & \"\"","v":""},{"$f":"IF('Order Form'!D185=\"\",'Order Form'!C185,'Order Form'!D185)","v":0},{"$f":"'Order Form'!E185","v":0},{"$f":"'Order Form'!F185","v":0},{"$f":"'Order Form'!J185","v":0},{"$f":"'Order Form'!H185","v":0},{"$f":"'Order Form'!I185","v":0},{"$f":"'Order Form'!K185 & \"\"","v":""},{"$f":"'Order Form'!M185 & \"\"","v":""},{"$f":"'Order Form'!C185 & \"\"","v":""},{"$f":"'Order Form'!L185 & \"\"","v":""},{"$f":"'Order Form'!$E$12","v":"YES"},{"$f":"'Order Form'!$E$13","v":"ASAP (order with branding can take up to 3 business days to dispatch) Premium delivery recommended to guarantee delivery prior to Christmas, fees apply."},{"$f":"'Order Form'!$E$15","v":"FREE gift card"},{"$f":"'Order Form'!$E$16","v":"No thanks"},null,null,null,null,{"$f":"IF(N168=\"\",\"\",IFERROR(INDIRECT(\"Postcodes!$C\"&SUMPRODUCT(--(Postcodes!$A$2:$A$100<=N168)*(Postcodes!$B$2:$B$100>=N168), ROW(Postcodes!$A$2:$A$100))),\"WRONG CODE\"))","v":0},null,null,null,null,null,null,""]
[{"$f":"'Order Form'!A186","v":168},{"$f":"'Order Form'!N186","v":""},{"$f":"'Order Form'!$E$2","v":0},{"$f":"'Order Form'!$E$3","v":0},{"$f":"'Order Form'!$E$4","v":0},{"$f":"'Order Form'!$E$5","v":0},{"$f":"'Order Form'!$E$7","v":0},{"$f":"'Order Form'!$E$6","v":0},{"$f":"'Order Form'!$E$9","v":0},{"$f":"'Order Form'!$E$10 & \"\"","v":""},{"$f":"IF('Order Form'!D186=\"\",'Order Form'!C186,'Order Form'!D186)","v":0},{"$f":"'Order Form'!E186","v":0},{"$f":"'Order Form'!F186","v":0},{"$f":"'Order Form'!J186","v":0},{"$f":"'Order Form'!H186","v":0},{"$f":"'Order Form'!I186","v":0},{"$f":"'Order Form'!K186 & \"\"","v":""},{"$f":"'Order Form'!M186 & \"\"","v":""},{"$f":"'Order Form'!C186 & \"\"","v":""},{"$f":"'Order Form'!L186 & \"\"","v":""},{"$f":"'Order Form'!$E$12","v":"YES"},{"$f":"'Order Form'!$E$13","v":"ASAP (order with branding can take up to 3 business days to dispatch) Premium delivery recommended to guarantee delivery prior to Christmas, fees apply."},{"$f":"'Order Form'!$E$15","v":"FREE gift card"},{"$f":"'Order Form'!$E$16","v":"No thanks"},null,null,null,null,{"$f":"IF(N169=\"\",\"\",IFERROR(INDIRECT(\"Postcodes!$C\"&SUMPRODUCT(--(Postcodes!$A$2:$A$100<=N169)*(Postcodes!$B$2:$B$100>=N169), ROW(Postcodes!$A$2:$A$100))),\"WRONG CODE\"))","v":0},null,null,null,null,null,null,""]
[{"$f":"'Order Form'!A187","v":169},{"$f":"'Order Form'!N187","v":""},{"$f":"'Order Form'!$E$2","v":0},{"$f":"'Order Form'!$E$3","v":0},{"$f":"'Order Form'!$E$4","v":0},{"$f":"'Order Form'!$E$5","v":0},{"$f":"'Order Form'!$E$7","v":0},{"$f":"'Order Form'!$E$6","v":0},{"$f":"'Order Form'!$E$9","v":0},{"$f":"'Order Form'!$E$10 & \"\"","v":""},{"$f":"IF('Order Form'!D187=\"\",'Order Form'!C187,'Order Form'!D187)","v":0},{"$f":"'Order Form'!E187","v":0},{"$f":"'Order Form'!F187","v":0},{"$f":"'Order Form'!J187","v":0},{"$f":"'Order Form'!H187","v":0},{"$f":"'Order Form'!I187","v":0},{"$f":"'Order Form'!K187 & \"\"","v":""},{"$f":"'Order Form'!M187 & \"\"","v":""},{"$f":"'Order Form'!C187 & \"\"","v":""},{"$f":"'Order Form'!L187 & \"\"","v":""},{"$f":"'Order Form'!$E$12","v":"YES"},{"$f":"'Order Form'!$E$13","v":"ASAP (order with branding can take up to 3 business days to dispatch) Premium delivery recommended to guarantee delivery prior to Christmas, fees apply."},{"$f":"'Order Form'!$E$15","v":"FREE gift card"},{"$f":"'Order Form'!$E$16","v":"No thanks"},null,null,null,null,{"$f":"IF(N170=\"\",\"\",IFERROR(INDIRECT(\"Postcodes!$C\"&SUMPRODUCT(--(Postcodes!$A$2:$A$100<=N170)*(Postcodes!$B$2:$B$100>=N170), ROW(Postcodes!$A$2:$A$100))),\"WRONG CODE\"))","v":0},null,null,null,null,null,null,""]
[{"$f":"'Order Form'!A188","v":170},{"$f":"'Order Form'!N188","v":""},{"$f":"'Order Form'!$E$2","v":0},{"$f":"'Order Form'!$E$3","v":0},{"$f":"'Order Form'!$E$4","v":0},{"$f":"'Order Form'!$E$5","v":0},{"$f":"'Order Form'!$E$7","v":0},{"$f":"'Order Form'!$E$6","v":0},{"$f":"'Order Form'!$E$9","v":0},{"$f":"'Order Form'!$E$10 & \"\"","v":""},{"$f":"IF('Order Form'!D188=\"\",'Order Form'!C188,'Order Form'!D188)","v":0},{"$f":"'Order Form'!E188","v":0},{"$f":"'Order Form'!F188","v":0},{"$f":"'Order Form'!J188","v":0},{"$f":"'Order Form'!H188","v":0},{"$f":"'Order Form'!I188","v":0},{"$f":"'Order Form'!K188 & \"\"","v":""},{"$f":"'Order Form'!M188 & \"\"","v":""},{"$f":"'Order Form'!C188 & \"\"","v":""},{"$f":"'Order Form'!L188 & \"\"","v":""},{"$f":"'Order Form'!$E$12","v":"YES"},{"$f":"'Order Form'!$E$13","v":"ASAP (order with branding can take up to 3 business days to dispatch) Premium delivery recommended to guarantee delivery prior to Christmas, fees apply."},{"$f":"'Order Form'!$E$15","v":"FREE gift card"},{"$f":"'Order Form'!$E$16","v":"No thanks"},null,null,null,null,{"$f":"IF(N171=\"\",\"\",IFERROR(INDIRECT(\"Postcodes!$C\"&SUMPRODUCT(--(Postcodes!$A$2:$A$100<=N171)*(Postcodes!$B$2:$B$100>=N171), ROW(Postcodes!$A$2:$A$100))),\"WRONG CODE\"))","v":0},null,null,null,null,null,null,""]
[{"$f":"'Order Form'!A189","v":171},{"$f":"'Order Form'!N189","v":""},{"$f":"'Order Form'!$E$2","v":0},{"$f":"'Order Form'!$E$3","v":0},{"$f":"'Order Form'!$E$4","v":0},{"$f":"'Order Form'!$E$5","v":0},{"$f":"'Order Form'!$E$7","v":0},{"$f":"'Order Form'!$E$6","v":0},{"$f":"'Order Form'!$E$9","v":0},{"$f":"'Order Form'!$E$10 & \"\"","v":""},{"$f":"IF('Order Form'!D189=\"\",'Order Form'!C189,'Order Form'!D189)","v":0},{"$f":"'Order Form'!E189","v":0},{"$f":"'Order Form'!F189","v":0},{"$f":"'Order Form'!J189","v":0},{"$f":"'Order Form'!H189","v":0},{"$f":"'Order Form'!I189","v":0},{"$f":"'Order Form'!K189 & \"\"","v":""},{"$f":"'Order Form'!M189 & \"\"","v":""},{"$f":"'Order Form'!C189 & \"\"","v":""},{"$f":"'Order Form'!L189 & \"\"","v":""},{"$f":"'Order Form'!$E$12","v":"YES"},{"$f":"'Order Form'!$E$13","v":"ASAP (order with branding can take up to 3 business days to dispatch) Premium delivery recommended to guarantee delivery prior to Christmas, fees apply."},{"$f":"'Order Form'!$E$15","v":"FREE gift card"},{"$f":"'Order Form'!$E$16","v":"No thanks"},null,null,null,null,{"$f":"IF(N172=\"\",\"\",IFERROR(INDIRECT(\"Postcodes!$C\"&SUMPRODUCT(--(Postcodes!$A$2:$A$100<=N172)*(Postcodes!$B$2:$B$100>=N172), ROW(Postcodes!$A$2:$A$100))),\"WRONG CODE\"))","v":0},null,null,null,null,null,null,""]
[{"$f":"'Order Form'!A190","v":172},{"$f":"'Order Form'!N190","v":""},{"$f":"'Order Form'!$E$2","v":0},{"$f":"'Order Form'!$E$3","v":0},{"$f":"'Order Form'!$E$4","v":0},{"$f":"'Order Form'!$E$5","v":0},{"$f":"'Order Form'!$E$7","v":0},{"$f":"'Order Form'!$E$6","v":0},{"$f":"'Order Form'!$E$9","v":0},{"$f":"'Order Form'!$E$10 & \"\"","v":""},{"$f":"IF('Order Form'!D190=\"\",'Order Form'!C190,'Order Form'!D190)","v":0},{"$f":"'Order Form'!E190","v":0},{"$f":"'Order Form'!F190","v":0},{"$f":"'Order Form'!J190","v":0},{"$f":"'Order Form'!H190","v":0},{"$f":"'Order Form'!I190","v":0},{"$f":"'Order Form'!K190 & \"\"","v":""},{"$f":"'Order Form'!M190 & \"\"","v":""},{"$f":"'Order Form'!C190 & \"\"","v":""},{"$f":"'Order Form'!L190 & \"\"","v":""},{"$f":"'Order Form'!$E$12","v":"YES"},{"$f":"'Order Form'!$E$13","v":"ASAP (order with branding can take up to 3 business days to dispatch) Premium delivery recommended to guarantee delivery prior to Christmas, fees apply."},{"$f":"'Order Form'!$E$15","v":"FREE gift card"},{"$f":"'Order Form'!$E$16","v":"No thanks"},null,null,null,null,{"$f":"IF(N173=\"\",\"\",IFERROR(INDIRECT(\"Postcodes!$C\"&SUMPRODUCT(--(Postcodes!$A$2:$A$100<=N173)*(Postcodes!$B$2:$B$100>=N173), ROW(Postcodes!$A$2:$A$100))),\"WRONG CODE\"))","v":0},null,null,null,null,null,null,""]
[{"$f":"'Order Form'!A191","v":173},{"$f":"'Order Form'!N191","v":""},{"$f":"'Order Form'!$E$2","v":0},{"$f":"'Order Form'!$E$3","v":0},{"$f":"'Order Form'!$E$4","v":0},{"$f":"'Order Form'!$E$5","v":0},{"$f":"'Order Form'!$E$7","v":0},{"$f":"'Order Form'!$E$6","v":0},{"$f":"'Order Form'!$E$9","v":0},{"$f":"'Order Form'!$E$10 & \"\"","v":""},{"$f":"IF('Order Form'!D191=\"\",'Order Form'!C191,'Order Form'!D191)","v":0},{"$f":"'Order Form'!E191","v":0},{"$f":"'Order Form'!F191","v":0},{"$f":"'Order Form'!J191","v":0},{"$f":"'Order Form'!H191","v":0},{"$f":"'Order Form'!I191","v":0},{"$f":"'Order Form'!K191 & \"\"","v":""},{"$f":"'Order Form'!M191 & \"\"","v":""},{"$f":"'Order Form'!C191 & \"\"","v":""},{"$f":"'Order Form'!L191 & \"\"","v":""},{"$f":"'Order Form'!$E$12","v":"YES"},{"$f":"'Order Form'!$E$13","v":"ASAP (order with branding can take up to 3 business days to dispatch) Premium delivery recommended to guarantee delivery prior to Christmas, fees apply."},{"$f":"'Order Form'!$E$15","v":"FREE gift card"},{"$f":"'Order Form'!$E$16","v":"No thanks"},null,null,null,null,{"$f":"IF(N174=\"\",\"\",IFERROR(INDIRECT(\"Postcodes!$C\"&SUMPRODUCT(--(Postcodes!$A$2:$A$100<=N174)*(Postcodes!$B$2:$B$100>=N174), ROW(Postcodes!$A$2:$A$100))),\"WRONG CODE\"))","v":0},null,null,null,null,null,null,""]
[{"$f":"'Order Form'!A192","v":174},{"$f":"'Order Form'!N192","v":""},{"$f":"'Order Form'!$E$2","v":0},{"$f":"'Order Form'!$E$3","v":0},{"$f":"'Order Form'!$E$4","v":0},{"$f":"'Order Form'!$E$5","v":0},{"$f":"'Order Form'!$E$7","v":0},{"$f":"'Order Form'!$E$6","v":0},{"$f":"'Order Form'!$E$9","v":0},{"$f":"'Order Form'!$E$10 & \"\"","v":""},{"$f":"IF('Order Form'!D192=\"\",'Order Form'!C192,'Order Form'!D192)","v":0},{"$f":"'Order Form'!E192","v":0},{"$f":"'Order Form'!F192","v":0},{"$f":"'Order Form'!J192","v":0},{"$f":"'Order Form'!H192","v":0},{"$f":"'Order Form'!I192","v":0},{"$f":"'Order Form'!K192 & \"\"","v":""},{"$f":"'Order Form'!M192 & \"\"","v":""},{"$f":"'Order Form'!C192 & \"\"","v":""},{"$f":"'Order Form'!L192 & \"\"","v":""},{"$f":"'Order Form'!$E$12","v":"YES"},{"$f":"'Order Form'!$E$13","v":"ASAP (order with branding can take up to 3 business days to dispatch) Premium delivery recommended to guarantee delivery prior to Christmas, fees apply."},{"$f":"'Order Form'!$E$15","v":"FREE gift card"},{"$f":"'Order Form'!$E$16","v":"No thanks"},null,null,null,null,{"$f":"IF(N175=\"\",\"\",IFERROR(INDIRECT(\"Postcodes!$C\"&SUMPRODUCT(--(Postcodes!$A$2:$A$100<=N175)*(Postcodes!$B$2:$B$100>=N175), ROW(Postcodes!$A$2:$A$100))),\"WRONG CODE\"))","v":0},null,null,null,null,null,null,""]
[{"$f":"'Order Form'!A193","v":175},{"$f":"'Order Form'!N193","v":""},{"$f":"'Order Form'!$E$2","v":0},{"$f":"'Order Form'!$E$3","v":0},{"$f":"'Order Form'!$E$4","v":0},{"$f":"'Order Form'!$E$5","v":0},{"$f":"'Order Form'!$E$7","v":0},{"$f":"'Order Form'!$E$6","v":0},{"$f":"'Order Form'!$E$9","v":0},{"$f":"'Order Form'!$E$10 & \"\"","v":""},{"$f":"IF('Order Form'!D193=\"\",'Order Form'!C193,'Order Form'!D193)","v":0},{"$f":"'Order Form'!E193","v":0},{"$f":"'Order Form'!F193","v":0},{"$f":"'Order Form'!J193","v":0},{"$f":"'Order Form'!H193","v":0},{"$f":"'Order Form'!I193","v":0},{"$f":"'Order Form'!K193 & \"\"","v":""},{"$f":"'Order Form'!M193 & \"\"","v":""},{"$f":"'Order Form'!C193 & \"\"","v":""},{"$f":"'Order Form'!L193 & \"\"","v":""},{"$f":"'Order Form'!$E$12","v":"YES"},{"$f":"'Order Form'!$E$13","v":"ASAP (order with branding can take up to 3 business days to dispatch) Premium delivery recommended to guarantee delivery prior to Christmas, fees apply."},{"$f":"'Order Form'!$E$15","v":"FREE gift card"},{"$f":"'Order Form'!$E$16","v":"No thanks"},null,null,null,null,{"$f":"IF(N176=\"\",\"\",IFERROR(INDIRECT(\"Postcodes!$C\"&SUMPRODUCT(--(Postcodes!$A$2:$A$100<=N176)*(Postcodes!$B$2:$B$100>=N176), ROW(Postcodes!$A$2:$A$100))),\"WRONG CODE\"))","v":0},null,null,null,null,null,null,""]
[{"$f":"'Order Form'!A194","v":176},{"$f":"'Order Form'!N194","v":""},{"$f":"'Order Form'!$E$2","v":0},{"$f":"'Order Form'!$E$3","v":0},{"$f":"'Order Form'!$E$4","v":0},{"$f":"'Order Form'!$E$5","v":0},{"$f":"'Order Form'!$E$7","v":0},{"$f":"'Order Form'!$E$6","v":0},{"$f":"'Order Form'!$E$9","v":0},{"$f":"'Order Form'!$E$10 & \"\"","v":""},{"$f":"IF('Order Form'!D194=\"\",'Order Form'!C194,'Order Form'!D194)","v":0},{"$f":"'Order Form'!E194","v":0},{"$f":"'Order Form'!F194","v":0},{"$f":"'Order Form'!J194","v":0},{"$f":"'Order Form'!H194","v":0},{"$f":"'Order Form'!I194","v":0},{"$f":"'Order Form'!K194 & \"\"","v":""},{"$f":"'Order Form'!M194 & \"\"","v":""},{"$f":"'Order Form'!C194 & \"\"","v":""},{"$f":"'Order Form'!L194 & \"\"","v":""},{"$f":"'Order Form'!$E$12","v":"YES"},{"$f":"'Order Form'!$E$13","v":"ASAP (order with branding can take up to 3 business days to dispatch) Premium delivery recommended to guarantee delivery prior to Christmas, fees apply."},{"$f":"'Order Form'!$E$15","v":"FREE gift card"},{"$f":"'Order Form'!$E$16","v":"No thanks"},null,null,null,null,{"$f":"IF(N177=\"\",\"\",IFERROR(INDIRECT(\"Postcodes!$C\"&SUMPRODUCT(--(Postcodes!$A$2:$A$100<=N177)*(Postcodes!$B$2:$B$100>=N177), ROW(Postcodes!$A$2:$A$100))),\"WRONG CODE\"))","v":0},null,null,null,null,null,null,""]
[{"$f":"'Order Form'!A195","v":177},{"$f":"'Order Form'!N195","v":""},{"$f":"'Order Form'!$E$2","v":0},{"$f":"'Order Form'!$E$3","v":0},{"$f":"'Order Form'!$E$4","v":0},{"$f":"'Order Form'!$E$5","v":0},{"$f":"'Order Form'!$E$7","v":0},{"$f":"'Order Form'!$E$6","v":0},{"$f":"'Order Form'!$E$9","v":0},{"$f":"'Order Form'!$E$10 & \"\"","v":""},{"$f":"IF('Order Form'!D195=\"\",'Order Form'!C195,'Order Form'!D195)","v":0},{"$f":"'Order Form'!E195","v":0},{"$f":"'Order Form'!F195","v":0},{"$f":"'Order Form'!J195","v":0},{"$f":"'Order Form'!H195","v":0},{"$f":"'Order Form'!I195","v":0},{"$f":"'Order Form'!K195 & \"\"","v":""},{"$f":"'Order Form'!M195 & \"\"","v":""},{"$f":"'Order Form'!C195 & \"\"","v":""},{"$f":"'Order Form'!L195 & \"\"","v":""},{"$f":"'Order Form'!$E$12","v":"YES"},{"$f":"'Order Form'!$E$13","v":"ASAP (order with branding can take up to 3 business days to dispatch) Premium delivery recommended to guarantee delivery prior to Christmas, fees apply."},{"$f":"'Order Form'!$E$15","v":"FREE gift card"},{"$f":"'Order Form'!$E$16","v":"No thanks"},null,null,null,null,{"$f":"IF(N178=\"\",\"\",IFERROR(INDIRECT(\"Postcodes!$C\"&SUMPRODUCT(--(Postcodes!$A$2:$A$100<=N178)*(Postcodes!$B$2:$B$100>=N178), ROW(Postcodes!$A$2:$A$100))),\"WRONG CODE\"))","v":0},null,null,null,null,null,null,""]
[{"$f":"'Order Form'!A196","v":178},{"$f":"'Order Form'!N196","v":""},{"$f":"'Order Form'!$E$2","v":0},{"$f":"'Order Form'!$E$3","v":0},{"$f":"'Order Form'!$E$4","v":0},{"$f":"'Order Form'!$E$5","v":0},{"$f":"'Order Form'!$E$7","v":0},{"$f":"'Order Form'!$E$6","v":0},{"$f":"'Order Form'!$E$9","v":0},{"$f":"'Order Form'!$E$10 & \"\"","v":""},{"$f":"IF('Order Form'!D196=\"\",'Order Form'!C196,'Order Form'!D196)","v":0},{"$f":"'Order Form'!E196","v":0},{"$f":"'Order Form'!F196","v":0},{"$f":"'Order Form'!J196","v":0},{"$f":"'Order Form'!H196","v":0},{"$f":"'Order Form'!I196","v":0},{"$f":"'Order Form'!K196 & \"\"","v":""},{"$f":"'Order Form'!M196 & \"\"","v":""},{"$f":"'Order Form'!C196 & \"\"","v":""},{"$f":"'Order Form'!L196 & \"\"","v":""},{"$f":"'Order Form'!$E$12","v":"YES"},{"$f":"'Order Form'!$E$13","v":"ASAP (order with branding can take up to 3 business days to dispatch) Premium delivery recommended to guarantee delivery prior to Christmas, fees apply."},{"$f":"'Order Form'!$E$15","v":"FREE gift card"},{"$f":"'Order Form'!$E$16","v":"No thanks"},null,null,null,null,{"$f":"IF(N179=\"\",\"\",IFERROR(INDIRECT(\"Postcodes!$C\"&SUMPRODUCT(--(Postcodes!$A$2:$A$100<=N179)*(Postcodes!$B$2:$B$100>=N179), ROW(Postcodes!$A$2:$A$100))),\"WRONG CODE\"))","v":0},null,null,null,null,null,null,""]
[{"$f":"'Order Form'!A197","v":179},{"$f":"'Order Form'!N197","v":""},{"$f":"'Order Form'!$E$2","v":0},{"$f":"'Order Form'!$E$3","v":0},{"$f":"'Order Form'!$E$4","v":0},{"$f":"'Order Form'!$E$5","v":0},{"$f":"'Order Form'!$E$7","v":0},{"$f":"'Order Form'!$E$6","v":0},{"$f":"'Order Form'!$E$9","v":0},{"$f":"'Order Form'!$E$10 & \"\"","v":""},{"$f":"IF('Order Form'!D197=\"\",'Order Form'!C197,'Order Form'!D197)","v":0},{"$f":"'Order Form'!E197","v":0},{"$f":"'Order Form'!F197","v":0},{"$f":"'Order Form'!J197","v":0},{"$f":"'Order Form'!H197","v":0},{"$f":"'Order Form'!I197","v":0},{"$f":"'Order Form'!K197 & \"\"","v":""},{"$f":"'Order Form'!M197 & \"\"","v":""},{"$f":"'Order Form'!C197 & \"\"","v":""},{"$f":"'Order Form'!L197 & \"\"","v":""},{"$f":"'Order Form'!$E$12","v":"YES"},{"$f":"'Order Form'!$E$13","v":"ASAP (order with branding can take up to 3 business days to dispatch) Premium delivery recommended to guarantee delivery prior to Christmas, fees apply."},{"$f":"'Order Form'!$E$15","v":"FREE gift card"},{"$f":"'Order Form'!$E$16","v":"No thanks"},null,null,null,null,{"$f":"IF(N180=\"\",\"\",IFERROR(INDIRECT(\"Postcodes!$C\"&SUMPRODUCT(--(Postcodes!$A$2:$A$100<=N180)*(Postcodes!$B$2:$B$100>=N180), ROW(Postcodes!$A$2:$A$100))),\"WRONG CODE\"))","v":0},null,null,null,null,null,null,""]
[{"$f":"'Order Form'!A198","v":180},{"$f":"'Order Form'!N198","v":""},{"$f":"'Order Form'!$E$2","v":0},{"$f":"'Order Form'!$E$3","v":0},{"$f":"'Order Form'!$E$4","v":0},{"$f":"'Order Form'!$E$5","v":0},{"$f":"'Order Form'!$E$7","v":0},{"$f":"'Order Form'!$E$6","v":0},{"$f":"'Order Form'!$E$9","v":0},{"$f":"'Order Form'!$E$10 & \"\"","v":""},{"$f":"IF('Order Form'!D198=\"\",'Order Form'!C198,'Order Form'!D198)","v":0},{"$f":"'Order Form'!E198","v":0},{"$f":"'Order Form'!F198","v":0},{"$f":"'Order Form'!J198","v":0},{"$f":"'Order Form'!H198","v":0},{"$f":"'Order Form'!I198","v":0},{"$f":"'Order Form'!K198 & \"\"","v":""},{"$f":"'Order Form'!M198 & \"\"","v":""},{"$f":"'Order Form'!C198 & \"\"","v":""},{"$f":"'Order Form'!L198 & \"\"","v":""},{"$f":"'Order Form'!$E$12","v":"YES"},{"$f":"'Order Form'!$E$13","v":"ASAP (order with branding can take up to 3 business days to dispatch) Premium delivery recommended to guarantee delivery prior to Christmas, fees apply."},{"$f":"'Order Form'!$E$15","v":"FREE gift card"},{"$f":"'Order Form'!$E$16","v":"No thanks"},null,null,null,null,{"$f":"IF(N181=\"\",\"\",IFERROR(INDIRECT(\"Postcodes!$C\"&SUMPRODUCT(--(Postcodes!$A$2:$A$100<=N181)*(Postcodes!$B$2:$B$100>=N181), ROW(Postcodes!$A$2:$A$100))),\"WRONG CODE\"))","v":0},null,null,null,null,null,null,""]
[{"$f":"'Order Form'!A199","v":181},{"$f":"'Order Form'!N199","v":""},{"$f":"'Order Form'!$E$2","v":0},{"$f":"'Order Form'!$E$3","v":0},{"$f":"'Order Form'!$E$4","v":0},{"$f":"'Order Form'!$E$5","v":0},{"$f":"'Order Form'!$E$7","v":0},{"$f":"'Order Form'!$E$6","v":0},{"$f":"'Order Form'!$E$9","v":0},{"$f":"'Order Form'!$E$10 & \"\"","v":""},{"$f":"IF('Order Form'!D199=\"\",'Order Form'!C199,'Order Form'!D199)","v":0},{"$f":"'Order Form'!E199","v":0},{"$f":"'Order Form'!F199","v":0},{"$f":"'Order Form'!J199","v":0},{"$f":"'Order Form'!H199","v":0},{"$f":"'Order Form'!I199","v":0},{"$f":"'Order Form'!K199 & \"\"","v":""},{"$f":"'Order Form'!M199 & \"\"","v":""},{"$f":"'Order Form'!C199 & \"\"","v":""},{"$f":"'Order Form'!L199 & \"\"","v":""},{"$f":"'Order Form'!$E$12","v":"YES"},{"$f":"'Order Form'!$E$13","v":"ASAP (order with branding can take up to 3 business days to dispatch) Premium delivery recommended to guarantee delivery prior to Christmas, fees apply."},{"$f":"'Order Form'!$E$15","v":"FREE gift card"},{"$f":"'Order Form'!$E$16","v":"No thanks"},null,null,null,null,{"$f":"IF(N182=\"\",\"\",IFERROR(INDIRECT(\"Postcodes!$C\"&SUMPRODUCT(--(Postcodes!$A$2:$A$100<=N182)*(Postcodes!$B$2:$B$100>=N182), ROW(Postcodes!$A$2:$A$100))),\"WRONG CODE\"))","v":0},null,null,null,null,null,null,""]
[{"$f":"'Order Form'!A200","v":182},{"$f":"'Order Form'!N200","v":""},{"$f":"'Order Form'!$E$2","v":0},{"$f":"'Order Form'!$E$3","v":0},{"$f":"'Order Form'!$E$4","v":0},{"$f":"'Order Form'!$E$5","v":0},{"$f":"'Order Form'!$E$7","v":0},{"$f":"'Order Form'!$E$6","v":0},{"$f":"'Order Form'!$E$9","v":0},{"$f":"'Order Form'!$E$10 & \"\"","v":""},{"$f":"IF('Order Form'!D200=\"\",'Order Form'!C200,'Order Form'!D200)","v":0},{"$f":"'Order Form'!E200","v":0},{"$f":"'Order Form'!F200","v":0},{"$f":"'Order Form'!J200","v":0},{"$f":"'Order Form'!H200","v":0},{"$f":"'Order Form'!I200","v":0},{"$f":"'Order Form'!K200 & \"\"","v":""},{"$f":"'Order Form'!M200 & \"\"","v":""},{"$f":"'Order Form'!C200 & \"\"","v":""},{"$f":"'Order Form'!L200 & \"\"","v":""},{"$f":"'Order Form'!$E$12","v":"YES"},{"$f":"'Order Form'!$E$13","v":"ASAP (order with branding can take up to 3 business days to dispatch) Premium delivery recommended to guarantee delivery prior to Christmas, fees apply."},{"$f":"'Order Form'!$E$15","v":"FREE gift card"},{"$f":"'Order Form'!$E$16","v":"No thanks"},null,null,null,null,{"$f":"IF(N183=\"\",\"\",IFERROR(INDIRECT(\"Postcodes!$C\"&SUMPRODUCT(--(Postcodes!$A$2:$A$100<=N183)*(Postcodes!$B$2:$B$100>=N183), ROW(Postcodes!$A$2:$A$100))),\"WRONG CODE\"))","v":0},null,null,null,null,null,null,""]
[{"$f":"'Order Form'!A201","v":183},{"$f":"'Order Form'!N201","v":""},{"$f":"'Order Form'!$E$2","v":0},{"$f":"'Order Form'!$E$3","v":0},{"$f":"'Order Form'!$E$4","v":0},{"$f":"'Order Form'!$E$5","v":0},{"$f":"'Order Form'!$E$7","v":0},{"$f":"'Order Form'!$E$6","v":0},{"$f":"'Order Form'!$E$9","v":0},{"$f":"'Order Form'!$E$10 & \"\"","v":""},{"$f":"IF('Order Form'!D201=\"\",'Order Form'!C201,'Order Form'!D201)","v":0},{"$f":"'Order Form'!E201","v":0},{"$f":"'Order Form'!F201","v":0},{"$f":"'Order Form'!J201","v":0},{"$f":"'Order Form'!H201","v":0},{"$f":"'Order Form'!I201","v":0},{"$f":"'Order Form'!K201 & \"\"","v":""},{"$f":"'Order Form'!M201 & \"\"","v":""},{"$f":"'Order Form'!C201 & \"\"","v":""},{"$f":"'Order Form'!L201 & \"\"","v":""},{"$f":"'Order Form'!$E$12","v":"YES"},{"$f":"'Order Form'!$E$13","v":"ASAP (order with branding can take up to 3 business days to dispatch) Premium delivery recommended to guarantee delivery prior to Christmas, fees apply."},{"$f":"'Order Form'!$E$15","v":"FREE gift card"},{"$f":"'Order Form'!$E$16","v":"No thanks"},null,null,null,null,{"$f":"IF(N184=\"\",\"\",IFERROR(INDIRECT(\"Postcodes!$C\"&SUMPRODUCT(--(Postcodes!$A$2:$A$100<=N184)*(Postcodes!$B$2:$B$100>=N184), ROW(Postcodes!$A$2:$A$100))),\"WRONG CODE\"))","v":0},null,null,null,null,null,null,""]
[{"$f":"'Order Form'!A202","v":184},{"$f":"'Order Form'!N202","v":""},{"$f":"'Order Form'!$E$2","v":0},{"$f":"'Order Form'!$E$3","v":0},{"$f":"'Order Form'!$E$4","v":0},{"$f":"'Order Form'!$E$5","v":0},{"$f":"'Order Form'!$E$7","v":0},{"$f":"'Order Form'!$E$6","v":0},{"$f":"'Order Form'!$E$9","v":0},{"$f":"'Order Form'!$E$10 & \"\"","v":""},{"$f":"IF('Order Form'!D202=\"\",'Order Form'!C202,'Order Form'!D202)","v":0},{"$f":"'Order Form'!E202","v":0},{"$f":"'Order Form'!F202","v":0},{"$f":"'Order Form'!J202","v":0},{"$f":"'Order Form'!H202","v":0},{"$f":"'Order Form'!I202","v":0},{"$f":"'Order Form'!K202 & \"\"","v":""},{"$f":"'Order Form'!M202 & \"\"","v":""},{"$f":"'Order Form'!C202 & \"\"","v":""},{"$f":"'Order Form'!L202 & \"\"","v":""},{"$f":"'Order Form'!$E$12","v":"YES"},{"$f":"'Order Form'!$E$13","v":"ASAP (order with branding can take up to 3 business days to dispatch) Premium delivery recommended to guarantee delivery prior to Christmas, fees apply."},{"$f":"'Order Form'!$E$15","v":"FREE gift card"},{"$f":"'Order Form'!$E$16","v":"No thanks"},null,null,null,null,{"$f":"IF(N185=\"\",\"\",IFERROR(INDIRECT(\"Postcodes!$C\"&SUMPRODUCT(--(Postcodes!$A$2:$A$100<=N185)*(Postcodes!$B$2:$B$100>=N185), ROW(Postcodes!$A$2:$A$100))),\"WRONG CODE\"))","v":0},null,null,null,null,null,null,""]
[{"$f":"'Order Form'!A203","v":185},{"$f":"'Order Form'!N203","v":""},{"$f":"'Order Form'!$E$2","v":0},{"$f":"'Order Form'!$E$3","v":0},{"$f":"'Order Form'!$E$4","v":0},{"$f":"'Order Form'!$E$5","v":0},{"$f":"'Order Form'!$E$7","v":0},{"$f":"'Order Form'!$E$6","v":0},{"$f":"'Order Form'!$E$9","v":0},{"$f":"'Order Form'!$E$10 & \"\"","v":""},{"$f":"IF('Order Form'!D203=\"\",'Order Form'!C203,'Order Form'!D203)","v":0},{"$f":"'Order Form'!E203","v":0},{"$f":"'Order Form'!F203","v":0},{"$f":"'Order Form'!J203","v":0},{"$f":"'Order Form'!H203","v":0},{"$f":"'Order Form'!I203","v":0},{"$f":"'Order Form'!K203 & \"\"","v":""},{"$f":"'Order Form'!M203 & \"\"","v":""},{"$f":"'Order Form'!C203 & \"\"","v":""},{"$f":"'Order Form'!L203 & \"\"","v":""},{"$f":"'Order Form'!$E$12","v":"YES"},{"$f":"'Order Form'!$E$13","v":"ASAP (order with branding can take up to 3 business days to dispatch) Premium delivery recommended to guarantee delivery prior to Christmas, fees apply."},{"$f":"'Order Form'!$E$15","v":"FREE gift card"},{"$f":"'Order Form'!$E$16","v":"No thanks"},null,null,null,null,{"$f":"IF(N186=\"\",\"\",IFERROR(INDIRECT(\"Postcodes!$C\"&SUMPRODUCT(--(Postcodes!$A$2:$A$100<=N186)*(Postcodes!$B$2:$B$100>=N186), ROW(Postcodes!$A$2:$A$100))),\"WRONG CODE\"))","v":0},null,null,null,null,null,null,""]
[{"$f":"'Order Form'!A204","v":186},{"$f":"'Order Form'!N204","v":""},{"$f":"'Order Form'!$E$2","v":0},{"$f":"'Order Form'!$E$3","v":0},{"$f":"'Order Form'!$E$4","v":0},{"$f":"'Order Form'!$E$5","v":0},{"$f":"'Order Form'!$E$7","v":0},{"$f":"'Order Form'!$E$6","v":0},{"$f":"'Order Form'!$E$9","v":0},{"$f":"'Order Form'!$E$10 & \"\"","v":""},{"$f":"IF('Order Form'!D204=\"\",'Order Form'!C204,'Order Form'!D204)","v":0},{"$f":"'Order Form'!E204","v":0},{"$f":"'Order Form'!F204","v":0},{"$f":"'Order Form'!J204","v":0},{"$f":"'Order Form'!H204","v":0},{"$f":"'Order Form'!I204","v":0},{"$f":"'Order Form'!K204 & \"\"","v":""},{"$f":"'Order Form'!M204 & \"\"","v":""},{"$f":"'Order Form'!C204 & \"\"","v":""},{"$f":"'Order Form'!L204 & \"\"","v":""},{"$f":"'Order Form'!$E$12","v":"YES"},{"$f":"'Order Form'!$E$13","v":"ASAP (order with branding can take up to 3 business days to dispatch) Premium delivery recommended to guarantee delivery prior to Christmas, fees apply."},{"$f":"'Order Form'!$E$15","v":"FREE gift card"},{"$f":"'Order Form'!$E$16","v":"No thanks"},null,null,null,null,{"$f":"IF(N187=\"\",\"\",IFERROR(INDIRECT(\"Postcodes!$C\"&SUMPRODUCT(--(Postcodes!$A$2:$A$100<=N187)*(Postcodes!$B$2:$B$100>=N187), ROW(Postcodes!$A$2:$A$100))),\"WRONG CODE\"))","v":0},null,null,null,null,null,null,""]
[{"$f":"'Order Form'!A205","v":187},{"$f":"'Order Form'!N205","v":""},{"$f":"'Order Form'!$E$2","v":0},{"$f":"'Order Form'!$E$3","v":0},{"$f":"'Order Form'!$E$4","v":0},{"$f":"'Order Form'!$E$5","v":0},{"$f":"'Order Form'!$E$7","v":0},{"$f":"'Order Form'!$E$6","v":0},{"$f":"'Order Form'!$E$9","v":0},{"$f":"'Order Form'!$E$10 & \"\"","v":""},{"$f":"IF('Order Form'!D205=\"\",'Order Form'!C205,'Order Form'!D205)","v":0},{"$f":"'Order Form'!E205","v":0},{"$f":"'Order Form'!F205","v":0},{"$f":"'Order Form'!J205","v":0},{"$f":"'Order Form'!H205","v":0},{"$f":"'Order Form'!I205","v":0},{"$f":"'Order Form'!K205 & \"\"","v":""},{"$f":"'Order Form'!M205 & \"\"","v":""},{"$f":"'Order Form'!C205 & \"\"","v":""},{"$f":"'Order Form'!L205 & \"\"","v":""},{"$f":"'Order Form'!$E$12","v":"YES"},{"$f":"'Order Form'!$E$13","v":"ASAP (order with branding can take up to 3 business days to dispatch) Premium delivery recommended to guarantee delivery prior to Christmas, fees apply."},{"$f":"'Order Form'!$E$15","v":"FREE gift card"},{"$f":"'Order Form'!$E$16","v":"No thanks"},null,null,null,null,{"$f":"IF(N188=\"\",\"\",IFERROR(INDIRECT(\"Postcodes!$C\"&SUMPRODUCT(--(Postcodes!$A$2:$A$100<=N188)*(Postcodes!$B$2:$B$100>=N188), ROW(Postcodes!$A$2:$A$100))),\"WRONG CODE\"))","v":0},null,null,null,null,null,null,""]
[{"$f":"'Order Form'!A206","v":188},{"$f":"'Order Form'!N206","v":""},{"$f":"'Order Form'!$E$2","v":0},{"$f":"'Order Form'!$E$3","v":0},{"$f":"'Order Form'!$E$4","v":0},{"$f":"'Order Form'!$E$5","v":0},{"$f":"'Order Form'!$E$7","v":0},{"$f":"'Order Form'!$E$6","v":0},{"$f":"'Order Form'!$E$9","v":0},{"$f":"'Order Form'!$E$10 & \"\"","v":""},{"$f":"IF('Order Form'!D206=\"\",'Order Form'!C206,'Order Form'!D206)","v":0},{"$f":"'Order Form'!E206","v":0},{"$f":"'Order Form'!F206","v":0},{"$f":"'Order Form'!J206","v":0},{"$f":"'Order Form'!H206","v":0},{"$f":"'Order Form'!I206","v":0},{"$f":"'Order Form'!K206 & \"\"","v":""},{"$f":"'Order Form'!M206 & \"\"","v":""},{"$f":"'Order Form'!C206 & \"\"","v":""},{"$f":"'Order Form'!L206 & \"\"","v":""},{"$f":"'Order Form'!$E$12","v":"YES"},{"$f":"'Order Form'!$E$13","v":"ASAP (order with branding can take up to 3 business days to dispatch) Premium delivery recommended to guarantee delivery prior to Christmas, fees apply."},{"$f":"'Order Form'!$E$15","v":"FREE gift card"},{"$f":"'Order Form'!$E$16","v":"No thanks"},null,null,null,null,{"$f":"IF(N189=\"\",\"\",IFERROR(INDIRECT(\"Postcodes!$C\"&SUMPRODUCT(--(Postcodes!$A$2:$A$100<=N189)*(Postcodes!$B$2:$B$100>=N189), ROW(Postcodes!$A$2:$A$100))),\"WRONG CODE\"))","v":0},null,null,null,null,null,null,""]
[{"$f":"'Order Form'!A207","v":189},{"$f":"'Order Form'!N207","v":""},{"$f":"'Order Form'!$E$2","v":0},{"$f":"'Order Form'!$E$3","v":0},{"$f":"'Order Form'!$E$4","v":0},{"$f":"'Order Form'!$E$5","v":0},{"$f":"'Order Form'!$E$7","v":0},{"$f":"'Order Form'!$E$6","v":0},{"$f":"'Order Form'!$E$9","v":0},{"$f":"'Order Form'!$E$10 & \"\"","v":""},{"$f":"IF('Order Form'!D207=\"\",'Order Form'!C207,'Order Form'!D207)","v":0},{"$f":"'Order Form'!E207","v":0},{"$f":"'Order Form'!F207","v":0},{"$f":"'Order Form'!J207","v":0},{"$f":"'Order Form'!H207","v":0},{"$f":"'Order Form'!I207","v":0},{"$f":"'Order Form'!K207 & \"\"","v":""},{"$f":"'Order Form'!M207 & \"\"","v":""},{"$f":"'Order Form'!C207 & \"\"","v":""},{"$f":"'Order Form'!L207 & \"\"","v":""},{"$f":"'Order Form'!$E$12","v":"YES"},{"$f":"'Order Form'!$E$13","v":"ASAP (order with branding can take up to 3 business days to dispatch) Premium delivery recommended to guarantee delivery prior to Christmas, fees apply."},{"$f":"'Order Form'!$E$15","v":"FREE gift card"},{"$f":"'Order Form'!$E$16","v":"No thanks"},null,null,null,null,{"$f":"IF(N190=\"\",\"\",IFERROR(INDIRECT(\"Postcodes!$C\"&SUMPRODUCT(--(Postcodes!$A$2:$A$100<=N190)*(Postcodes!$B$2:$B$100>=N190), ROW(Postcodes!$A$2:$A$100))),\"WRONG CODE\"))","v":0},null,null,null,null,null,null,""]
[{"$f":"'Order Form'!A208","v":190},{"$f":"'Order Form'!N208","v":""},{"$f":"'Order Form'!$E$2","v":0},{"$f":"'Order Form'!$E$3","v":0},{"$f":"'Order Form'!$E$4","v":0},{"$f":"'Order Form'!$E$5","v":0},{"$f":"'Order Form'!$E$7","v":0},{"$f":"'Order Form'!$E$6","v":0},{"$f":"'Order Form'!$E$9","v":0},{"$f":"'Order Form'!$E$10 & \"\"","v":""},{"$f":"IF('Order Form'!D208=\"\",'Order Form'!C208,'Order Form'!D208)","v":0},{"$f":"'Order Form'!E208","v":0},{"$f":"'Order Form'!F208","v":0},{"$f":"'Order Form'!J208","v":0},{"$f":"'Order Form'!H208","v":0},{"$f":"'Order Form'!I208","v":0},{"$f":"'Order Form'!K208 & \"\"","v":""},{"$f":"'Order Form'!M208 & \"\"","v":""},{"$f":"'Order Form'!C208 & \"\"","v":""},{"$f":"'Order Form'!L208 & \"\"","v":""},{"$f":"'Order Form'!$E$12","v":"YES"},{"$f":"'Order Form'!$E$13","v":"ASAP (order with branding can take up to 3 business days to dispatch) Premium delivery recommended to guarantee delivery prior to Christmas, fees apply."},{"$f":"'Order Form'!$E$15","v":"FREE gift card"},{"$f":"'Order Form'!$E$16","v":"No thanks"},null,null,null,null,{"$f":"IF(N191=\"\",\"\",IFERROR(INDIRECT(\"Postcodes!$C\"&SUMPRODUCT(--(Postcodes!$A$2:$A$100<=N191)*(Postcodes!$B$2:$B$100>=N191), ROW(Postcodes!$A$2:$A$100))),\"WRONG CODE\"))","v":0},null,null,null,null,null,null,""]
[{"$f":"'Order Form'!A209","v":191},{"$f":"'Order Form'!N209","v":""},{"$f":"'Order Form'!$E$2","v":0},{"$f":"'Order Form'!$E$3","v":0},{"$f":"'Order Form'!$E$4","v":0},{"$f":"'Order Form'!$E$5","v":0},{"$f":"'Order Form'!$E$7","v":0},{"$f":"'Order Form'!$E$6","v":0},{"$f":"'Order Form'!$E$9","v":0},{"$f":"'Order Form'!$E$10 & \"\"","v":""},{"$f":"IF('Order Form'!D209=\"\",'Order Form'!C209,'Order Form'!D209)","v":0},{"$f":"'Order Form'!E209","v":0},{"$f":"'Order Form'!F209","v":0},{"$f":"'Order Form'!J209","v":0},{"$f":"'Order Form'!H209","v":0},{"$f":"'Order Form'!I209","v":0},{"$f":"'Order Form'!K209 & \"\"","v":""},{"$f":"'Order Form'!M209 & \"\"","v":""},{"$f":"'Order Form'!C209 & \"\"","v":""},{"$f":"'Order Form'!L209 & \"\"","v":""},{"$f":"'Order Form'!$E$12","v":"YES"},{"$f":"'Order Form'!$E$13","v":"ASAP (order with branding can take up to 3 business days to dispatch) Premium delivery recommended to guarantee delivery prior to Christmas, fees apply."},{"$f":"'Order Form'!$E$15","v":"FREE gift card"},{"$f":"'Order Form'!$E$16","v":"No thanks"},null,null,null,null,{"$f":"IF(N192=\"\",\"\",IFERROR(INDIRECT(\"Postcodes!$C\"&SUMPRODUCT(--(Postcodes!$A$2:$A$100<=N192)*(Postcodes!$B$2:$B$100>=N192), ROW(Postcodes!$A$2:$A$100))),\"WRONG CODE\"))","v":0},null,null,null,null,null,null,""]
[{"$f":"'Order Form'!A210","v":192},{"$f":"'Order Form'!N210","v":""},{"$f":"'Order Form'!$E$2","v":0},{"$f":"'Order Form'!$E$3","v":0},{"$f":"'Order Form'!$E$4","v":0},{"$f":"'Order Form'!$E$5","v":0},{"$f":"'Order Form'!$E$7","v":0},{"$f":"'Order Form'!$E$6","v":0},{"$f":"'Order Form'!$E$9","v":0},{"$f":"'Order Form'!$E$10 & \"\"","v":""},{"$f":"IF('Order Form'!D210=\"\",'Order Form'!C210,'Order Form'!D210)","v":0},{"$f":"'Order Form'!E210","v":0},{"$f":"'Order Form'!F210","v":0},{"$f":"'Order Form'!J210","v":0},{"$f":"'Order Form'!H210","v":0},{"$f":"'Order Form'!I210","v":0},{"$f":"'Order Form'!K210 & \"\"","v":""},{"$f":"'Order Form'!M210 & \"\"","v":""},{"$f":"'Order Form'!C210 & \"\"","v":""},{"$f":"'Order Form'!L210 & \"\"","v":""},{"$f":"'Order Form'!$E$12","v":"YES"},{"$f":"'Order Form'!$E$13","v":"ASAP (order with branding can take up to 3 business days to dispatch) Premium delivery recommended to guarantee delivery prior to Christmas, fees apply."},{"$f":"'Order Form'!$E$15","v":"FREE gift card"},{"$f":"'Order Form'!$E$16","v":"No thanks"},null,null,null,null,{"$f":"IF(N193=\"\",\"\",IFERROR(INDIRECT(\"Postcodes!$C\"&SUMPRODUCT(--(Postcodes!$A$2:$A$100<=N193)*(Postcodes!$B$2:$B$100>=N193), ROW(Postcodes!$A$2:$A$100))),\"WRONG CODE\"))","v":0},null,null,null,null,null,null,""]
[{"$f":"'Order Form'!A211","v":193},{"$f":"'Order Form'!N211","v":""},{"$f":"'Order Form'!$E$2","v":0},{"$f":"'Order Form'!$E$3","v":0},{"$f":"'Order Form'!$E$4","v":0},{"$f":"'Order Form'!$E$5","v":0},{"$f":"'Order Form'!$E$7","v":0},{"$f":"'Order Form'!$E$6","v":0},{"$f":"'Order Form'!$E$9","v":0},{"$f":"'Order Form'!$E$10 & \"\"","v":""},{"$f":"IF('Order Form'!D211=\"\",'Order Form'!C211,'Order Form'!D211)","v":0},{"$f":"'Order Form'!E211","v":0},{"$f":"'Order Form'!F211","v":0},{"$f":"'Order Form'!J211","v":0},{"$f":"'Order Form'!H211","v":0},{"$f":"'Order Form'!I211","v":0},{"$f":"'Order Form'!K211 & \"\"","v":""},{"$f":"'Order Form'!M211 & \"\"","v":""},{"$f":"'Order Form'!C211 & \"\"","v":""},{"$f":"'Order Form'!L211 & \"\"","v":""},{"$f":"'Order Form'!$E$12","v":"YES"},{"$f":"'Order Form'!$E$13","v":"ASAP (order with branding can take up to 3 business days to dispatch) Premium delivery recommended to guarantee delivery prior to Christmas, fees apply."},{"$f":"'Order Form'!$E$15","v":"FREE gift card"},{"$f":"'Order Form'!$E$16","v":"No thanks"},null,null,null,null,{"$f":"IF(N194=\"\",\"\",IFERROR(INDIRECT(\"Postcodes!$C\"&SUMPRODUCT(--(Postcodes!$A$2:$A$100<=N194)*(Postcodes!$B$2:$B$100>=N194), ROW(Postcodes!$A$2:$A$100))),\"WRONG CODE\"))","v":0},null,null,null,null,null,null,""]
[{"$f":"'Order Form'!A212","v":194},{"$f":"'Order Form'!N212","v":""},{"$f":"'Order Form'!$E$2","v":0},{"$f":"'Order Form'!$E$3","v":0},{"$f":"'Order Form'!$E$4","v":0},{"$f":"'Order Form'!$E$5","v":0},{"$f":"'Order Form'!$E$7","v":0},{"$f":"'Order Form'!$E$6","v":0},{"$f":"'Order Form'!$E$9","v":0},{"$f":"'Order Form'!$E$10 & \"\"","v":""},{"$f":"IF('Order Form'!D212=\"\",'Order Form'!C212,'Order Form'!D212)","v":0},{"$f":"'Order Form'!E212","v":0},{"$f":"'Order Form'!F212","v":0},{"$f":"'Order Form'!J212","v":0},{"$f":"'Order Form'!H212","v":0},{"$f":"'Order Form'!I212","v":0},{"$f":"'Order Form'!K212 & \"\"","v":""},{"$f":"'Order Form'!M212 & \"\"","v":""},{"$f":"'Order Form'!C212 & \"\"","v":""},{"$f":"'Order Form'!L212 & \"\"","v":""},{"$f":"'Order Form'!$E$12","v":"YES"},{"$f":"'Order Form'!$E$13","v":"ASAP (order with branding can take up to 3 business days to dispatch) Premium delivery recommended to guarantee delivery prior to Christmas, fees apply."},{"$f":"'Order Form'!$E$15","v":"FREE gift card"},{"$f":"'Order Form'!$E$16","v":"No thanks"},null,null,null,null,{"$f":"IF(N195=\"\",\"\",IFERROR(INDIRECT(\"Postcodes!$C\"&SUMPRODUCT(--(Postcodes!$A$2:$A$100<=N195)*(Postcodes!$B$2:$B$100>=N195), ROW(Postcodes!$A$2:$A$100))),\"WRONG CODE\"))","v":0},null,null,null,null,null,null,{"$f":"IF(AND(V195=\"ASAP (order with branding can take up to 3 business days to dispatch)\",W195=\"FREE gift card\",X195=\"No Thanks\"),\"asap\",\"\")","v":""}]
[{"$f":"'Order Form'!A213","v":195},{"$f":"'Order Form'!N213","v":""},{"$f":"'Order Form'!$E$2","v":0},{"$f":"'Order Form'!$E$3","v":0},{"$f":"'Order Form'!$E$4","v":0},{"$f":"'Order Form'!$E$5","v":0},{"$f":"'Order Form'!$E$7","v":0},{"$f":"'Order Form'!$E$6","v":0},{"$f":"'Order Form'!$E$9","v":0},{"$f":"'Order Form'!$E$10 & \"\"","v":""},{"$f":"IF('Order Form'!D213=\"\",'Order Form'!C213,'Order Form'!D213)","v":0},{"$f":"'Order Form'!E213","v":0},{"$f":"'Order Form'!F213","v":0},{"$f":"'Order Form'!J213","v":0},{"$f":"'Order Form'!H213","v":0},{"$f":"'Order Form'!I213","v":0},{"$f":"'Order Form'!K213 & \"\"","v":""},{"$f":"'Order Form'!M213 & \"\"","v":""},{"$f":"'Order Form'!C213 & \"\"","v":""},{"$f":"'Order Form'!L213 & \"\"","v":""},{"$f":"'Order Form'!$E$12","v":"YES"},{"$f":"'Order Form'!$E$13","v":"ASAP (order with branding can take up to 3 business days to dispatch) Premium delivery recommended to guarantee delivery prior to Christmas, fees apply."},{"$f":"'Order Form'!$E$15","v":"FREE gift card"},{"$f":"'Order Form'!$E$16","v":"No thanks"},null,null,null,null,{"$f":"IF(N196=\"\",\"\",IFERROR(INDIRECT(\"Postcodes!$C\"&SUMPRODUCT(--(Postcodes!$A$2:$A$100<=N196)*(Postcodes!$B$2:$B$100>=N196), ROW(Postcodes!$A$2:$A$100))),\"WRONG CODE\"))","v":0},null,null,null,null,null,null,""]
[{"$f":"'Order Form'!A214","v":196},{"$f":"'Order Form'!N214","v":""},{"$f":"'Order Form'!$E$2","v":0},{"$f":"'Order Form'!$E$3","v":0},{"$f":"'Order Form'!$E$4","v":0},{"$f":"'Order Form'!$E$5","v":0},{"$f":"'Order Form'!$E$7","v":0},{"$f":"'Order Form'!$E$6","v":0},{"$f":"'Order Form'!$E$9","v":0},{"$f":"'Order Form'!$E$10 & \"\"","v":""},{"$f":"IF('Order Form'!D214=\"\",'Order Form'!C214,'Order Form'!D214)","v":0},{"$f":"'Order Form'!E214","v":0},{"$f":"'Order Form'!F214","v":0},{"$f":"'Order Form'!J214","v":0},{"$f":"'Order Form'!H214","v":0},{"$f":"'Order Form'!I214","v":0},{"$f":"'Order Form'!K214 & \"\"","v":""},{"$f":"'Order Form'!M214 & \"\"","v":""},{"$f":"'Order Form'!C214 & \"\"","v":""},{"$f":"'Order Form'!L214 & \"\"","v":""},{"$f":"'Order Form'!$E$12","v":"YES"},{"$f":"'Order Form'!$E$13","v":"ASAP (order with branding can take up to 3 business days to dispatch) Premium delivery recommended to guarantee delivery prior to Christmas, fees apply."},{"$f":"'Order Form'!$E$15","v":"FREE gift card"},{"$f":"'Order Form'!$E$16","v":"No thanks"},null,null,null,null,{"$f":"IF(N197=\"\",\"\",IFERROR(INDIRECT(\"Postcodes!$C\"&SUMPRODUCT(--(Postcodes!$A$2:$A$100<=N197)*(Postcodes!$B$2:$B$100>=N197), ROW(Postcodes!$A$2:$A$100))),\"WRONG CODE\"))","v":0},null,null,null,null,null,null,""]
[{"$f":"'Order Form'!A215","v":197},{"$f":"'Order Form'!N215","v":""},{"$f":"'Order Form'!$E$2","v":0},{"$f":"'Order Form'!$E$3","v":0},{"$f":"'Order Form'!$E$4","v":0},{"$f":"'Order Form'!$E$5","v":0},{"$f":"'Order Form'!$E$7","v":0},{"$f":"'Order Form'!$E$6","v":0},{"$f":"'Order Form'!$E$9","v":0},{"$f":"'Order Form'!$E$10 & \"\"","v":""},{"$f":"IF('Order Form'!D215=\"\",'Order Form'!C215,'Order Form'!D215)","v":0},{"$f":"'Order Form'!E215","v":0},{"$f":"'Order Form'!F215","v":0},{"$f":"'Order Form'!J215","v":0},{"$f":"'Order Form'!H215","v":0},{"$f":"'Order Form'!I215","v":0},{"$f":"'Order Form'!K215 & \"\"","v":""},{"$f":"'Order Form'!M215 & \"\"","v":""},{"$f":"'Order Form'!C215 & \"\"","v":""},{"$f":"'Order Form'!L215 & \"\"","v":""},{"$f":"'Order Form'!$E$12","v":"YES"},{"$f":"'Order Form'!$E$13","v":"ASAP (order with branding can take up to 3 business days to dispatch) Premium delivery recommended to guarantee delivery prior to Christmas, fees apply."},{"$f":"'Order Form'!$E$15","v":"FREE gift card"},{"$f":"'Order Form'!$E$16","v":"No thanks"},null,null,null,null,{"$f":"IF(N198=\"\",\"\",IFERROR(INDIRECT(\"Postcodes!$C\"&SUMPRODUCT(--(Postcodes!$A$2:$A$100<=N198)*(Postcodes!$B$2:$B$100>=N198), ROW(Postcodes!$A$2:$A$100))),\"WRONG CODE\"))","v":0},null,null,null,null,null,null,""]
[{"$f":"'Order Form'!A216","v":198},{"$f":"'Order Form'!N216","v":""},{"$f":"'Order Form'!$E$2","v":0},{"$f":"'Order Form'!$E$3","v":0},{"$f":"'Order Form'!$E$4","v":0},{"$f":"'Order Form'!$E$5","v":0},{"$f":"'Order Form'!$E$7","v":0},{"$f":"'Order Form'!$E$6","v":0},{"$f":"'Order Form'!$E$9","v":0},{"$f":"'Order Form'!$E$10 & \"\"","v":""},{"$f":"IF('Order Form'!D216=\"\",'Order Form'!C216,'Order Form'!D216)","v":0},{"$f":"'Order Form'!E216","v":0},{"$f":"'Order Form'!F216","v":0},{"$f":"'Order Form'!J216","v":0},{"$f":"'Order Form'!H216","v":0},{"$f":"'Order Form'!I216","v":0},{"$f":"'Order Form'!K216 & \"\"","v":""},{"$f":"'Order Form'!M216 & \"\"","v":""},{"$f":"'Order Form'!C216 & \"\"","v":""},{"$f":"'Order Form'!L216 & \"\"","v":""},{"$f":"'Order Form'!$E$12","v":"YES"},{"$f":"'Order Form'!$E$13","v":"ASAP (order with branding can take up to 3 business days to dispatch) Premium delivery recommended to guarantee delivery prior to Christmas, fees apply."},{"$f":"'Order Form'!$E$15","v":"FREE gift card"},{"$f":"'Order Form'!$E$16","v":"No thanks"},null,null,null,null,{"$f":"IF(N199=\"\",\"\",IFERROR(INDIRECT(\"Postcodes!$C\"&SUMPRODUCT(--(Postcodes!$A$2:$A$100<=N199)*(Postcodes!$B$2:$B$100>=N199), ROW(Postcodes!$A$2:$A$100))),\"WRONG CODE\"))","v":0},null,null,null,null,null,null,""]
[{"$f":"'Order Form'!A217","v":199},{"$f":"'Order Form'!N217","v":""},{"$f":"'Order Form'!$E$2","v":0},{"$f":"'Order Form'!$E$3","v":0},{"$f":"'Order Form'!$E$4","v":0},{"$f":"'Order Form'!$E$5","v":0},{"$f":"'Order Form'!$E$7","v":0},{"$f":"'Order Form'!$E$6","v":0},{"$f":"'Order Form'!$E$9","v":0},{"$f":"'Order Form'!$E$10 & \"\"","v":""},{"$f":"IF('Order Form'!D217=\"\",'Order Form'!C217,'Order Form'!D217)","v":0},{"$f":"'Order Form'!E217","v":0},{"$f":"'Order Form'!F217","v":0},{"$f":"'Order Form'!J217","v":0},{"$f":"'Order Form'!H217","v":0},{"$f":"'Order Form'!I217","v":0},{"$f":"'Order Form'!K217 & \"\"","v":""},{"$f":"'Order Form'!M217 & \"\"","v":""},{"$f":"'Order Form'!C217 & \"\"","v":""},{"$f":"'Order Form'!L217 & \"\"","v":""},{"$f":"'Order Form'!$E$12","v":"YES"},{"$f":"'Order Form'!$E$13","v":"ASAP (order with branding can take up to 3 business days to dispatch) Premium delivery recommended to guarantee delivery prior to Christmas, fees apply."},{"$f":"'Order Form'!$E$15","v":"FREE gift card"},{"$f":"'Order Form'!$E$16","v":"No thanks"},null,null,null,null,{"$f":"IF(N200=\"\",\"\",IFERROR(INDIRECT(\"Postcodes!$C\"&SUMPRODUCT(--(Postcodes!$A$2:$A$100<=N200)*(Postcodes!$B$2:$B$100>=N200), ROW(Postcodes!$A$2:$A$100))),\"WRONG CODE\"))","v":0},null,null,null,null,null,null,""]
[{"$f":"'Order Form'!A218","v":200},{"$f":"'Order Form'!N218","v":""},{"$f":"'Order Form'!$E$2","v":0},{"$f":"'Order Form'!$E$3","v":0},{"$f":"'Order Form'!$E$4","v":0},{"$f":"'Order Form'!$E$5","v":0},{"$f":"'Order Form'!$E$7","v":0},{"$f":"'Order Form'!$E$6","v":0},{"$f":"'Order Form'!$E$9","v":0},{"$f":"'Order Form'!$E$10 & \"\"","v":""},{"$f":"IF('Order Form'!D218=\"\",'Order Form'!C218,'Order Form'!D218)","v":0},{"$f":"'Order Form'!E218","v":0},{"$f":"'Order Form'!F218","v":0},{"$f":"'Order Form'!J218","v":0},{"$f":"'Order Form'!H218","v":0},{"$f":"'Order Form'!I218","v":0},{"$f":"'Order Form'!K218 & \"\"","v":""},{"$f":"'Order Form'!M218 & \"\"","v":""},{"$f":"'Order Form'!C218 & \"\"","v":""},{"$f":"'Order Form'!L218 & \"\"","v":""},{"$f":"'Order Form'!$E$12","v":"YES"},{"$f":"'Order Form'!$E$13","v":"ASAP (order with branding can take up to 3 business days to dispatch) Premium delivery recommended to guarantee delivery prior to Christmas, fees apply."},{"$f":"'Order Form'!$E$15","v":"FREE gift card"},{"$f":"'Order Form'!$E$16","v":"No thanks"},null,null,null,null,{"$f":"IF(N201=\"\",\"\",IFERROR(INDIRECT(\"Postcodes!$C\"&SUMPRODUCT(--(Postcodes!$A$2:$A$100<=N201)*(Postcodes!$B$2:$B$100>=N201), ROW(Postcodes!$A$2:$A$100))),\"WRONG CODE\"))","v":0},null,null,null,null,null,null,""]
[{"$f":"'Order Form'!A219","v":201},{"$f":"'Order Form'!N219","v":""},{"$f":"'Order Form'!$E$2","v":0},{"$f":"'Order Form'!$E$3","v":0},{"$f":"'Order Form'!$E$4","v":0},{"$f":"'Order Form'!$E$5","v":0},{"$f":"'Order Form'!$E$7","v":0},{"$f":"'Order Form'!$E$6","v":0},{"$f":"'Order Form'!$E$9","v":0},{"$f":"'Order Form'!$E$10 & \"\"","v":""},{"$f":"IF('Order Form'!D219=\"\",'Order Form'!C219,'Order Form'!D219)","v":0},{"$f":"'Order Form'!E219","v":0},{"$f":"'Order Form'!F219","v":0},{"$f":"'Order Form'!J219","v":0},{"$f":"'Order Form'!H219","v":0},{"$f":"'Order Form'!I219","v":0},{"$f":"'Order Form'!K219 & \"\"","v":""},{"$f":"'Order Form'!M219 & \"\"","v":""},{"$f":"'Order Form'!C219 & \"\"","v":""},{"$f":"'Order Form'!L219 & \"\"","v":""},{"$f":"'Order Form'!$E$12","v":"YES"},{"$f":"'Order Form'!$E$13","v":"ASAP (order with branding can take up to 3 business days to dispatch) Premium delivery recommended to guarantee delivery prior to Christmas, fees apply."},{"$f":"'Order Form'!$E$15","v":"FREE gift card"},{"$f":"'Order Form'!$E$16","v":"No thanks"},null,null,null,null,{"$f":"IF(N202=\"\",\"\",IFERROR(INDIRECT(\"Postcodes!$C\"&SUMPRODUCT(--(Postcodes!$A$2:$A$100<=N202)*(Postcodes!$B$2:$B$100>=N202), ROW(Postcodes!$A$2:$A$100))),\"WRONG CODE\"))","v":0},null,null,null,null,null,null,""]
[{"$f":"'Order Form'!A220","v":202},{"$f":"'Order Form'!N220","v":""},{"$f":"'Order Form'!$E$2","v":0},{"$f":"'Order Form'!$E$3","v":0},{"$f":"'Order Form'!$E$4","v":0},{"$f":"'Order Form'!$E$5","v":0},{"$f":"'Order Form'!$E$7","v":0},{"$f":"'Order Form'!$E$6","v":0},{"$f":"'Order Form'!$E$9","v":0},{"$f":"'Order Form'!$E$10 & \"\"","v":""},{"$f":"IF('Order Form'!D220=\"\",'Order Form'!C220,'Order Form'!D220)","v":0},{"$f":"'Order Form'!E220","v":0},{"$f":"'Order Form'!F220","v":0},{"$f":"'Order Form'!J220","v":0},{"$f":"'Order Form'!H220","v":0},{"$f":"'Order Form'!I220","v":0},{"$f":"'Order Form'!K220 & \"\"","v":""},{"$f":"'Order Form'!M220 & \"\"","v":""},{"$f":"'Order Form'!C220 & \"\"","v":""},{"$f":"'Order Form'!L220 & \"\"","v":""},{"$f":"'Order Form'!$E$12","v":"YES"},{"$f":"'Order Form'!$E$13","v":"ASAP (order with branding can take up to 3 business days to dispatch) Premium delivery recommended to guarantee delivery prior to Christmas, fees apply."},{"$f":"'Order Form'!$E$15","v":"FREE gift card"},{"$f":"'Order Form'!$E$16","v":"No thanks"},null,null,null,null,{"$f":"IF(N203=\"\",\"\",IFERROR(INDIRECT(\"Postcodes!$C\"&SUMPRODUCT(--(Postcodes!$A$2:$A$100<=N203)*(Postcodes!$B$2:$B$100>=N203), ROW(Postcodes!$A$2:$A$100))),\"WRONG CODE\"))","v":0},null,null,null,null,null,null,""]
[{"$f":"'Order Form'!A221","v":203},{"$f":"'Order Form'!N221","v":""},{"$f":"'Order Form'!$E$2","v":0},{"$f":"'Order Form'!$E$3","v":0},{"$f":"'Order Form'!$E$4","v":0},{"$f":"'Order Form'!$E$5","v":0},{"$f":"'Order Form'!$E$7","v":0},{"$f":"'Order Form'!$E$6","v":0},{"$f":"'Order Form'!$E$9","v":0},{"$f":"'Order Form'!$E$10 & \"\"","v":""},{"$f":"IF('Order Form'!D221=\"\",'Order Form'!C221,'Order Form'!D221)","v":0},{"$f":"'Order Form'!E221","v":0},{"$f":"'Order Form'!F221","v":0},{"$f":"'Order Form'!J221","v":0},{"$f":"'Order Form'!H221","v":0},{"$f":"'Order Form'!I221","v":0},{"$f":"'Order Form'!K221 & \"\"","v":""},{"$f":"'Order Form'!M221 & \"\"","v":""},{"$f":"'Order Form'!C221 & \"\"","v":""},{"$f":"'Order Form'!L221 & \"\"","v":""},{"$f":"'Order Form'!$E$12","v":"YES"},{"$f":"'Order Form'!$E$13","v":"ASAP (order with branding can take up to 3 business days to dispatch) Premium delivery recommended to guarantee delivery prior to Christmas, fees apply."},{"$f":"'Order Form'!$E$15","v":"FREE gift card"},{"$f":"'Order Form'!$E$16","v":"No thanks"},null,null,null,null,{"$f":"IF(N204=\"\",\"\",IFERROR(INDIRECT(\"Postcodes!$C\"&SUMPRODUCT(--(Postcodes!$A$2:$A$100<=N204)*(Postcodes!$B$2:$B$100>=N204), ROW(Postcodes!$A$2:$A$100))),\"WRONG CODE\"))","v":0},null,null,null,null,null,null,""]
[{"$f":"'Order Form'!A222","v":204},{"$f":"'Order Form'!N222","v":""},{"$f":"'Order Form'!$E$2","v":0},{"$f":"'Order Form'!$E$3","v":0},{"$f":"'Order Form'!$E$4","v":0},{"$f":"'Order Form'!$E$5","v":0},{"$f":"'Order Form'!$E$7","v":0},{"$f":"'Order Form'!$E$6","v":0},{"$f":"'Order Form'!$E$9","v":0},{"$f":"'Order Form'!$E$10 & \"\"","v":""},{"$f":"IF('Order Form'!D222=\"\",'Order Form'!C222,'Order Form'!D222)","v":0},{"$f":"'Order Form'!E222","v":0},{"$f":"'Order Form'!F222","v":0},{"$f":"'Order Form'!J222","v":0},{"$f":"'Order Form'!H222","v":0},{"$f":"'Order Form'!I222","v":0},{"$f":"'Order Form'!K222 & \"\"","v":""},{"$f":"'Order Form'!M222 & \"\"","v":""},{"$f":"'Order Form'!C222 & \"\"","v":""},{"$f":"'Order Form'!L222 & \"\"","v":""},{"$f":"'Order Form'!$E$12","v":"YES"},{"$f":"'Order Form'!$E$13","v":"ASAP (order with branding can take up to 3 business days to dispatch) Premium delivery recommended to guarantee delivery prior to Christmas, fees apply."},{"$f":"'Order Form'!$E$15","v":"FREE gift card"},{"$f":"'Order Form'!$E$16","v":"No thanks"},null,null,null,null,{"$f":"IF(N205=\"\",\"\",IFERROR(INDIRECT(\"Postcodes!$C\"&SUMPRODUCT(--(Postcodes!$A$2:$A$100<=N205)*(Postcodes!$B$2:$B$100>=N205), ROW(Postcodes!$A$2:$A$100))),\"WRONG CODE\"))","v":0},null,null,null,null,null,null,""]
[{"$f":"'Order Form'!A223","v":205},{"$f":"'Order Form'!N223","v":""},{"$f":"'Order Form'!$E$2","v":0},{"$f":"'Order Form'!$E$3","v":0},{"$f":"'Order Form'!$E$4","v":0},{"$f":"'Order Form'!$E$5","v":0},{"$f":"'Order Form'!$E$7","v":0},{"$f":"'Order Form'!$E$6","v":0},{"$f":"'Order Form'!$E$9","v":0},{"$f":"'Order Form'!$E$10 & \"\"","v":""},{"$f":"IF('Order Form'!D223=\"\",'Order Form'!C223,'Order Form'!D223)","v":0},{"$f":"'Order Form'!E223","v":0},{"$f":"'Order Form'!F223","v":0},{"$f":"'Order Form'!J223","v":0},{"$f":"'Order Form'!H223","v":0},{"$f":"'Order Form'!I223","v":0},{"$f":"'Order Form'!K223 & \"\"","v":""},{"$f":"'Order Form'!M223 & \"\"","v":""},{"$f":"'Order Form'!C223 & \"\"","v":""},{"$f":"'Order Form'!L223 & \"\"","v":""},{"$f":"'Order Form'!$E$12","v":"YES"},{"$f":"'Order Form'!$E$13","v":"ASAP (order with branding can take up to 3 business days to dispatch) Premium delivery recommended to guarantee delivery prior to Christmas, fees apply."},{"$f":"'Order Form'!$E$15","v":"FREE gift card"},{"$f":"'Order Form'!$E$16","v":"No thanks"},null,null,null,null,{"$f":"IF(N206=\"\",\"\",IFERROR(INDIRECT(\"Postcodes!$C\"&SUMPRODUCT(--(Postcodes!$A$2:$A$100<=N206)*(Postcodes!$B$2:$B$100>=N206), ROW(Postcodes!$A$2:$A$100))),\"WRONG CODE\"))","v":0},null,null,null,null,null,null,""]
[{"$f":"'Order Form'!A224","v":206},{"$f":"'Order Form'!N224","v":""},{"$f":"'Order Form'!$E$2","v":0},{"$f":"'Order Form'!$E$3","v":0},{"$f":"'Order Form'!$E$4","v":0},{"$f":"'Order Form'!$E$5","v":0},{"$f":"'Order Form'!$E$7","v":0},{"$f":"'Order Form'!$E$6","v":0},{"$f":"'Order Form'!$E$9","v":0},{"$f":"'Order Form'!$E$10 & \"\"","v":""},{"$f":"IF('Order Form'!D224=\"\",'Order Form'!C224,'Order Form'!D224)","v":0},{"$f":"'Order Form'!E224","v":0},{"$f":"'Order Form'!F224","v":0},{"$f":"'Order Form'!J224","v":0},{"$f":"'Order Form'!H224","v":0},{"$f":"'Order Form'!I224","v":0},{"$f":"'Order Form'!K224 & \"\"","v":""},{"$f":"'Order Form'!M224 & \"\"","v":""},{"$f":"'Order Form'!C224 & \"\"","v":""},{"$f":"'Order Form'!L224 & \"\"","v":""},{"$f":"'Order Form'!$E$12","v":"YES"},{"$f":"'Order Form'!$E$13","v":"ASAP (order with branding can take up to 3 business days to dispatch) Premium delivery recommended to guarantee delivery prior to Christmas, fees apply."},{"$f":"'Order Form'!$E$15","v":"FREE gift card"},{"$f":"'Order Form'!$E$16","v":"No thanks"},null,null,null,null,{"$f":"IF(N207=\"\",\"\",IFERROR(INDIRECT(\"Postcodes!$C\"&SUMPRODUCT(--(Postcodes!$A$2:$A$100<=N207)*(Postcodes!$B$2:$B$100>=N207), ROW(Postcodes!$A$2:$A$100))),\"WRONG CODE\"))","v":0},null,null,null,null,null,null,""]
[{"$f":"'Order Form'!A225","v":207},{"$f":"'Order Form'!N225","v":""},{"$f":"'Order Form'!$E$2","v":0},{"$f":"'Order Form'!$E$3","v":0},{"$f":"'Order Form'!$E$4","v":0},{"$f":"'Order Form'!$E$5","v":0},{"$f":"'Order Form'!$E$7","v":0},{"$f":"'Order Form'!$E$6","v":0},{"$f":"'Order Form'!$E$9","v":0},{"$f":"'Order Form'!$E$10 & \"\"","v":""},{"$f":"IF('Order Form'!D225=\"\",'Order Form'!C225,'Order Form'!D225)","v":0},{"$f":"'Order Form'!E225","v":0},{"$f":"'Order Form'!F225","v":0},{"$f":"'Order Form'!J225","v":0},{"$f":"'Order Form'!H225","v":0},{"$f":"'Order Form'!I225","v":0},{"$f":"'Order Form'!K225 & \"\"","v":""},{"$f":"'Order Form'!M225 & \"\"","v":""},{"$f":"'Order Form'!C225 & \"\"","v":""},{"$f":"'Order Form'!L225 & \"\"","v":""},{"$f":"'Order Form'!$E$12","v":"YES"},{"$f":"'Order Form'!$E$13","v":"ASAP (order with branding can take up to 3 business days to dispatch) Premium delivery recommended to guarantee delivery prior to Christmas, fees apply."},{"$f":"'Order Form'!$E$15","v":"FREE gift card"},{"$f":"'Order Form'!$E$16","v":"No thanks"},null,null,null,null,{"$f":"IF(N208=\"\",\"\",IFERROR(INDIRECT(\"Postcodes!$C\"&SUMPRODUCT(--(Postcodes!$A$2:$A$100<=N208)*(Postcodes!$B$2:$B$100>=N208), ROW(Postcodes!$A$2:$A$100))),\"WRONG CODE\"))","v":0},null,null,null,null,null,null,""]
[{"$f":"'Order Form'!A226","v":208},{"$f":"'Order Form'!N226","v":""},{"$f":"'Order Form'!$E$2","v":0},{"$f":"'Order Form'!$E$3","v":0},{"$f":"'Order Form'!$E$4","v":0},{"$f":"'Order Form'!$E$5","v":0},{"$f":"'Order Form'!$E$7","v":0},{"$f":"'Order Form'!$E$6","v":0},{"$f":"'Order Form'!$E$9","v":0},{"$f":"'Order Form'!$E$10 & \"\"","v":""},{"$f":"IF('Order Form'!D226=\"\",'Order Form'!C226,'Order Form'!D226)","v":0},{"$f":"'Order Form'!E226","v":0},{"$f":"'Order Form'!F226","v":0},{"$f":"'Order Form'!J226","v":0},{"$f":"'Order Form'!H226","v":0},{"$f":"'Order Form'!I226","v":0},{"$f":"'Order Form'!K226 & \"\"","v":""},{"$f":"'Order Form'!M226 & \"\"","v":""},{"$f":"'Order Form'!C226 & \"\"","v":""},{"$f":"'Order Form'!L226 & \"\"","v":""},{"$f":"'Order Form'!$E$12","v":"YES"},{"$f":"'Order Form'!$E$13","v":"ASAP (order with branding can take up to 3 business days to dispatch) Premium delivery recommended to guarantee delivery prior to Christmas, fees apply."},{"$f":"'Order Form'!$E$15","v":"FREE gift card"},{"$f":"'Order Form'!$E$16","v":"No thanks"},null,null,null,null,{"$f":"IF(N209=\"\",\"\",IFERROR(INDIRECT(\"Postcodes!$C\"&SUMPRODUCT(--(Postcodes!$A$2:$A$100<=N209)*(Postcodes!$B$2:$B$100>=N209), ROW(Postcodes!$A$2:$A$100))),\"WRONG CODE\"))","v":0},null,null,null,null,null,null,""]
[{"$f":"'Order Form'!A227","v":209},{"$f":"'Order Form'!N227","v":""},{"$f":"'Order Form'!$E$2","v":0},{"$f":"'Order Form'!$E$3","v":0},{"$f":"'Order Form'!$E$4","v":0},{"$f":"'Order Form'!$E$5","v":0},{"$f":"'Order Form'!$E$7","v":0},{"$f":"'Order Form'!$E$6","v":0},{"$f":"'Order Form'!$E$9","v":0},{"$f":"'Order Form'!$E$10 & \"\"","v":""},{"$f":"IF('Order Form'!D227=\"\",'Order Form'!C227,'Order Form'!D227)","v":0},{"$f":"'Order Form'!E227","v":0},{"$f":"'Order Form'!F227","v":0},{"$f":"'Order Form'!J227","v":0},{"$f":"'Order Form'!H227","v":0},{"$f":"'Order Form'!I227","v":0},{"$f":"'Order Form'!K227 & \"\"","v":""},{"$f":"'Order Form'!M227 & \"\"","v":""},{"$f":"'Order Form'!C227 & \"\"","v":""},{"$f":"'Order Form'!L227 & \"\"","v":""},{"$f":"'Order Form'!$E$12","v":"YES"},{"$f":"'Order Form'!$E$13","v":"ASAP (order with branding can take up to 3 business days to dispatch) Premium delivery recommended to guarantee delivery prior to Christmas, fees apply."},{"$f":"'Order Form'!$E$15","v":"FREE gift card"},{"$f":"'Order Form'!$E$16","v":"No thanks"},null,null,null,null,{"$f":"IF(N210=\"\",\"\",IFERROR(INDIRECT(\"Postcodes!$C\"&SUMPRODUCT(--(Postcodes!$A$2:$A$100<=N210)*(Postcodes!$B$2:$B$100>=N210), ROW(Postcodes!$A$2:$A$100))),\"WRONG CODE\"))","v":0},null,null,null,null,null,null,""]
[{"$f":"'Order Form'!A228","v":210},{"$f":"'Order Form'!N228","v":""},{"$f":"'Order Form'!$E$2","v":0},{"$f":"'Order Form'!$E$3","v":0},{"$f":"'Order Form'!$E$4","v":0},{"$f":"'Order Form'!$E$5","v":0},{"$f":"'Order Form'!$E$7","v":0},{"$f":"'Order Form'!$E$6","v":0},{"$f":"'Order Form'!$E$9","v":0},{"$f":"'Order Form'!$E$10 & \"\"","v":""},{"$f":"IF('Order Form'!D228=\"\",'Order Form'!C228,'Order Form'!D228)","v":0},{"$f":"'Order Form'!E228","v":0},{"$f":"'Order Form'!F228","v":0},{"$f":"'Order Form'!J228","v":0},{"$f":"'Order Form'!H228","v":0},{"$f":"'Order Form'!I228","v":0},{"$f":"'Order Form'!K228 & \"\"","v":""},{"$f":"'Order Form'!M228 & \"\"","v":""},{"$f":"'Order Form'!C228 & \"\"","v":""},{"$f":"'Order Form'!L228 & \"\"","v":""},{"$f":"'Order Form'!$E$12","v":"YES"},{"$f":"'Order Form'!$E$13","v":"ASAP (order with branding can take up to 3 business days to dispatch) Premium delivery recommended to guarantee delivery prior to Christmas, fees apply."},{"$f":"'Order Form'!$E$15","v":"FREE gift card"},{"$f":"'Order Form'!$E$16","v":"No thanks"},null,null,null,null,{"$f":"IF(N211=\"\",\"\",IFERROR(INDIRECT(\"Postcodes!$C\"&SUMPRODUCT(--(Postcodes!$A$2:$A$100<=N211)*(Postcodes!$B$2:$B$100>=N211), ROW(Postcodes!$A$2:$A$100))),\"WRONG CODE\"))","v":0},null,null,null,null,null,null,""]
[{"$f":"'Order Form'!A229","v":211},{"$f":"'Order Form'!N229","v":""},{"$f":"'Order Form'!$E$2","v":0},{"$f":"'Order Form'!$E$3","v":0},{"$f":"'Order Form'!$E$4","v":0},{"$f":"'Order Form'!$E$5","v":0},{"$f":"'Order Form'!$E$7","v":0},{"$f":"'Order Form'!$E$6","v":0},{"$f":"'Order Form'!$E$9","v":0},{"$f":"'Order Form'!$E$10 & \"\"","v":""},{"$f":"IF('Order Form'!D229=\"\",'Order Form'!C229,'Order Form'!D229)","v":0},{"$f":"'Order Form'!E229","v":0},{"$f":"'Order Form'!F229","v":0},{"$f":"'Order Form'!J229","v":0},{"$f":"'Order Form'!H229","v":0},{"$f":"'Order Form'!I229","v":0},{"$f":"'Order Form'!K229 & \"\"","v":""},{"$f":"'Order Form'!M229 & \"\"","v":""},{"$f":"'Order Form'!C229 & \"\"","v":""},{"$f":"'Order Form'!L229 & \"\"","v":""},{"$f":"'Order Form'!$E$12","v":"YES"},{"$f":"'Order Form'!$E$13","v":"ASAP (order with branding can take up to 3 business days to dispatch) Premium delivery recommended to guarantee delivery prior to Christmas, fees apply."},{"$f":"'Order Form'!$E$15","v":"FREE gift card"},{"$f":"'Order Form'!$E$16","v":"No thanks"},null,null,null,null,{"$f":"IF(N212=\"\",\"\",IFERROR(INDIRECT(\"Postcodes!$C\"&SUMPRODUCT(--(Postcodes!$A$2:$A$100<=N212)*(Postcodes!$B$2:$B$100>=N212), ROW(Postcodes!$A$2:$A$100))),\"WRONG CODE\"))","v":0},null,null,null,null,null,null,""]
[{"$f":"'Order Form'!A230","v":212},{"$f":"'Order Form'!N230","v":""},{"$f":"'Order Form'!$E$2","v":0},{"$f":"'Order Form'!$E$3","v":0},{"$f":"'Order Form'!$E$4","v":0},{"$f":"'Order Form'!$E$5","v":0},{"$f":"'Order Form'!$E$7","v":0},{"$f":"'Order Form'!$E$6","v":0},{"$f":"'Order Form'!$E$9","v":0},{"$f":"'Order Form'!$E$10 & \"\"","v":""},{"$f":"IF('Order Form'!D230=\"\",'Order Form'!C230,'Order Form'!D230)","v":0},{"$f":"'Order Form'!E230","v":0},{"$f":"'Order Form'!F230","v":0},{"$f":"'Order Form'!J230","v":0},{"$f":"'Order Form'!H230","v":0},{"$f":"'Order Form'!I230","v":0},{"$f":"'Order Form'!K230 & \"\"","v":""},{"$f":"'Order Form'!M230 & \"\"","v":""},{"$f":"'Order Form'!C230 & \"\"","v":""},{"$f":"'Order Form'!L230 & \"\"","v":""},{"$f":"'Order Form'!$E$12","v":"YES"},{"$f":"'Order Form'!$E$13","v":"ASAP (order with branding can take up to 3 business days to dispatch) Premium delivery recommended to guarantee delivery prior to Christmas, fees apply."},{"$f":"'Order Form'!$E$15","v":"FREE gift card"},{"$f":"'Order Form'!$E$16","v":"No thanks"},null,null,null,null,{"$f":"IF(N213=\"\",\"\",IFERROR(INDIRECT(\"Postcodes!$C\"&SUMPRODUCT(--(Postcodes!$A$2:$A$100<=N213)*(Postcodes!$B$2:$B$100>=N213), ROW(Postcodes!$A$2:$A$100))),\"WRONG CODE\"))","v":0},null,null,null,null,null,null,""]
[{"$f":"'Order Form'!A231","v":213},{"$f":"'Order Form'!N231","v":""},{"$f":"'Order Form'!$E$2","v":0},{"$f":"'Order Form'!$E$3","v":0},{"$f":"'Order Form'!$E$4","v":0},{"$f":"'Order Form'!$E$5","v":0},{"$f":"'Order Form'!$E$7","v":0},{"$f":"'Order Form'!$E$6","v":0},{"$f":"'Order Form'!$E$9","v":0},{"$f":"'Order Form'!$E$10 & \"\"","v":""},{"$f":"IF('Order Form'!D231=\"\",'Order Form'!C231,'Order Form'!D231)","v":0},{"$f":"'Order Form'!E231","v":0},{"$f":"'Order Form'!F231","v":0},{"$f":"'Order Form'!J231","v":0},{"$f":"'Order Form'!H231","v":0},{"$f":"'Order Form'!I231","v":0},{"$f":"'Order Form'!K231 & \"\"","v":""},{"$f":"'Order Form'!M231 & \"\"","v":""},{"$f":"'Order Form'!C231 & \"\"","v":""},{"$f":"'Order Form'!L231 & \"\"","v":""},{"$f":"'Order Form'!$E$12","v":"YES"},{"$f":"'Order Form'!$E$13","v":"ASAP (order with branding can take up to 3 business days to dispatch) Premium delivery recommended to guarantee delivery prior to Christmas, fees apply."},{"$f":"'Order Form'!$E$15","v":"FREE gift card"},{"$f":"'Order Form'!$E$16","v":"No thanks"},null,null,null,null,{"$f":"IF(N214=\"\",\"\",IFERROR(INDIRECT(\"Postcodes!$C\"&SUMPRODUCT(--(Postcodes!$A$2:$A$100<=N214)*(Postcodes!$B$2:$B$100>=N214), ROW(Postcodes!$A$2:$A$100))),\"WRONG CODE\"))","v":0},null,null,null,null,null,null,""]
[{"$f":"'Order Form'!A232","v":214},{"$f":"'Order Form'!N232","v":""},{"$f":"'Order Form'!$E$2","v":0},{"$f":"'Order Form'!$E$3","v":0},{"$f":"'Order Form'!$E$4","v":0},{"$f":"'Order Form'!$E$5","v":0},{"$f":"'Order Form'!$E$7","v":0},{"$f":"'Order Form'!$E$6","v":0},{"$f":"'Order Form'!$E$9","v":0},{"$f":"'Order Form'!$E$10 & \"\"","v":""},{"$f":"IF('Order Form'!D232=\"\",'Order Form'!C232,'Order Form'!D232)","v":0},{"$f":"'Order Form'!E232","v":0},{"$f":"'Order Form'!F232","v":0},{"$f":"'Order Form'!J232","v":0},{"$f":"'Order Form'!H232","v":0},{"$f":"'Order Form'!I232","v":0},{"$f":"'Order Form'!K232 & \"\"","v":""},{"$f":"'Order Form'!M232 & \"\"","v":""},{"$f":"'Order Form'!C232 & \"\"","v":""},{"$f":"'Order Form'!L232 & \"\"","v":""},{"$f":"'Order Form'!$E$12","v":"YES"},{"$f":"'Order Form'!$E$13","v":"ASAP (order with branding can take up to 3 business days to dispatch) Premium delivery recommended to guarantee delivery prior to Christmas, fees apply."},{"$f":"'Order Form'!$E$15","v":"FREE gift card"},{"$f":"'Order Form'!$E$16","v":"No thanks"},null,null,null,null,{"$f":"IF(N215=\"\",\"\",IFERROR(INDIRECT(\"Postcodes!$C\"&SUMPRODUCT(--(Postcodes!$A$2:$A$100<=N215)*(Postcodes!$B$2:$B$100>=N215), ROW(Postcodes!$A$2:$A$100))),\"WRONG CODE\"))","v":0},null,null,null,null,null,null,""]
[{"$f":"'Order Form'!A233","v":215},{"$f":"'Order Form'!N233","v":""},{"$f":"'Order Form'!$E$2","v":0},{"$f":"'Order Form'!$E$3","v":0},{"$f":"'Order Form'!$E$4","v":0},{"$f":"'Order Form'!$E$5","v":0},{"$f":"'Order Form'!$E$7","v":0},{"$f":"'Order Form'!$E$6","v":0},{"$f":"'Order Form'!$E$9","v":0},{"$f":"'Order Form'!$E$10 & \"\"","v":""},{"$f":"IF('Order Form'!D233=\"\",'Order Form'!C233,'Order Form'!D233)","v":0},{"$f":"'Order Form'!E233","v":0},{"$f":"'Order Form'!F233","v":0},{"$f":"'Order Form'!J233","v":0},{"$f":"'Order Form'!H233","v":0},{"$f":"'Order Form'!I233","v":0},{"$f":"'Order Form'!K233 & \"\"","v":""},{"$f":"'Order Form'!M233 & \"\"","v":""},{"$f":"'Order Form'!C233 & \"\"","v":""},{"$f":"'Order Form'!L233 & \"\"","v":""},{"$f":"'Order Form'!$E$12","v":"YES"},{"$f":"'Order Form'!$E$13","v":"ASAP (order with branding can take up to 3 business days to dispatch) Premium delivery recommended to guarantee delivery prior to Christmas, fees apply."},{"$f":"'Order Form'!$E$15","v":"FREE gift card"},{"$f":"'Order Form'!$E$16","v":"No thanks"},null,null,null,null,{"$f":"IF(N216=\"\",\"\",IFERROR(INDIRECT(\"Postcodes!$C\"&SUMPRODUCT(--(Postcodes!$A$2:$A$100<=N216)*(Postcodes!$B$2:$B$100>=N216), ROW(Postcodes!$A$2:$A$100))),\"WRONG CODE\"))","v":0},null,null,null,null,null,null,""]
[{"$f":"'Order Form'!A234","v":216},{"$f":"'Order Form'!N234","v":""},{"$f":"'Order Form'!$E$2","v":0},{"$f":"'Order Form'!$E$3","v":0},{"$f":"'Order Form'!$E$4","v":0},{"$f":"'Order Form'!$E$5","v":0},{"$f":"'Order Form'!$E$7","v":0},{"$f":"'Order Form'!$E$6","v":0},{"$f":"'Order Form'!$E$9","v":0},{"$f":"'Order Form'!$E$10 & \"\"","v":""},{"$f":"IF('Order Form'!D234=\"\",'Order Form'!C234,'Order Form'!D234)","v":0},{"$f":"'Order Form'!E234","v":0},{"$f":"'Order Form'!F234","v":0},{"$f":"'Order Form'!J234","v":0},{"$f":"'Order Form'!H234","v":0},{"$f":"'Order Form'!I234","v":0},{"$f":"'Order Form'!K234 & \"\"","v":""},{"$f":"'Order Form'!M234 & \"\"","v":""},{"$f":"'Order Form'!C234 & \"\"","v":""},{"$f":"'Order Form'!L234 & \"\"","v":""},{"$f":"'Order Form'!$E$12","v":"YES"},{"$f":"'Order Form'!$E$13","v":"ASAP (order with branding can take up to 3 business days to dispatch) Premium delivery recommended to guarantee delivery prior to Christmas, fees apply."},{"$f":"'Order Form'!$E$15","v":"FREE gift card"},{"$f":"'Order Form'!$E$16","v":"No thanks"},null,null,null,null,{"$f":"IF(N217=\"\",\"\",IFERROR(INDIRECT(\"Postcodes!$C\"&SUMPRODUCT(--(Postcodes!$A$2:$A$100<=N217)*(Postcodes!$B$2:$B$100>=N217), ROW(Postcodes!$A$2:$A$100))),\"WRONG CODE\"))","v":0},null,null,null,null,null,null,""]
[{"$f":"'Order Form'!A235","v":217},{"$f":"'Order Form'!N235","v":""},{"$f":"'Order Form'!$E$2","v":0},{"$f":"'Order Form'!$E$3","v":0},{"$f":"'Order Form'!$E$4","v":0},{"$f":"'Order Form'!$E$5","v":0},{"$f":"'Order Form'!$E$7","v":0},{"$f":"'Order Form'!$E$6","v":0},{"$f":"'Order Form'!$E$9","v":0},{"$f":"'Order Form'!$E$10 & \"\"","v":""},{"$f":"IF('Order Form'!D235=\"\",'Order Form'!C235,'Order Form'!D235)","v":0},{"$f":"'Order Form'!E235","v":0},{"$f":"'Order Form'!F235","v":0},{"$f":"'Order Form'!J235","v":0},{"$f":"'Order Form'!H235","v":0},{"$f":"'Order Form'!I235","v":0},{"$f":"'Order Form'!K235 & \"\"","v":""},{"$f":"'Order Form'!M235 & \"\"","v":""},{"$f":"'Order Form'!C235 & \"\"","v":""},{"$f":"'Order Form'!L235 & \"\"","v":""},{"$f":"'Order Form'!$E$12","v":"YES"},{"$f":"'Order Form'!$E$13","v":"ASAP (order with branding can take up to 3 business days to dispatch) Premium delivery recommended to guarantee delivery prior to Christmas, fees apply."},{"$f":"'Order Form'!$E$15","v":"FREE gift card"},{"$f":"'Order Form'!$E$16","v":"No thanks"},null,null,null,null,{"$f":"IF(N218=\"\",\"\",IFERROR(INDIRECT(\"Postcodes!$C\"&SUMPRODUCT(--(Postcodes!$A$2:$A$100<=N218)*(Postcodes!$B$2:$B$100>=N218), ROW(Postcodes!$A$2:$A$100))),\"WRONG CODE\"))","v":0},null,null,null,null,null,null,""]
[{"$f":"'Order Form'!A236","v":218},{"$f":"'Order Form'!N236","v":""},{"$f":"'Order Form'!$E$2","v":0},{"$f":"'Order Form'!$E$3","v":0},{"$f":"'Order Form'!$E$4","v":0},{"$f":"'Order Form'!$E$5","v":0},{"$f":"'Order Form'!$E$7","v":0},{"$f":"'Order Form'!$E$6","v":0},{"$f":"'Order Form'!$E$9","v":0},{"$f":"'Order Form'!$E$10 & \"\"","v":""},{"$f":"IF('Order Form'!D236=\"\",'Order Form'!C236,'Order Form'!D236)","v":0},{"$f":"'Order Form'!E236","v":0},{"$f":"'Order Form'!F236","v":0},{"$f":"'Order Form'!J236","v":0},{"$f":"'Order Form'!H236","v":0},{"$f":"'Order Form'!I236","v":0},{"$f":"'Order Form'!K236 & \"\"","v":""},{"$f":"'Order Form'!M236 & \"\"","v":""},{"$f":"'Order Form'!C236 & \"\"","v":""},{"$f":"'Order Form'!L236 & \"\"","v":""},{"$f":"'Order Form'!$E$12","v":"YES"},{"$f":"'Order Form'!$E$13","v":"ASAP (order with branding can take up to 3 business days to dispatch) Premium delivery recommended to guarantee delivery prior to Christmas, fees apply."},{"$f":"'Order Form'!$E$15","v":"FREE gift card"},{"$f":"'Order Form'!$E$16","v":"No thanks"},null,null,null,null,{"$f":"IF(N219=\"\",\"\",IFERROR(INDIRECT(\"Postcodes!$C\"&SUMPRODUCT(--(Postcodes!$A$2:$A$100<=N219)*(Postcodes!$B$2:$B$100>=N219), ROW(Postcodes!$A$2:$A$100))),\"WRONG CODE\"))","v":0},null,null,null,null,null,null,""]
[{"$f":"'Order Form'!A237","v":219},{"$f":"'Order Form'!N237","v":""},{"$f":"'Order Form'!$E$2","v":0},{"$f":"'Order Form'!$E$3","v":0},{"$f":"'Order Form'!$E$4","v":0},{"$f":"'Order Form'!$E$5","v":0},{"$f":"'Order Form'!$E$7","v":0},{"$f":"'Order Form'!$E$6","v":0},{"$f":"'Order Form'!$E$9","v":0},{"$f":"'Order Form'!$E$10 & \"\"","v":""},{"$f":"IF('Order Form'!D237=\"\",'Order Form'!C237,'Order Form'!D237)","v":0},{"$f":"'Order Form'!E237","v":0},{"$f":"'Order Form'!F237","v":0},{"$f":"'Order Form'!J237","v":0},{"$f":"'Order Form'!H237","v":0},{"$f":"'Order Form'!I237","v":0},{"$f":"'Order Form'!K237 & \"\"","v":""},{"$f":"'Order Form'!M237 & \"\"","v":""},{"$f":"'Order Form'!C237 & \"\"","v":""},{"$f":"'Order Form'!L237 & \"\"","v":""},{"$f":"'Order Form'!$E$12","v":"YES"},{"$f":"'Order Form'!$E$13","v":"ASAP (order with branding can take up to 3 business days to dispatch) Premium delivery recommended to guarantee delivery prior to Christmas, fees apply."},{"$f":"'Order Form'!$E$15","v":"FREE gift card"},{"$f":"'Order Form'!$E$16","v":"No thanks"},null,null,null,null,{"$f":"IF(N220=\"\",\"\",IFERROR(INDIRECT(\"Postcodes!$C\"&SUMPRODUCT(--(Postcodes!$A$2:$A$100<=N220)*(Postcodes!$B$2:$B$100>=N220), ROW(Postcodes!$A$2:$A$100))),\"WRONG CODE\"))","v":0},null,null,null,null,null,null,""]
[{"$f":"'Order Form'!A238","v":220},{"$f":"'Order Form'!N238","v":""},{"$f":"'Order Form'!$E$2","v":0},{"$f":"'Order Form'!$E$3","v":0},{"$f":"'Order Form'!$E$4","v":0},{"$f":"'Order Form'!$E$5","v":0},{"$f":"'Order Form'!$E$7","v":0},{"$f":"'Order Form'!$E$6","v":0},{"$f":"'Order Form'!$E$9","v":0},{"$f":"'Order Form'!$E$10 & \"\"","v":""},{"$f":"IF('Order Form'!D238=\"\",'Order Form'!C238,'Order Form'!D238)","v":0},{"$f":"'Order Form'!E238","v":0},{"$f":"'Order Form'!F238","v":0},{"$f":"'Order Form'!J238","v":0},{"$f":"'Order Form'!H238","v":0},{"$f":"'Order Form'!I238","v":0},{"$f":"'Order Form'!K238 & \"\"","v":""},{"$f":"'Order Form'!M238 & \"\"","v":""},{"$f":"'Order Form'!C238 & \"\"","v":""},{"$f":"'Order Form'!L238 & \"\"","v":""},{"$f":"'Order Form'!$E$12","v":"YES"},{"$f":"'Order Form'!$E$13","v":"ASAP (order with branding can take up to 3 business days to dispatch) Premium delivery recommended to guarantee delivery prior to Christmas, fees apply."},{"$f":"'Order Form'!$E$15","v":"FREE gift card"},{"$f":"'Order Form'!$E$16","v":"No thanks"},null,null,null,null,{"$f":"IF(N221=\"\",\"\",IFERROR(INDIRECT(\"Postcodes!$C\"&SUMPRODUCT(--(Postcodes!$A$2:$A$100<=N221)*(Postcodes!$B$2:$B$100>=N221), ROW(Postcodes!$A$2:$A$100))),\"WRONG CODE\"))","v":0},null,null,null,null,null,null,""]
[{"$f":"'Order Form'!A239","v":221},{"$f":"'Order Form'!N239","v":""},{"$f":"'Order Form'!$E$2","v":0},{"$f":"'Order Form'!$E$3","v":0},{"$f":"'Order Form'!$E$4","v":0},{"$f":"'Order Form'!$E$5","v":0},{"$f":"'Order Form'!$E$7","v":0},{"$f":"'Order Form'!$E$6","v":0},{"$f":"'Order Form'!$E$9","v":0},{"$f":"'Order Form'!$E$10 & \"\"","v":""},{"$f":"IF('Order Form'!D239=\"\",'Order Form'!C239,'Order Form'!D239)","v":0},{"$f":"'Order Form'!E239","v":0},{"$f":"'Order Form'!F239","v":0},{"$f":"'Order Form'!J239","v":0},{"$f":"'Order Form'!H239","v":0},{"$f":"'Order Form'!I239","v":0},{"$f":"'Order Form'!K239 & \"\"","v":""},{"$f":"'Order Form'!M239 & \"\"","v":""},{"$f":"'Order Form'!C239 & \"\"","v":""},{"$f":"'Order Form'!L239 & \"\"","v":""},{"$f":"'Order Form'!$E$12","v":"YES"},{"$f":"'Order Form'!$E$13","v":"ASAP (order with branding can take up to 3 business days to dispatch) Premium delivery recommended to guarantee delivery prior to Christmas, fees apply."},{"$f":"'Order Form'!$E$15","v":"FREE gift card"},{"$f":"'Order Form'!$E$16","v":"No thanks"},null,null,null,null,{"$f":"IF(N222=\"\",\"\",IFERROR(INDIRECT(\"Postcodes!$C\"&SUMPRODUCT(--(Postcodes!$A$2:$A$100<=N222)*(Postcodes!$B$2:$B$100>=N222), ROW(Postcodes!$A$2:$A$100))),\"WRONG CODE\"))","v":0},null,null,null,null,null,null,""]
[{"$f":"'Order Form'!A240","v":222},{"$f":"'Order Form'!N240","v":""},{"$f":"'Order Form'!$E$2","v":0},{"$f":"'Order Form'!$E$3","v":0},{"$f":"'Order Form'!$E$4","v":0},{"$f":"'Order Form'!$E$5","v":0},{"$f":"'Order Form'!$E$7","v":0},{"$f":"'Order Form'!$E$6","v":0},{"$f":"'Order Form'!$E$9","v":0},{"$f":"'Order Form'!$E$10 & \"\"","v":""},{"$f":"IF('Order Form'!D240=\"\",'Order Form'!C240,'Order Form'!D240)","v":0},{"$f":"'Order Form'!E240","v":0},{"$f":"'Order Form'!F240","v":0},{"$f":"'Order Form'!J240","v":0},{"$f":"'Order Form'!H240","v":0},{"$f":"'Order Form'!I240","v":0},{"$f":"'Order Form'!K240 & \"\"","v":""},{"$f":"'Order Form'!M240 & \"\"","v":""},{"$f":"'Order Form'!C240 & \"\"","v":""},{"$f":"'Order Form'!L240 & \"\"","v":""},{"$f":"'Order Form'!$E$12","v":"YES"},{"$f":"'Order Form'!$E$13","v":"ASAP (order with branding can take up to 3 business days to dispatch) Premium delivery recommended to guarantee delivery prior to Christmas, fees apply."},{"$f":"'Order Form'!$E$15","v":"FREE gift card"},{"$f":"'Order Form'!$E$16","v":"No thanks"},null,null,null,null,{"$f":"IF(N223=\"\",\"\",IFERROR(INDIRECT(\"Postcodes!$C\"&SUMPRODUCT(--(Postcodes!$A$2:$A$100<=N223)*(Postcodes!$B$2:$B$100>=N223), ROW(Postcodes!$A$2:$A$100))),\"WRONG CODE\"))","v":0},null,null,null,null,null,null,""]
[{"$f":"'Order Form'!A241","v":223},{"$f":"'Order Form'!N241","v":""},{"$f":"'Order Form'!$E$2","v":0},{"$f":"'Order Form'!$E$3","v":0},{"$f":"'Order Form'!$E$4","v":0},{"$f":"'Order Form'!$E$5","v":0},{"$f":"'Order Form'!$E$7","v":0},{"$f":"'Order Form'!$E$6","v":0},{"$f":"'Order Form'!$E$9","v":0},{"$f":"'Order Form'!$E$10 & \"\"","v":""},{"$f":"IF('Order Form'!D241=\"\",'Order Form'!C241,'Order Form'!D241)","v":0},{"$f":"'Order Form'!E241","v":0},{"$f":"'Order Form'!F241","v":0},{"$f":"'Order Form'!J241","v":0},{"$f":"'Order Form'!H241","v":0},{"$f":"'Order Form'!I241","v":0},{"$f":"'Order Form'!K241 & \"\"","v":""},{"$f":"'Order Form'!M241 & \"\"","v":""},{"$f":"'Order Form'!C241 & \"\"","v":""},{"$f":"'Order Form'!L241 & \"\"","v":""},{"$f":"'Order Form'!$E$12","v":"YES"},{"$f":"'Order Form'!$E$13","v":"ASAP (order with branding can take up to 3 business days to dispatch) Premium delivery recommended to guarantee delivery prior to Christmas, fees apply."},{"$f":"'Order Form'!$E$15","v":"FREE gift card"},{"$f":"'Order Form'!$E$16","v":"No thanks"},null,null,null,null,{"$f":"IF(N224=\"\",\"\",IFERROR(INDIRECT(\"Postcodes!$C\"&SUMPRODUCT(--(Postcodes!$A$2:$A$100<=N224)*(Postcodes!$B$2:$B$100>=N224), ROW(Postcodes!$A$2:$A$100))),\"WRONG CODE\"))","v":0},null,null,null,null,null,null,""]
[{"$f":"'Order Form'!A242","v":224},{"$f":"'Order Form'!N242","v":""},{"$f":"'Order Form'!$E$2","v":0},{"$f":"'Order Form'!$E$3","v":0},{"$f":"'Order Form'!$E$4","v":0},{"$f":"'Order Form'!$E$5","v":0},{"$f":"'Order Form'!$E$7","v":0},{"$f":"'Order Form'!$E$6","v":0},{"$f":"'Order Form'!$E$9","v":0},{"$f":"'Order Form'!$E$10 & \"\"","v":""},{"$f":"IF('Order Form'!D242=\"\",'Order Form'!C242,'Order Form'!D242)","v":0},{"$f":"'Order Form'!E242","v":0},{"$f":"'Order Form'!F242","v":0},{"$f":"'Order Form'!J242","v":0},{"$f":"'Order Form'!H242","v":0},{"$f":"'Order Form'!I242","v":0},{"$f":"'Order Form'!K242 & \"\"","v":""},{"$f":"'Order Form'!M242 & \"\"","v":""},{"$f":"'Order Form'!C242 & \"\"","v":""},{"$f":"'Order Form'!L242 & \"\"","v":""},{"$f":"'Order Form'!$E$12","v":"YES"},{"$f":"'Order Form'!$E$13","v":"ASAP (order with branding can take up to 3 business days to dispatch) Premium delivery recommended to guarantee delivery prior to Christmas, fees apply."},{"$f":"'Order Form'!$E$15","v":"FREE gift card"},{"$f":"'Order Form'!$E$16","v":"No thanks"},null,null,null,null,{"$f":"IF(N225=\"\",\"\",IFERROR(INDIRECT(\"Postcodes!$C\"&SUMPRODUCT(--(Postcodes!$A$2:$A$100<=N225)*(Postcodes!$B$2:$B$100>=N225), ROW(Postcodes!$A$2:$A$100))),\"WRONG CODE\"))","v":0},null,null,null,null,null,null,""]
[{"$f":"'Order Form'!A243","v":225},{"$f":"'Order Form'!N243","v":""},{"$f":"'Order Form'!$E$2","v":0},{"$f":"'Order Form'!$E$3","v":0},{"$f":"'Order Form'!$E$4","v":0},{"$f":"'Order Form'!$E$5","v":0},{"$f":"'Order Form'!$E$7","v":0},{"$f":"'Order Form'!$E$6","v":0},{"$f":"'Order Form'!$E$9","v":0},{"$f":"'Order Form'!$E$10 & \"\"","v":""},{"$f":"IF('Order Form'!D243=\"\",'Order Form'!C243,'Order Form'!D243)","v":0},{"$f":"'Order Form'!E243","v":0},{"$f":"'Order Form'!F243","v":0},{"$f":"'Order Form'!J243","v":0},{"$f":"'Order Form'!H243","v":0},{"$f":"'Order Form'!I243","v":0},{"$f":"'Order Form'!K243 & \"\"","v":""},{"$f":"'Order Form'!M243 & \"\"","v":""},{"$f":"'Order Form'!C243 & \"\"","v":""},{"$f":"'Order Form'!L243 & \"\"","v":""},{"$f":"'Order Form'!$E$12","v":"YES"},{"$f":"'Order Form'!$E$13","v":"ASAP (order with branding can take up to 3 business days to dispatch) Premium delivery recommended to guarantee delivery prior to Christmas, fees apply."},{"$f":"'Order Form'!$E$15","v":"FREE gift card"},{"$f":"'Order Form'!$E$16","v":"No thanks"},null,null,null,null,{"$f":"IF(N226=\"\",\"\",IFERROR(INDIRECT(\"Postcodes!$C\"&SUMPRODUCT(--(Postcodes!$A$2:$A$100<=N226)*(Postcodes!$B$2:$B$100>=N226), ROW(Postcodes!$A$2:$A$100))),\"WRONG CODE\"))","v":0},null,null,null,null,null,null,""]
[{"$f":"'Order Form'!A244","v":226},{"$f":"'Order Form'!N244","v":""},{"$f":"'Order Form'!$E$2","v":0},{"$f":"'Order Form'!$E$3","v":0},{"$f":"'Order Form'!$E$4","v":0},{"$f":"'Order Form'!$E$5","v":0},{"$f":"'Order Form'!$E$7","v":0},{"$f":"'Order Form'!$E$6","v":0},{"$f":"'Order Form'!$E$9","v":0},{"$f":"'Order Form'!$E$10 & \"\"","v":""},{"$f":"IF('Order Form'!D244=\"\",'Order Form'!C244,'Order Form'!D244)","v":0},{"$f":"'Order Form'!E244","v":0},{"$f":"'Order Form'!F244","v":0},{"$f":"'Order Form'!J244","v":0},{"$f":"'Order Form'!H244","v":0},{"$f":"'Order Form'!I244","v":0},{"$f":"'Order Form'!K244 & \"\"","v":""},{"$f":"'Order Form'!M244 & \"\"","v":""},{"$f":"'Order Form'!C244 & \"\"","v":""},{"$f":"'Order Form'!L244 & \"\"","v":""},{"$f":"'Order Form'!$E$12","v":"YES"},{"$f":"'Order Form'!$E$13","v":"ASAP (order with branding can take up to 3 business days to dispatch) Premium delivery recommended to guarantee delivery prior to Christmas, fees apply."},{"$f":"'Order Form'!$E$15","v":"FREE gift card"},{"$f":"'Order Form'!$E$16","v":"No thanks"},null,null,null,null,{"$f":"IF(N227=\"\",\"\",IFERROR(INDIRECT(\"Postcodes!$C\"&SUMPRODUCT(--(Postcodes!$A$2:$A$100<=N227)*(Postcodes!$B$2:$B$100>=N227), ROW(Postcodes!$A$2:$A$100))),\"WRONG CODE\"))","v":0},null,null,null,null,null,null,""]
[{"$f":"'Order Form'!A245","v":227},{"$f":"'Order Form'!N245","v":""},{"$f":"'Order Form'!$E$2","v":0},{"$f":"'Order Form'!$E$3","v":0},{"$f":"'Order Form'!$E$4","v":0},{"$f":"'Order Form'!$E$5","v":0},{"$f":"'Order Form'!$E$7","v":0},{"$f":"'Order Form'!$E$6","v":0},{"$f":"'Order Form'!$E$9","v":0},{"$f":"'Order Form'!$E$10 & \"\"","v":""},{"$f":"IF('Order Form'!D245=\"\",'Order Form'!C245,'Order Form'!D245)","v":0},{"$f":"'Order Form'!E245","v":0},{"$f":"'Order Form'!F245","v":0},{"$f":"'Order Form'!J245","v":0},{"$f":"'Order Form'!H245","v":0},{"$f":"'Order Form'!I245","v":0},{"$f":"'Order Form'!K245 & \"\"","v":""},{"$f":"'Order Form'!M245 & \"\"","v":""},{"$f":"'Order Form'!C245 & \"\"","v":""},{"$f":"'Order Form'!L245 & \"\"","v":""},{"$f":"'Order Form'!$E$12","v":"YES"},{"$f":"'Order Form'!$E$13","v":"ASAP (order with branding can take up to 3 business days to dispatch) Premium delivery recommended to guarantee delivery prior to Christmas, fees apply."},{"$f":"'Order Form'!$E$15","v":"FREE gift card"},{"$f":"'Order Form'!$E$16","v":"No thanks"},null,null,null,null,{"$f":"IF(N228=\"\",\"\",IFERROR(INDIRECT(\"Postcodes!$C\"&SUMPRODUCT(--(Postcodes!$A$2:$A$100<=N228)*(Postcodes!$B$2:$B$100>=N228), ROW(Postcodes!$A$2:$A$100))),\"WRONG CODE\"))","v":0},null,null,null,null,null,null,""]
[{"$f":"'Order Form'!A246","v":228},{"$f":"'Order Form'!N246","v":""},{"$f":"'Order Form'!$E$2","v":0},{"$f":"'Order Form'!$E$3","v":0},{"$f":"'Order Form'!$E$4","v":0},{"$f":"'Order Form'!$E$5","v":0},{"$f":"'Order Form'!$E$7","v":0},{"$f":"'Order Form'!$E$6","v":0},{"$f":"'Order Form'!$E$9","v":0},{"$f":"'Order Form'!$E$10 & \"\"","v":""},{"$f":"IF('Order Form'!D246=\"\",'Order Form'!C246,'Order Form'!D246)","v":0},{"$f":"'Order Form'!E246","v":0},{"$f":"'Order Form'!F246","v":0},{"$f":"'Order Form'!J246","v":0},{"$f":"'Order Form'!H246","v":0},{"$f":"'Order Form'!I246","v":0},{"$f":"'Order Form'!K246 & \"\"","v":""},{"$f":"'Order Form'!M246 & \"\"","v":""},{"$f":"'Order Form'!C246 & \"\"","v":""},{"$f":"'Order Form'!L246 & \"\"","v":""},{"$f":"'Order Form'!$E$12","v":"YES"},{"$f":"'Order Form'!$E$13","v":"ASAP (order with branding can take up to 3 business days to dispatch) Premium delivery recommended to guarantee delivery prior to Christmas, fees apply."},{"$f":"'Order Form'!$E$15","v":"FREE gift card"},{"$f":"'Order Form'!$E$16","v":"No thanks"},null,null,null,null,{"$f":"IF(N229=\"\",\"\",IFERROR(INDIRECT(\"Postcodes!$C\"&SUMPRODUCT(--(Postcodes!$A$2:$A$100<=N229)*(Postcodes!$B$2:$B$100>=N229), ROW(Postcodes!$A$2:$A$100))),\"WRONG CODE\"))","v":0},null,null,null,null,null,null,""]
[{"$f":"'Order Form'!A247","v":229},{"$f":"'Order Form'!N247","v":""},{"$f":"'Order Form'!$E$2","v":0},{"$f":"'Order Form'!$E$3","v":0},{"$f":"'Order Form'!$E$4","v":0},{"$f":"'Order Form'!$E$5","v":0},{"$f":"'Order Form'!$E$7","v":0},{"$f":"'Order Form'!$E$6","v":0},{"$f":"'Order Form'!$E$9","v":0},{"$f":"'Order Form'!$E$10 & \"\"","v":""},{"$f":"IF('Order Form'!D247=\"\",'Order Form'!C247,'Order Form'!D247)","v":0},{"$f":"'Order Form'!E247","v":0},{"$f":"'Order Form'!F247","v":0},{"$f":"'Order Form'!J247","v":0},{"$f":"'Order Form'!H247","v":0},{"$f":"'Order Form'!I247","v":0},{"$f":"'Order Form'!K247 & \"\"","v":""},{"$f":"'Order Form'!M247 & \"\"","v":""},{"$f":"'Order Form'!C247 & \"\"","v":""},{"$f":"'Order Form'!L247 & \"\"","v":""},{"$f":"'Order Form'!$E$12","v":"YES"},{"$f":"'Order Form'!$E$13","v":"ASAP (order with branding can take up to 3 business days to dispatch) Premium delivery recommended to guarantee delivery prior to Christmas, fees apply."},{"$f":"'Order Form'!$E$15","v":"FREE gift card"},{"$f":"'Order Form'!$E$16","v":"No thanks"},null,null,null,null,{"$f":"IF(N230=\"\",\"\",IFERROR(INDIRECT(\"Postcodes!$C\"&SUMPRODUCT(--(Postcodes!$A$2:$A$100<=N230)*(Postcodes!$B$2:$B$100>=N230), ROW(Postcodes!$A$2:$A$100))),\"WRONG CODE\"))","v":0},null,null,null,null,null,null,""]
[{"$f":"'Order Form'!A248","v":230},{"$f":"'Order Form'!N248","v":""},{"$f":"'Order Form'!$E$2","v":0},{"$f":"'Order Form'!$E$3","v":0},{"$f":"'Order Form'!$E$4","v":0},{"$f":"'Order Form'!$E$5","v":0},{"$f":"'Order Form'!$E$7","v":0},{"$f":"'Order Form'!$E$6","v":0},{"$f":"'Order Form'!$E$9","v":0},{"$f":"'Order Form'!$E$10 & \"\"","v":""},{"$f":"IF('Order Form'!D248=\"\",'Order Form'!C248,'Order Form'!D248)","v":0},{"$f":"'Order Form'!E248","v":0},{"$f":"'Order Form'!F248","v":0},{"$f":"'Order Form'!J248","v":0},{"$f":"'Order Form'!H248","v":0},{"$f":"'Order Form'!I248","v":0},{"$f":"'Order Form'!K248 & \"\"","v":""},{"$f":"'Order Form'!M248 & \"\"","v":""},{"$f":"'Order Form'!C248 & \"\"","v":""},{"$f":"'Order Form'!L248 & \"\"","v":""},{"$f":"'Order Form'!$E$12","v":"YES"},{"$f":"'Order Form'!$E$13","v":"ASAP (order with branding can take up to 3 business days to dispatch) Premium delivery recommended to guarantee delivery prior to Christmas, fees apply."},{"$f":"'Order Form'!$E$15","v":"FREE gift card"},{"$f":"'Order Form'!$E$16","v":"No thanks"},null,null,null,null,{"$f":"IF(N231=\"\",\"\",IFERROR(INDIRECT(\"Postcodes!$C\"&SUMPRODUCT(--(Postcodes!$A$2:$A$100<=N231)*(Postcodes!$B$2:$B$100>=N231), ROW(Postcodes!$A$2:$A$100))),\"WRONG CODE\"))","v":0},null,null,null,null,null,null,""]
[{"$f":"'Order Form'!A249","v":231},{"$f":"'Order Form'!N249","v":""},{"$f":"'Order Form'!$E$2","v":0},{"$f":"'Order Form'!$E$3","v":0},{"$f":"'Order Form'!$E$4","v":0},{"$f":"'Order Form'!$E$5","v":0},{"$f":"'Order Form'!$E$7","v":0},{"$f":"'Order Form'!$E$6","v":0},{"$f":"'Order Form'!$E$9","v":0},{"$f":"'Order Form'!$E$10 & \"\"","v":""},{"$f":"IF('Order Form'!D249=\"\",'Order Form'!C249,'Order Form'!D249)","v":0},{"$f":"'Order Form'!E249","v":0},{"$f":"'Order Form'!F249","v":0},{"$f":"'Order Form'!J249","v":0},{"$f":"'Order Form'!H249","v":0},{"$f":"'Order Form'!I249","v":0},{"$f":"'Order Form'!K249 & \"\"","v":""},{"$f":"'Order Form'!M249 & \"\"","v":""},{"$f":"'Order Form'!C249 & \"\"","v":""},{"$f":"'Order Form'!L249 & \"\"","v":""},{"$f":"'Order Form'!$E$12","v":"YES"},{"$f":"'Order Form'!$E$13","v":"ASAP (order with branding can take up to 3 business days to dispatch) Premium delivery recommended to guarantee delivery prior to Christmas, fees apply."},{"$f":"'Order Form'!$E$15","v":"FREE gift card"},{"$f":"'Order Form'!$E$16","v":"No thanks"},null,null,null,null,{"$f":"IF(N232=\"\",\"\",IFERROR(INDIRECT(\"Postcodes!$C\"&SUMPRODUCT(--(Postcodes!$A$2:$A$100<=N232)*(Postcodes!$B$2:$B$100>=N232), ROW(Postcodes!$A$2:$A$100))),\"WRONG CODE\"))","v":0},null,null,null,null,null,null,""]
[{"$f":"'Order Form'!A250","v":232},{"$f":"'Order Form'!N250","v":""},{"$f":"'Order Form'!$E$2","v":0},{"$f":"'Order Form'!$E$3","v":0},{"$f":"'Order Form'!$E$4","v":0},{"$f":"'Order Form'!$E$5","v":0},{"$f":"'Order Form'!$E$7","v":0},{"$f":"'Order Form'!$E$6","v":0},{"$f":"'Order Form'!$E$9","v":0},{"$f":"'Order Form'!$E$10 & \"\"","v":""},{"$f":"IF('Order Form'!D250=\"\",'Order Form'!C250,'Order Form'!D250)","v":0},{"$f":"'Order Form'!E250","v":0},{"$f":"'Order Form'!F250","v":0},{"$f":"'Order Form'!J250","v":0},{"$f":"'Order Form'!H250","v":0},{"$f":"'Order Form'!I250","v":0},{"$f":"'Order Form'!K250 & \"\"","v":""},{"$f":"'Order Form'!M250 & \"\"","v":""},{"$f":"'Order Form'!C250 & \"\"","v":""},{"$f":"'Order Form'!L250 & \"\"","v":""},{"$f":"'Order Form'!$E$12","v":"YES"},{"$f":"'Order Form'!$E$13","v":"ASAP (order with branding can take up to 3 business days to dispatch) Premium delivery recommended to guarantee delivery prior to Christmas, fees apply."},{"$f":"'Order Form'!$E$15","v":"FREE gift card"},{"$f":"'Order Form'!$E$16","v":"No thanks"},null,null,null,null,{"$f":"IF(N233=\"\",\"\",IFERROR(INDIRECT(\"Postcodes!$C\"&SUMPRODUCT(--(Postcodes!$A$2:$A$100<=N233)*(Postcodes!$B$2:$B$100>=N233), ROW(Postcodes!$A$2:$A$100))),\"WRONG CODE\"))","v":0},null,null,null,null,null,null,""]
[{"$f":"'Order Form'!A251","v":233},{"$f":"'Order Form'!N251","v":""},{"$f":"'Order Form'!$E$2","v":0},{"$f":"'Order Form'!$E$3","v":0},{"$f":"'Order Form'!$E$4","v":0},{"$f":"'Order Form'!$E$5","v":0},{"$f":"'Order Form'!$E$7","v":0},{"$f":"'Order Form'!$E$6","v":0},{"$f":"'Order Form'!$E$9","v":0},{"$f":"'Order Form'!$E$10 & \"\"","v":""},{"$f":"IF('Order Form'!D251=\"\",'Order Form'!C251,'Order Form'!D251)","v":0},{"$f":"'Order Form'!E251","v":0},{"$f":"'Order Form'!F251","v":0},{"$f":"'Order Form'!J251","v":0},{"$f":"'Order Form'!H251","v":0},{"$f":"'Order Form'!I251","v":0},{"$f":"'Order Form'!K251 & \"\"","v":""},{"$f":"'Order Form'!M251 & \"\"","v":""},{"$f":"'Order Form'!C251 & \"\"","v":""},{"$f":"'Order Form'!L251 & \"\"","v":""},{"$f":"'Order Form'!$E$12","v":"YES"},{"$f":"'Order Form'!$E$13","v":"ASAP (order with branding can take up to 3 business days to dispatch) Premium delivery recommended to guarantee delivery prior to Christmas, fees apply."},{"$f":"'Order Form'!$E$15","v":"FREE gift card"},{"$f":"'Order Form'!$E$16","v":"No thanks"},null,null,null,null,{"$f":"IF(N234=\"\",\"\",IFERROR(INDIRECT(\"Postcodes!$C\"&SUMPRODUCT(--(Postcodes!$A$2:$A$100<=N234)*(Postcodes!$B$2:$B$100>=N234), ROW(Postcodes!$A$2:$A$100))),\"WRONG CODE\"))","v":0},null,null,null,null,null,null,""]
[{"$f":"'Order Form'!A252","v":234},{"$f":"'Order Form'!N252","v":""},{"$f":"'Order Form'!$E$2","v":0},{"$f":"'Order Form'!$E$3","v":0},{"$f":"'Order Form'!$E$4","v":0},{"$f":"'Order Form'!$E$5","v":0},{"$f":"'Order Form'!$E$7","v":0},{"$f":"'Order Form'!$E$6","v":0},{"$f":"'Order Form'!$E$9","v":0},{"$f":"'Order Form'!$E$10 & \"\"","v":""},{"$f":"IF('Order Form'!D252=\"\",'Order Form'!C252,'Order Form'!D252)","v":0},{"$f":"'Order Form'!E252","v":0},{"$f":"'Order Form'!F252","v":0},{"$f":"'Order Form'!J252","v":0},{"$f":"'Order Form'!H252","v":0},{"$f":"'Order Form'!I252","v":0},{"$f":"'Order Form'!K252 & \"\"","v":""},{"$f":"'Order Form'!M252 & \"\"","v":""},{"$f":"'Order Form'!C252 & \"\"","v":""},{"$f":"'Order Form'!L252 & \"\"","v":""},{"$f":"'Order Form'!$E$12","v":"YES"},{"$f":"'Order Form'!$E$13","v":"ASAP (order with branding can take up to 3 business days to dispatch) Premium delivery recommended to guarantee delivery prior to Christmas, fees apply."},{"$f":"'Order Form'!$E$15","v":"FREE gift card"},{"$f":"'Order Form'!$E$16","v":"No thanks"},null,null,null,null,{"$f":"IF(N235=\"\",\"\",IFERROR(INDIRECT(\"Postcodes!$C\"&SUMPRODUCT(--(Postcodes!$A$2:$A$100<=N235)*(Postcodes!$B$2:$B$100>=N235), ROW(Postcodes!$A$2:$A$100))),\"WRONG CODE\"))","v":0},null,null,null,null,null,null,""]
[{"$f":"'Order Form'!A253","v":235},{"$f":"'Order Form'!N253","v":""},{"$f":"'Order Form'!$E$2","v":0},{"$f":"'Order Form'!$E$3","v":0},{"$f":"'Order Form'!$E$4","v":0},{"$f":"'Order Form'!$E$5","v":0},{"$f":"'Order Form'!$E$7","v":0},{"$f":"'Order Form'!$E$6","v":0},{"$f":"'Order Form'!$E$9","v":0},{"$f":"'Order Form'!$E$10 & \"\"","v":""},{"$f":"IF('Order Form'!D253=\"\",'Order Form'!C253,'Order Form'!D253)","v":0},{"$f":"'Order Form'!E253","v":0},{"$f":"'Order Form'!F253","v":0},{"$f":"'Order Form'!J253","v":0},{"$f":"'Order Form'!H253","v":0},{"$f":"'Order Form'!I253","v":0},{"$f":"'Order Form'!K253 & \"\"","v":""},{"$f":"'Order Form'!M253 & \"\"","v":""},{"$f":"'Order Form'!C253 & \"\"","v":""},{"$f":"'Order Form'!L253 & \"\"","v":""},{"$f":"'Order Form'!$E$12","v":"YES"},{"$f":"'Order Form'!$E$13","v":"ASAP (order with branding can take up to 3 business days to dispatch) Premium delivery recommended to guarantee delivery prior to Christmas, fees apply."},{"$f":"'Order Form'!$E$15","v":"FREE gift card"},{"$f":"'Order Form'!$E$16","v":"No thanks"},null,null,null,null,{"$f":"IF(N236=\"\",\"\",IFERROR(INDIRECT(\"Postcodes!$C\"&SUMPRODUCT(--(Postcodes!$A$2:$A$100<=N236)*(Postcodes!$B$2:$B$100>=N236), ROW(Postcodes!$A$2:$A$100))),\"WRONG CODE\"))","v":0},null,null,null,null,null,null,""]
[{"$f":"'Order Form'!A254","v":236},{"$f":"'Order Form'!N254","v":""},{"$f":"'Order Form'!$E$2","v":0},{"$f":"'Order Form'!$E$3","v":0},{"$f":"'Order Form'!$E$4","v":0},{"$f":"'Order Form'!$E$5","v":0},{"$f":"'Order Form'!$E$7","v":0},{"$f":"'Order Form'!$E$6","v":0},{"$f":"'Order Form'!$E$9","v":0},{"$f":"'Order Form'!$E$10 & \"\"","v":""},{"$f":"IF('Order Form'!D254=\"\",'Order Form'!C254,'Order Form'!D254)","v":0},{"$f":"'Order Form'!E254","v":0},{"$f":"'Order Form'!F254","v":0},{"$f":"'Order Form'!J254","v":0},{"$f":"'Order Form'!H254","v":0},{"$f":"'Order Form'!I254","v":0},{"$f":"'Order Form'!K254 & \"\"","v":""},{"$f":"'Order Form'!M254 & \"\"","v":""},{"$f":"'Order Form'!C254 & \"\"","v":""},{"$f":"'Order Form'!L254 & \"\"","v":""},{"$f":"'Order Form'!$E$12","v":"YES"},{"$f":"'Order Form'!$E$13","v":"ASAP (order with branding can take up to 3 business days to dispatch) Premium delivery recommended to guarantee delivery prior to Christmas, fees apply."},{"$f":"'Order Form'!$E$15","v":"FREE gift card"},{"$f":"'Order Form'!$E$16","v":"No thanks"},null,null,null,null,{"$f":"IF(N237=\"\",\"\",IFERROR(INDIRECT(\"Postcodes!$C\"&SUMPRODUCT(--(Postcodes!$A$2:$A$100<=N237)*(Postcodes!$B$2:$B$100>=N237), ROW(Postcodes!$A$2:$A$100))),\"WRONG CODE\"))","v":0},null,null,null,null,null,null,""]
[{"$f":"'Order Form'!A255","v":237},{"$f":"'Order Form'!N255","v":""},{"$f":"'Order Form'!$E$2","v":0},{"$f":"'Order Form'!$E$3","v":0},{"$f":"'Order Form'!$E$4","v":0},{"$f":"'Order Form'!$E$5","v":0},{"$f":"'Order Form'!$E$7","v":0},{"$f":"'Order Form'!$E$6","v":0},{"$f":"'Order Form'!$E$9","v":0},{"$f":"'Order Form'!$E$10 & \"\"","v":""},{"$f":"IF('Order Form'!D255=\"\",'Order Form'!C255,'Order Form'!D255)","v":0},{"$f":"'Order Form'!E255","v":0},{"$f":"'Order Form'!F255","v":0},{"$f":"'Order Form'!J255","v":0},{"$f":"'Order Form'!H255","v":0},{"$f":"'Order Form'!I255","v":0},{"$f":"'Order Form'!K255 & \"\"","v":""},{"$f":"'Order Form'!M255 & \"\"","v":""},{"$f":"'Order Form'!C255 & \"\"","v":""},{"$f":"'Order Form'!L255 & \"\"","v":""},{"$f":"'Order Form'!$E$12","v":"YES"},{"$f":"'Order Form'!$E$13","v":"ASAP (order with branding can take up to 3 business days to dispatch) Premium delivery recommended to guarantee delivery prior to Christmas, fees apply."},{"$f":"'Order Form'!$E$15","v":"FREE gift card"},{"$f":"'Order Form'!$E$16","v":"No thanks"},null,null,null,null,{"$f":"IF(N238=\"\",\"\",IFERROR(INDIRECT(\"Postcodes!$C\"&SUMPRODUCT(--(Postcodes!$A$2:$A$100<=N238)*(Postcodes!$B$2:$B$100>=N238), ROW(Postcodes!$A$2:$A$100))),\"WRONG CODE\"))","v":0},null,null,null,null,null,null,""]
[{"$f":"'Order Form'!A256","v":238},{"$f":"'Order Form'!N256","v":""},{"$f":"'Order Form'!$E$2","v":0},{"$f":"'Order Form'!$E$3","v":0},{"$f":"'Order Form'!$E$4","v":0},{"$f":"'Order Form'!$E$5","v":0},{"$f":"'Order Form'!$E$7","v":0},{"$f":"'Order Form'!$E$6","v":0},{"$f":"'Order Form'!$E$9","v":0},{"$f":"'Order Form'!$E$10 & \"\"","v":""},{"$f":"IF('Order Form'!D256=\"\",'Order Form'!C256,'Order Form'!D256)","v":0},{"$f":"'Order Form'!E256","v":0},{"$f":"'Order Form'!F256","v":0},{"$f":"'Order Form'!J256","v":0},{"$f":"'Order Form'!H256","v":0},{"$f":"'Order Form'!I256","v":0},{"$f":"'Order Form'!K256 & \"\"","v":""},{"$f":"'Order Form'!M256 & \"\"","v":""},{"$f":"'Order Form'!C256 & \"\"","v":""},{"$f":"'Order Form'!L256 & \"\"","v":""},{"$f":"'Order Form'!$E$12","v":"YES"},{"$f":"'Order Form'!$E$13","v":"ASAP (order with branding can take up to 3 business days to dispatch) Premium delivery recommended to guarantee delivery prior to Christmas, fees apply."},{"$f":"'Order Form'!$E$15","v":"FREE gift card"},{"$f":"'Order Form'!$E$16","v":"No thanks"},null,null,null,null,{"$f":"IF(N239=\"\",\"\",IFERROR(INDIRECT(\"Postcodes!$C\"&SUMPRODUCT(--(Postcodes!$A$2:$A$100<=N239)*(Postcodes!$B$2:$B$100>=N239), ROW(Postcodes!$A$2:$A$100))),\"WRONG CODE\"))","v":0},null,null,null,null,null,null,""]
[{"$f":"'Order Form'!A257","v":239},{"$f":"'Order Form'!N257","v":""},{"$f":"'Order Form'!$E$2","v":0},{"$f":"'Order Form'!$E$3","v":0},{"$f":"'Order Form'!$E$4","v":0},{"$f":"'Order Form'!$E$5","v":0},{"$f":"'Order Form'!$E$7","v":0},{"$f":"'Order Form'!$E$6","v":0},{"$f":"'Order Form'!$E$9","v":0},{"$f":"'Order Form'!$E$10 & \"\"","v":""},{"$f":"IF('Order Form'!D257=\"\",'Order Form'!C257,'Order Form'!D257)","v":0},{"$f":"'Order Form'!E257","v":0},{"$f":"'Order Form'!F257","v":0},{"$f":"'Order Form'!J257","v":0},{"$f":"'Order Form'!H257","v":0},{"$f":"'Order Form'!I257","v":0},{"$f":"'Order Form'!K257 & \"\"","v":""},{"$f":"'Order Form'!M257 & \"\"","v":""},{"$f":"'Order Form'!C257 & \"\"","v":""},{"$f":"'Order Form'!L257 & \"\"","v":""},{"$f":"'Order Form'!$E$12","v":"YES"},{"$f":"'Order Form'!$E$13","v":"ASAP (order with branding can take up to 3 business days to dispatch) Premium delivery recommended to guarantee delivery prior to Christmas, fees apply."},{"$f":"'Order Form'!$E$15","v":"FREE gift card"},{"$f":"'Order Form'!$E$16","v":"No thanks"},null,null,null,null,{"$f":"IF(N240=\"\",\"\",IFERROR(INDIRECT(\"Postcodes!$C\"&SUMPRODUCT(--(Postcodes!$A$2:$A$100<=N240)*(Postcodes!$B$2:$B$100>=N240), ROW(Postcodes!$A$2:$A$100))),\"WRONG CODE\"))","v":0},null,null,null,null,null,null,""]
[{"$f":"'Order Form'!A258","v":240},{"$f":"'Order Form'!N258","v":""},{"$f":"'Order Form'!$E$2","v":0},{"$f":"'Order Form'!$E$3","v":0},{"$f":"'Order Form'!$E$4","v":0},{"$f":"'Order Form'!$E$5","v":0},{"$f":"'Order Form'!$E$7","v":0},{"$f":"'Order Form'!$E$6","v":0},{"$f":"'Order Form'!$E$9","v":0},{"$f":"'Order Form'!$E$10 & \"\"","v":""},{"$f":"IF('Order Form'!D258=\"\",'Order Form'!C258,'Order Form'!D258)","v":0},{"$f":"'Order Form'!E258","v":0},{"$f":"'Order Form'!F258","v":0},{"$f":"'Order Form'!J258","v":0},{"$f":"'Order Form'!H258","v":0},{"$f":"'Order Form'!I258","v":0},{"$f":"'Order Form'!K258 & \"\"","v":""},{"$f":"'Order Form'!M258 & \"\"","v":""},{"$f":"'Order Form'!C258 & \"\"","v":""},{"$f":"'Order Form'!L258 & \"\"","v":""},{"$f":"'Order Form'!$E$12","v":"YES"},{"$f":"'Order Form'!$E$13","v":"ASAP (order with branding can take up to 3 business days to dispatch) Premium delivery recommended to guarantee delivery prior to Christmas, fees apply."},{"$f":"'Order Form'!$E$15","v":"FREE gift card"},{"$f":"'Order Form'!$E$16","v":"No thanks"},null,null,null,null,{"$f":"IF(N241=\"\",\"\",IFERROR(INDIRECT(\"Postcodes!$C\"&SUMPRODUCT(--(Postcodes!$A$2:$A$100<=N241)*(Postcodes!$B$2:$B$100>=N241), ROW(Postcodes!$A$2:$A$100))),\"WRONG CODE\"))","v":0},null,null,null,null,null,null,""]
[{"$f":"'Order Form'!A259","v":241},{"$f":"'Order Form'!N259","v":""},{"$f":"'Order Form'!$E$2","v":0},{"$f":"'Order Form'!$E$3","v":0},{"$f":"'Order Form'!$E$4","v":0},{"$f":"'Order Form'!$E$5","v":0},{"$f":"'Order Form'!$E$7","v":0},{"$f":"'Order Form'!$E$6","v":0},{"$f":"'Order Form'!$E$9","v":0},{"$f":"'Order Form'!$E$10 & \"\"","v":""},{"$f":"IF('Order Form'!D259=\"\",'Order Form'!C259,'Order Form'!D259)","v":0},{"$f":"'Order Form'!E259","v":0},{"$f":"'Order Form'!F259","v":0},{"$f":"'Order Form'!J259","v":0},{"$f":"'Order Form'!H259","v":0},{"$f":"'Order Form'!I259","v":0},{"$f":"'Order Form'!K259 & \"\"","v":""},{"$f":"'Order Form'!M259 & \"\"","v":""},{"$f":"'Order Form'!C259 & \"\"","v":""},{"$f":"'Order Form'!L259 & \"\"","v":""},{"$f":"'Order Form'!$E$12","v":"YES"},{"$f":"'Order Form'!$E$13","v":"ASAP (order with branding can take up to 3 business days to dispatch) Premium delivery recommended to guarantee delivery prior to Christmas, fees apply."},{"$f":"'Order Form'!$E$15","v":"FREE gift card"},{"$f":"'Order Form'!$E$16","v":"No thanks"},null,null,null,null,{"$f":"IF(N242=\"\",\"\",IFERROR(INDIRECT(\"Postcodes!$C\"&SUMPRODUCT(--(Postcodes!$A$2:$A$100<=N242)*(Postcodes!$B$2:$B$100>=N242), ROW(Postcodes!$A$2:$A$100))),\"WRONG CODE\"))","v":0},null,null,null,null,null,null,""]
[{"$f":"'Order Form'!A260","v":242},{"$f":"'Order Form'!N260","v":""},{"$f":"'Order Form'!$E$2","v":0},{"$f":"'Order Form'!$E$3","v":0},{"$f":"'Order Form'!$E$4","v":0},{"$f":"'Order Form'!$E$5","v":0},{"$f":"'Order Form'!$E$7","v":0},{"$f":"'Order Form'!$E$6","v":0},{"$f":"'Order Form'!$E$9","v":0},{"$f":"'Order Form'!$E$10 & \"\"","v":""},{"$f":"IF('Order Form'!D260=\"\",'Order Form'!C260,'Order Form'!D260)","v":0},{"$f":"'Order Form'!E260","v":0},{"$f":"'Order Form'!F260","v":0},{"$f":"'Order Form'!J260","v":0},{"$f":"'Order Form'!H260","v":0},{"$f":"'Order Form'!I260","v":0},{"$f":"'Order Form'!K260 & \"\"","v":""},{"$f":"'Order Form'!M260 & \"\"","v":""},{"$f":"'Order Form'!C260 & \"\"","v":""},{"$f":"'Order Form'!L260 & \"\"","v":""},{"$f":"'Order Form'!$E$12","v":"YES"},{"$f":"'Order Form'!$E$13","v":"ASAP (order with branding can take up to 3 business days to dispatch) Premium delivery recommended to guarantee delivery prior to Christmas, fees apply."},{"$f":"'Order Form'!$E$15","v":"FREE gift card"},{"$f":"'Order Form'!$E$16","v":"No thanks"},null,null,null,null,{"$f":"IF(N243=\"\",\"\",IFERROR(INDIRECT(\"Postcodes!$C\"&SUMPRODUCT(--(Postcodes!$A$2:$A$100<=N243)*(Postcodes!$B$2:$B$100>=N243), ROW(Postcodes!$A$2:$A$100))),\"WRONG CODE\"))","v":0},null,null,null,null,null,null,""]
[{"$f":"'Order Form'!A261","v":243},{"$f":"'Order Form'!N261","v":""},{"$f":"'Order Form'!$E$2","v":0},{"$f":"'Order Form'!$E$3","v":0},{"$f":"'Order Form'!$E$4","v":0},{"$f":"'Order Form'!$E$5","v":0},{"$f":"'Order Form'!$E$7","v":0},{"$f":"'Order Form'!$E$6","v":0},{"$f":"'Order Form'!$E$9","v":0},{"$f":"'Order Form'!$E$10 & \"\"","v":""},{"$f":"IF('Order Form'!D261=\"\",'Order Form'!C261,'Order Form'!D261)","v":0},{"$f":"'Order Form'!E261","v":0},{"$f":"'Order Form'!F261","v":0},{"$f":"'Order Form'!J261","v":0},{"$f":"'Order Form'!H261","v":0},{"$f":"'Order Form'!I261","v":0},{"$f":"'Order Form'!K261 & \"\"","v":""},{"$f":"'Order Form'!M261 & \"\"","v":""},{"$f":"'Order Form'!C261 & \"\"","v":""},{"$f":"'Order Form'!L261 & \"\"","v":""},{"$f":"'Order Form'!$E$12","v":"YES"},{"$f":"'Order Form'!$E$13","v":"ASAP (order with branding can take up to 3 business days to dispatch) Premium delivery recommended to guarantee delivery prior to Christmas, fees apply."},{"$f":"'Order Form'!$E$15","v":"FREE gift card"},{"$f":"'Order Form'!$E$16","v":"No thanks"},null,null,null,null,{"$f":"IF(N244=\"\",\"\",IFERROR(INDIRECT(\"Postcodes!$C\"&SUMPRODUCT(--(Postcodes!$A$2:$A$100<=N244)*(Postcodes!$B$2:$B$100>=N244), ROW(Postcodes!$A$2:$A$100))),\"WRONG CODE\"))","v":0},null,null,null,null,null,null,""]
[{"$f":"'Order Form'!A262","v":244},{"$f":"'Order Form'!N262","v":""},{"$f":"'Order Form'!$E$2","v":0},{"$f":"'Order Form'!$E$3","v":0},{"$f":"'Order Form'!$E$4","v":0},{"$f":"'Order Form'!$E$5","v":0},{"$f":"'Order Form'!$E$7","v":0},{"$f":"'Order Form'!$E$6","v":0},{"$f":"'Order Form'!$E$9","v":0},{"$f":"'Order Form'!$E$10 & \"\"","v":""},{"$f":"IF('Order Form'!D262=\"\",'Order Form'!C262,'Order Form'!D262)","v":0},{"$f":"'Order Form'!E262","v":0},{"$f":"'Order Form'!F262","v":0},{"$f":"'Order Form'!J262","v":0},{"$f":"'Order Form'!H262","v":0},{"$f":"'Order Form'!I262","v":0},{"$f":"'Order Form'!K262 & \"\"","v":""},{"$f":"'Order Form'!M262 & \"\"","v":""},{"$f":"'Order Form'!C262 & \"\"","v":""},{"$f":"'Order Form'!L262 & \"\"","v":""},{"$f":"'Order Form'!$E$12","v":"YES"},{"$f":"'Order Form'!$E$13","v":"ASAP (order with branding can take up to 3 business days to dispatch) Premium delivery recommended to guarantee delivery prior to Christmas, fees apply."},{"$f":"'Order Form'!$E$15","v":"FREE gift card"},{"$f":"'Order Form'!$E$16","v":"No thanks"},null,null,null,null,{"$f":"IF(N245=\"\",\"\",IFERROR(INDIRECT(\"Postcodes!$C\"&SUMPRODUCT(--(Postcodes!$A$2:$A$100<=N245)*(Postcodes!$B$2:$B$100>=N245), ROW(Postcodes!$A$2:$A$100))),\"WRONG CODE\"))","v":0},null,null,null,null,null,null,""]
[{"$f":"'Order Form'!A263","v":245},{"$f":"'Order Form'!N263","v":""},{"$f":"'Order Form'!$E$2","v":0},{"$f":"'Order Form'!$E$3","v":0},{"$f":"'Order Form'!$E$4","v":0},{"$f":"'Order Form'!$E$5","v":0},{"$f":"'Order Form'!$E$7","v":0},{"$f":"'Order Form'!$E$6","v":0},{"$f":"'Order Form'!$E$9","v":0},{"$f":"'Order Form'!$E$10 & \"\"","v":""},{"$f":"IF('Order Form'!D263=\"\",'Order Form'!C263,'Order Form'!D263)","v":0},{"$f":"'Order Form'!E263","v":0},{"$f":"'Order Form'!F263","v":0},{"$f":"'Order Form'!J263","v":0},{"$f":"'Order Form'!H263","v":0},{"$f":"'Order Form'!I263","v":0},{"$f":"'Order Form'!K263 & \"\"","v":""},{"$f":"'Order Form'!M263 & \"\"","v":""},{"$f":"'Order Form'!C263 & \"\"","v":""},{"$f":"'Order Form'!L263 & \"\"","v":""},{"$f":"'Order Form'!$E$12","v":"YES"},{"$f":"'Order Form'!$E$13","v":"ASAP (order with branding can take up to 3 business days to dispatch) Premium delivery recommended to guarantee delivery prior to Christmas, fees apply."},{"$f":"'Order Form'!$E$15","v":"FREE gift card"},{"$f":"'Order Form'!$E$16","v":"No thanks"},null,null,null,null,{"$f":"IF(N246=\"\",\"\",IFERROR(INDIRECT(\"Postcodes!$C\"&SUMPRODUCT(--(Postcodes!$A$2:$A$100<=N246)*(Postcodes!$B$2:$B$100>=N246), ROW(Postcodes!$A$2:$A$100))),\"WRONG CODE\"))","v":0},null,null,null,null,null,null,""]
[{"$f":"'Order Form'!A264","v":246},{"$f":"'Order Form'!N264","v":""},{"$f":"'Order Form'!$E$2","v":0},{"$f":"'Order Form'!$E$3","v":0},{"$f":"'Order Form'!$E$4","v":0},{"$f":"'Order Form'!$E$5","v":0},{"$f":"'Order Form'!$E$7","v":0},{"$f":"'Order Form'!$E$6","v":0},{"$f":"'Order Form'!$E$9","v":0},{"$f":"'Order Form'!$E$10 & \"\"","v":""},{"$f":"IF('Order Form'!D264=\"\",'Order Form'!C264,'Order Form'!D264)","v":0},{"$f":"'Order Form'!E264","v":0},{"$f":"'Order Form'!F264","v":0},{"$f":"'Order Form'!J264","v":0},{"$f":"'Order Form'!H264","v":0},{"$f":"'Order Form'!I264","v":0},{"$f":"'Order Form'!K264 & \"\"","v":""},{"$f":"'Order Form'!M264 & \"\"","v":""},{"$f":"'Order Form'!C264 & \"\"","v":""},{"$f":"'Order Form'!L264 & \"\"","v":""},{"$f":"'Order Form'!$E$12","v":"YES"},{"$f":"'Order Form'!$E$13","v":"ASAP (order with branding can take up to 3 business days to dispatch) Premium delivery recommended to guarantee delivery prior to Christmas, fees apply."},{"$f":"'Order Form'!$E$15","v":"FREE gift card"},{"$f":"'Order Form'!$E$16","v":"No thanks"},null,null,null,null,{"$f":"IF(N247=\"\",\"\",IFERROR(INDIRECT(\"Postcodes!$C\"&SUMPRODUCT(--(Postcodes!$A$2:$A$100<=N247)*(Postcodes!$B$2:$B$100>=N247), ROW(Postcodes!$A$2:$A$100))),\"WRONG CODE\"))","v":0},null,null,null,null,null,null,""]
[{"$f":"'Order Form'!A265","v":247},{"$f":"'Order Form'!N265","v":""},{"$f":"'Order Form'!$E$2","v":0},{"$f":"'Order Form'!$E$3","v":0},{"$f":"'Order Form'!$E$4","v":0},{"$f":"'Order Form'!$E$5","v":0},{"$f":"'Order Form'!$E$7","v":0},{"$f":"'Order Form'!$E$6","v":0},{"$f":"'Order Form'!$E$9","v":0},{"$f":"'Order Form'!$E$10 & \"\"","v":""},{"$f":"IF('Order Form'!D265=\"\",'Order Form'!C265,'Order Form'!D265)","v":0},{"$f":"'Order Form'!E265","v":0},{"$f":"'Order Form'!F265","v":0},{"$f":"'Order Form'!J265","v":0},{"$f":"'Order Form'!H265","v":0},{"$f":"'Order Form'!I265","v":0},{"$f":"'Order Form'!K265 & \"\"","v":""},{"$f":"'Order Form'!M265 & \"\"","v":""},{"$f":"'Order Form'!C265 & \"\"","v":""},{"$f":"'Order Form'!L265 & \"\"","v":""},{"$f":"'Order Form'!$E$12","v":"YES"},{"$f":"'Order Form'!$E$13","v":"ASAP (order with branding can take up to 3 business days to dispatch) Premium delivery recommended to guarantee delivery prior to Christmas, fees apply."},{"$f":"'Order Form'!$E$15","v":"FREE gift card"},{"$f":"'Order Form'!$E$16","v":"No thanks"},null,null,null,null,{"$f":"IF(N248=\"\",\"\",IFERROR(INDIRECT(\"Postcodes!$C\"&SUMPRODUCT(--(Postcodes!$A$2:$A$100<=N248)*(Postcodes!$B$2:$B$100>=N248), ROW(Postcodes!$A$2:$A$100))),\"WRONG CODE\"))","v":0},null,null,null,null,null,null,""]
[{"$f":"'Order Form'!A266","v":248},{"$f":"'Order Form'!N266","v":""},{"$f":"'Order Form'!$E$2","v":0},{"$f":"'Order Form'!$E$3","v":0},{"$f":"'Order Form'!$E$4","v":0},{"$f":"'Order Form'!$E$5","v":0},{"$f":"'Order Form'!$E$7","v":0},{"$f":"'Order Form'!$E$6","v":0},{"$f":"'Order Form'!$E$9","v":0},{"$f":"'Order Form'!$E$10 & \"\"","v":""},{"$f":"IF('Order Form'!D266=\"\",'Order Form'!C266,'Order Form'!D266)","v":0},{"$f":"'Order Form'!E266","v":0},{"$f":"'Order Form'!F266","v":0},{"$f":"'Order Form'!J266","v":0},{"$f":"'Order Form'!H266","v":0},{"$f":"'Order Form'!I266","v":0},{"$f":"'Order Form'!K266 & \"\"","v":""},{"$f":"'Order Form'!M266 & \"\"","v":""},{"$f":"'Order Form'!C266 & \"\"","v":""},{"$f":"'Order Form'!L266 & \"\"","v":""},{"$f":"'Order Form'!$E$12","v":"YES"},{"$f":"'Order Form'!$E$13","v":"ASAP (order with branding can take up to 3 business days to dispatch) Premium delivery recommended to guarantee delivery prior to Christmas, fees apply."},{"$f":"'Order Form'!$E$15","v":"FREE gift card"},{"$f":"'Order Form'!$E$16","v":"No thanks"},null,null,null,null,{"$f":"IF(N249=\"\",\"\",IFERROR(INDIRECT(\"Postcodes!$C\"&SUMPRODUCT(--(Postcodes!$A$2:$A$100<=N249)*(Postcodes!$B$2:$B$100>=N249), ROW(Postcodes!$A$2:$A$100))),\"WRONG CODE\"))","v":0},null,null,null,null,null,null,""]
[{"$f":"'Order Form'!A267","v":249},{"$f":"'Order Form'!N267","v":""},{"$f":"'Order Form'!$E$2","v":0},{"$f":"'Order Form'!$E$3","v":0},{"$f":"'Order Form'!$E$4","v":0},{"$f":"'Order Form'!$E$5","v":0},{"$f":"'Order Form'!$E$7","v":0},{"$f":"'Order Form'!$E$6","v":0},{"$f":"'Order Form'!$E$9","v":0},{"$f":"'Order Form'!$E$10 & \"\"","v":""},{"$f":"IF('Order Form'!D267=\"\",'Order Form'!C267,'Order Form'!D267)","v":0},{"$f":"'Order Form'!E267","v":0},{"$f":"'Order Form'!F267","v":0},{"$f":"'Order Form'!J267","v":0},{"$f":"'Order Form'!H267","v":0},{"$f":"'Order Form'!I267","v":0},{"$f":"'Order Form'!K267 & \"\"","v":""},{"$f":"'Order Form'!M267 & \"\"","v":""},{"$f":"'Order Form'!C267 & \"\"","v":""},{"$f":"'Order Form'!L267 & \"\"","v":""},{"$f":"'Order Form'!$E$12","v":"YES"},{"$f":"'Order Form'!$E$13","v":"ASAP (order with branding can take up to 3 business days to dispatch) Premium delivery recommended to guarantee delivery prior to Christmas, fees apply."},{"$f":"'Order Form'!$E$15","v":"FREE gift card"},{"$f":"'Order Form'!$E$16","v":"No thanks"},null,null,null,null,{"$f":"IF(N250=\"\",\"\",IFERROR(INDIRECT(\"Postcodes!$C\"&SUMPRODUCT(--(Postcodes!$A$2:$A$100<=N250)*(Postcodes!$B$2:$B$100>=N250), ROW(Postcodes!$A$2:$A$100))),\"WRONG CODE\"))","v":0},null,null,null,null,null,null,""]
[{"$f":"'Order Form'!A268","v":250},{"$f":"'Order Form'!N268","v":""},{"$f":"'Order Form'!$E$2","v":0},{"$f":"'Order Form'!$E$3","v":0},{"$f":"'Order Form'!$E$4","v":0},{"$f":"'Order Form'!$E$5","v":0},{"$f":"'Order Form'!$E$7","v":0},{"$f":"'Order Form'!$E$6","v":0},{"$f":"'Order Form'!$E$9","v":0},{"$f":"'Order Form'!$E$10 & \"\"","v":""},{"$f":"IF('Order Form'!D268=\"\",'Order Form'!C268,'Order Form'!D268)","v":0},{"$f":"'Order Form'!E268","v":0},{"$f":"'Order Form'!F268","v":0},{"$f":"'Order Form'!J268","v":0},{"$f":"'Order Form'!H268","v":0},{"$f":"'Order Form'!I268","v":0},{"$f":"'Order Form'!K268 & \"\"","v":""},{"$f":"'Order Form'!M268 & \"\"","v":""},{"$f":"'Order Form'!C268 & \"\"","v":""},{"$f":"'Order Form'!L268 & \"\"","v":""},{"$f":"'Order Form'!$E$12","v":"YES"},{"$f":"'Order Form'!$E$13","v":"ASAP (order with branding can take up to 3 business days to dispatch) Premium delivery recommended to guarantee delivery prior to Christmas, fees apply."},{"$f":"'Order Form'!$E$15","v":"FREE gift card"},{"$f":"'Order Form'!$E$16","v":"No thanks"},null,null,null,null,{"$f":"IF(N251=\"\",\"\",IFERROR(INDIRECT(\"Postcodes!$C\"&SUMPRODUCT(--(Postcodes!$A$2:$A$100<=N251)*(Postcodes!$B$2:$B$100>=N251), ROW(Postcodes!$A$2:$A$100))),\"WRONG CODE\"))","v":0},null,null,null,null,null,null,""]
[{"$f":"'Order Form'!A269","v":251},{"$f":"'Order Form'!N269","v":""},{"$f":"'Order Form'!$E$2","v":0},{"$f":"'Order Form'!$E$3","v":0},{"$f":"'Order Form'!$E$4","v":0},{"$f":"'Order Form'!$E$5","v":0},{"$f":"'Order Form'!$E$7","v":0},{"$f":"'Order Form'!$E$6","v":0},{"$f":"'Order Form'!$E$9","v":0},{"$f":"'Order Form'!$E$10 & \"\"","v":""},{"$f":"IF('Order Form'!D269=\"\",'Order Form'!C269,'Order Form'!D269)","v":0},{"$f":"'Order Form'!E269","v":0},{"$f":"'Order Form'!F269","v":0},{"$f":"'Order Form'!J269","v":0},{"$f":"'Order Form'!H269","v":0},{"$f":"'Order Form'!I269","v":0},{"$f":"'Order Form'!K269 & \"\"","v":""},{"$f":"'Order Form'!M269 & \"\"","v":""},{"$f":"'Order Form'!C269 & \"\"","v":""},{"$f":"'Order Form'!L269 & \"\"","v":""},{"$f":"'Order Form'!$E$12","v":"YES"},{"$f":"'Order Form'!$E$13","v":"ASAP (order with branding can take up to 3 business days to dispatch) Premium delivery recommended to guarantee delivery prior to Christmas, fees apply."},{"$f":"'Order Form'!$E$15","v":"FREE gift card"},{"$f":"'Order Form'!$E$16","v":"No thanks"},null,null,null,null,{"$f":"IF(N252=\"\",\"\",IFERROR(INDIRECT(\"Postcodes!$C\"&SUMPRODUCT(--(Postcodes!$A$2:$A$100<=N252)*(Postcodes!$B$2:$B$100>=N252), ROW(Postcodes!$A$2:$A$100))),\"WRONG CODE\"))","v":0},null,null,null,null,null,null,""]
[{"$f":"'Order Form'!A270","v":252},{"$f":"'Order Form'!N270","v":""},{"$f":"'Order Form'!$E$2","v":0},{"$f":"'Order Form'!$E$3","v":0},{"$f":"'Order Form'!$E$4","v":0},{"$f":"'Order Form'!$E$5","v":0},{"$f":"'Order Form'!$E$7","v":0},{"$f":"'Order Form'!$E$6","v":0},{"$f":"'Order Form'!$E$9","v":0},{"$f":"'Order Form'!$E$10 & \"\"","v":""},{"$f":"IF('Order Form'!D270=\"\",'Order Form'!C270,'Order Form'!D270)","v":0},{"$f":"'Order Form'!E270","v":0},{"$f":"'Order Form'!F270","v":0},{"$f":"'Order Form'!J270","v":0},{"$f":"'Order Form'!H270","v":0},{"$f":"'Order Form'!I270","v":0},{"$f":"'Order Form'!K270 & \"\"","v":""},{"$f":"'Order Form'!M270 & \"\"","v":""},{"$f":"'Order Form'!C270 & \"\"","v":""},{"$f":"'Order Form'!L270 & \"\"","v":""},{"$f":"'Order Form'!$E$12","v":"YES"},{"$f":"'Order Form'!$E$13","v":"ASAP (order with branding can take up to 3 business days to dispatch) Premium delivery recommended to guarantee delivery prior to Christmas, fees apply."},{"$f":"'Order Form'!$E$15","v":"FREE gift card"},{"$f":"'Order Form'!$E$16","v":"No thanks"},null,null,null,null,{"$f":"IF(N253=\"\",\"\",IFERROR(INDIRECT(\"Postcodes!$C\"&SUMPRODUCT(--(Postcodes!$A$2:$A$100<=N253)*(Postcodes!$B$2:$B$100>=N253), ROW(Postcodes!$A$2:$A$100))),\"WRONG CODE\"))","v":0},null,null,null,null,null,null,""]
[{"$f":"'Order Form'!A271","v":253},{"$f":"'Order Form'!N271","v":""},{"$f":"'Order Form'!$E$2","v":0},{"$f":"'Order Form'!$E$3","v":0},{"$f":"'Order Form'!$E$4","v":0},{"$f":"'Order Form'!$E$5","v":0},{"$f":"'Order Form'!$E$7","v":0},{"$f":"'Order Form'!$E$6","v":0},{"$f":"'Order Form'!$E$9","v":0},{"$f":"'Order Form'!$E$10 & \"\"","v":""},{"$f":"IF('Order Form'!D271=\"\",'Order Form'!C271,'Order Form'!D271)","v":0},{"$f":"'Order Form'!E271","v":0},{"$f":"'Order Form'!F271","v":0},{"$f":"'Order Form'!J271","v":0},{"$f":"'Order Form'!H271","v":0},{"$f":"'Order Form'!I271","v":0},{"$f":"'Order Form'!K271 & \"\"","v":""},{"$f":"'Order Form'!M271 & \"\"","v":""},{"$f":"'Order Form'!C271 & \"\"","v":""},{"$f":"'Order Form'!L271 & \"\"","v":""},{"$f":"'Order Form'!$E$12","v":"YES"},{"$f":"'Order Form'!$E$13","v":"ASAP (order with branding can take up to 3 business days to dispatch) Premium delivery recommended to guarantee delivery prior to Christmas, fees apply."},{"$f":"'Order Form'!$E$15","v":"FREE gift card"},{"$f":"'Order Form'!$E$16","v":"No thanks"},null,null,null,null,{"$f":"IF(N254=\"\",\"\",IFERROR(INDIRECT(\"Postcodes!$C\"&SUMPRODUCT(--(Postcodes!$A$2:$A$100<=N254)*(Postcodes!$B$2:$B$100>=N254), ROW(Postcodes!$A$2:$A$100))),\"WRONG CODE\"))","v":0},null,null,null,null,null,null,""]
[{"$f":"'Order Form'!A272","v":254},{"$f":"'Order Form'!N272","v":""},{"$f":"'Order Form'!$E$2","v":0},{"$f":"'Order Form'!$E$3","v":0},{"$f":"'Order Form'!$E$4","v":0},{"$f":"'Order Form'!$E$5","v":0},{"$f":"'Order Form'!$E$7","v":0},{"$f":"'Order Form'!$E$6","v":0},{"$f":"'Order Form'!$E$9","v":0},{"$f":"'Order Form'!$E$10 & \"\"","v":""},{"$f":"IF('Order Form'!D272=\"\",'Order Form'!C272,'Order Form'!D272)","v":0},{"$f":"'Order Form'!E272","v":0},{"$f":"'Order Form'!F272","v":0},{"$f":"'Order Form'!J272","v":0},{"$f":"'Order Form'!H272","v":0},{"$f":"'Order Form'!I272","v":0},{"$f":"'Order Form'!K272 & \"\"","v":""},{"$f":"'Order Form'!M272 & \"\"","v":""},{"$f":"'Order Form'!C272 & \"\"","v":""},{"$f":"'Order Form'!L272 & \"\"","v":""},{"$f":"'Order Form'!$E$12","v":"YES"},{"$f":"'Order Form'!$E$13","v":"ASAP (order with branding can take up to 3 business days to dispatch) Premium delivery recommended to guarantee delivery prior to Christmas, fees apply."},{"$f":"'Order Form'!$E$15","v":"FREE gift card"},{"$f":"'Order Form'!$E$16","v":"No thanks"},null,null,null,null,{"$f":"IF(N255=\"\",\"\",IFERROR(INDIRECT(\"Postcodes!$C\"&SUMPRODUCT(--(Postcodes!$A$2:$A$100<=N255)*(Postcodes!$B$2:$B$100>=N255), ROW(Postcodes!$A$2:$A$100))),\"WRONG CODE\"))","v":0},null,null,null,null,null,null,""]
[{"$f":"'Order Form'!A273","v":255},{"$f":"'Order Form'!N273","v":""},{"$f":"'Order Form'!$E$2","v":0},{"$f":"'Order Form'!$E$3","v":0},{"$f":"'Order Form'!$E$4","v":0},{"$f":"'Order Form'!$E$5","v":0},{"$f":"'Order Form'!$E$7","v":0},{"$f":"'Order Form'!$E$6","v":0},{"$f":"'Order Form'!$E$9","v":0},{"$f":"'Order Form'!$E$10 & \"\"","v":""},{"$f":"IF('Order Form'!D273=\"\",'Order Form'!C273,'Order Form'!D273)","v":0},{"$f":"'Order Form'!E273","v":0},{"$f":"'Order Form'!F273","v":0},{"$f":"'Order Form'!J273","v":0},{"$f":"'Order Form'!H273","v":0},{"$f":"'Order Form'!I273","v":0},{"$f":"'Order Form'!K273 & \"\"","v":""},{"$f":"'Order Form'!M273 & \"\"","v":""},{"$f":"'Order Form'!C273 & \"\"","v":""},{"$f":"'Order Form'!L273 & \"\"","v":""},{"$f":"'Order Form'!$E$12","v":"YES"},{"$f":"'Order Form'!$E$13","v":"ASAP (order with branding can take up to 3 business days to dispatch) Premium delivery recommended to guarantee delivery prior to Christmas, fees apply."},{"$f":"'Order Form'!$E$15","v":"FREE gift card"},{"$f":"'Order Form'!$E$16","v":"No thanks"},null,null,null,null,{"$f":"IF(N256=\"\",\"\",IFERROR(INDIRECT(\"Postcodes!$C\"&SUMPRODUCT(--(Postcodes!$A$2:$A$100<=N256)*(Postcodes!$B$2:$B$100>=N256), ROW(Postcodes!$A$2:$A$100))),\"WRONG CODE\"))","v":0},null,null,null,null,null,null,""]
[{"$f":"'Order Form'!A274","v":256},{"$f":"'Order Form'!N274","v":""},{"$f":"'Order Form'!$E$2","v":0},{"$f":"'Order Form'!$E$3","v":0},{"$f":"'Order Form'!$E$4","v":0},{"$f":"'Order Form'!$E$5","v":0},{"$f":"'Order Form'!$E$7","v":0},{"$f":"'Order Form'!$E$6","v":0},{"$f":"'Order Form'!$E$9","v":0},{"$f":"'Order Form'!$E$10 & \"\"","v":""},{"$f":"IF('Order Form'!D274=\"\",'Order Form'!C274,'Order Form'!D274)","v":0},{"$f":"'Order Form'!E274","v":0},{"$f":"'Order Form'!F274","v":0},{"$f":"'Order Form'!J274","v":0},{"$f":"'Order Form'!H274","v":0},{"$f":"'Order Form'!I274","v":0},{"$f":"'Order Form'!K274 & \"\"","v":""},{"$f":"'Order Form'!M274 & \"\"","v":""},{"$f":"'Order Form'!C274 & \"\"","v":""},{"$f":"'Order Form'!L274 & \"\"","v":""},{"$f":"'Order Form'!$E$12","v":"YES"},{"$f":"'Order Form'!$E$13","v":"ASAP (order with branding can take up to 3 business days to dispatch) Premium delivery recommended to guarantee delivery prior to Christmas, fees apply."},{"$f":"'Order Form'!$E$15","v":"FREE gift card"},{"$f":"'Order Form'!$E$16","v":"No thanks"},null,null,null,null,{"$f":"IF(N257=\"\",\"\",IFERROR(INDIRECT(\"Postcodes!$C\"&SUMPRODUCT(--(Postcodes!$A$2:$A$100<=N257)*(Postcodes!$B$2:$B$100>=N257), ROW(Postcodes!$A$2:$A$100))),\"WRONG CODE\"))","v":0},null,null,null,null,null,null,""]
[{"$f":"'Order Form'!A275","v":257},{"$f":"'Order Form'!N275","v":""},{"$f":"'Order Form'!$E$2","v":0},{"$f":"'Order Form'!$E$3","v":0},{"$f":"'Order Form'!$E$4","v":0},{"$f":"'Order Form'!$E$5","v":0},{"$f":"'Order Form'!$E$7","v":0},{"$f":"'Order Form'!$E$6","v":0},{"$f":"'Order Form'!$E$9","v":0},{"$f":"'Order Form'!$E$10 & \"\"","v":""},{"$f":"IF('Order Form'!D275=\"\",'Order Form'!C275,'Order Form'!D275)","v":0},{"$f":"'Order Form'!E275","v":0},{"$f":"'Order Form'!F275","v":0},{"$f":"'Order Form'!J275","v":0},{"$f":"'Order Form'!H275","v":0},{"$f":"'Order Form'!I275","v":0},{"$f":"'Order Form'!K275 & \"\"","v":""},{"$f":"'Order Form'!M275 & \"\"","v":""},{"$f":"'Order Form'!C275 & \"\"","v":""},{"$f":"'Order Form'!L275 & \"\"","v":""},{"$f":"'Order Form'!$E$12","v":"YES"},{"$f":"'Order Form'!$E$13","v":"ASAP (order with branding can take up to 3 business days to dispatch) Premium delivery recommended to guarantee delivery prior to Christmas, fees apply."},{"$f":"'Order Form'!$E$15","v":"FREE gift card"},{"$f":"'Order Form'!$E$16","v":"No thanks"},null,null,null,null,{"$f":"IF(N258=\"\",\"\",IFERROR(INDIRECT(\"Postcodes!$C\"&SUMPRODUCT(--(Postcodes!$A$2:$A$100<=N258)*(Postcodes!$B$2:$B$100>=N258), ROW(Postcodes!$A$2:$A$100))),\"WRONG CODE\"))","v":0},null,null,null,null,null,null,""]
[{"$f":"'Order Form'!A276","v":258},{"$f":"'Order Form'!N276","v":""},{"$f":"'Order Form'!$E$2","v":0},{"$f":"'Order Form'!$E$3","v":0},{"$f":"'Order Form'!$E$4","v":0},{"$f":"'Order Form'!$E$5","v":0},{"$f":"'Order Form'!$E$7","v":0},{"$f":"'Order Form'!$E$6","v":0},{"$f":"'Order Form'!$E$9","v":0},{"$f":"'Order Form'!$E$10 & \"\"","v":""},{"$f":"IF('Order Form'!D276=\"\",'Order Form'!C276,'Order Form'!D276)","v":0},{"$f":"'Order Form'!E276","v":0},{"$f":"'Order Form'!F276","v":0},{"$f":"'Order Form'!J276","v":0},{"$f":"'Order Form'!H276","v":0},{"$f":"'Order Form'!I276","v":0},{"$f":"'Order Form'!K276 & \"\"","v":""},{"$f":"'Order Form'!M276 & \"\"","v":""},{"$f":"'Order Form'!C276 & \"\"","v":""},{"$f":"'Order Form'!L276 & \"\"","v":""},{"$f":"'Order Form'!$E$12","v":"YES"},{"$f":"'Order Form'!$E$13","v":"ASAP (order with branding can take up to 3 business days to dispatch) Premium delivery recommended to guarantee delivery prior to Christmas, fees apply."},{"$f":"'Order Form'!$E$15","v":"FREE gift card"},{"$f":"'Order Form'!$E$16","v":"No thanks"},null,null,null,null,{"$f":"IF(N259=\"\",\"\",IFERROR(INDIRECT(\"Postcodes!$C\"&SUMPRODUCT(--(Postcodes!$A$2:$A$100<=N259)*(Postcodes!$B$2:$B$100>=N259), ROW(Postcodes!$A$2:$A$100))),\"WRONG CODE\"))","v":0},null,null,null,null,null,null,{"$f":"IF(AND(V259=\"ASAP (order with branding can take up to 3 business days to dispatch)\",W259=\"FREE gift card\",X259=\"No Thanks\"),\"asap\",\"\")","v":""}]
[{"$f":"'Order Form'!A277","v":259},{"$f":"'Order Form'!N277","v":""},{"$f":"'Order Form'!$E$2","v":0},{"$f":"'Order Form'!$E$3","v":0},{"$f":"'Order Form'!$E$4","v":0},{"$f":"'Order Form'!$E$5","v":0},{"$f":"'Order Form'!$E$7","v":0},{"$f":"'Order Form'!$E$6","v":0},{"$f":"'Order Form'!$E$9","v":0},{"$f":"'Order Form'!$E$10 & \"\"","v":""},{"$f":"IF('Order Form'!D277=\"\",'Order Form'!C277,'Order Form'!D277)","v":0},{"$f":"'Order Form'!E277","v":0},{"$f":"'Order Form'!F277","v":0},{"$f":"'Order Form'!J277","v":0},{"$f":"'Order Form'!H277","v":0},{"$f":"'Order Form'!I277","v":0},{"$f":"'Order Form'!K277 & \"\"","v":""},{"$f":"'Order Form'!M277 & \"\"","v":""},{"$f":"'Order Form'!C277 & \"\"","v":""},{"$f":"'Order Form'!L277 & \"\"","v":""},{"$f":"'Order Form'!$E$12","v":"YES"},{"$f":"'Order Form'!$E$13","v":"ASAP (order with branding can take up to 3 business days to dispatch) Premium delivery recommended to guarantee delivery prior to Christmas, fees apply."},{"$f":"'Order Form'!$E$15","v":"FREE gift card"},{"$f":"'Order Form'!$E$16","v":"No thanks"},null,null,null,null,{"$f":"IF(N260=\"\",\"\",IFERROR(INDIRECT(\"Postcodes!$C\"&SUMPRODUCT(--(Postcodes!$A$2:$A$100<=N260)*(Postcodes!$B$2:$B$100>=N260), ROW(Postcodes!$A$2:$A$100))),\"WRONG CODE\"))","v":0},null,null,null,null,null,null,""]
[{"$f":"'Order Form'!A278","v":260},{"$f":"'Order Form'!N278","v":""},{"$f":"'Order Form'!$E$2","v":0},{"$f":"'Order Form'!$E$3","v":0},{"$f":"'Order Form'!$E$4","v":0},{"$f":"'Order Form'!$E$5","v":0},{"$f":"'Order Form'!$E$7","v":0},{"$f":"'Order Form'!$E$6","v":0},{"$f":"'Order Form'!$E$9","v":0},{"$f":"'Order Form'!$E$10 & \"\"","v":""},{"$f":"IF('Order Form'!D278=\"\",'Order Form'!C278,'Order Form'!D278)","v":0},{"$f":"'Order Form'!E278","v":0},{"$f":"'Order Form'!F278","v":0},{"$f":"'Order Form'!J278","v":0},{"$f":"'Order Form'!H278","v":0},{"$f":"'Order Form'!I278","v":0},{"$f":"'Order Form'!K278 & \"\"","v":""},{"$f":"'Order Form'!M278 & \"\"","v":""},{"$f":"'Order Form'!C278 & \"\"","v":""},{"$f":"'Order Form'!L278 & \"\"","v":""},{"$f":"'Order Form'!$E$12","v":"YES"},{"$f":"'Order Form'!$E$13","v":"ASAP (order with branding can take up to 3 business days to dispatch) Premium delivery recommended to guarantee delivery prior to Christmas, fees apply."},{"$f":"'Order Form'!$E$15","v":"FREE gift card"},{"$f":"'Order Form'!$E$16","v":"No thanks"},null,null,null,null,{"$f":"IF(N261=\"\",\"\",IFERROR(INDIRECT(\"Postcodes!$C\"&SUMPRODUCT(--(Postcodes!$A$2:$A$100<=N261)*(Postcodes!$B$2:$B$100>=N261), ROW(Postcodes!$A$2:$A$100))),\"WRONG CODE\"))","v":0},null,null,null,null,null,null,""]
[{"$f":"'Order Form'!A279","v":261},{"$f":"'Order Form'!N279","v":""},{"$f":"'Order Form'!$E$2","v":0},{"$f":"'Order Form'!$E$3","v":0},{"$f":"'Order Form'!$E$4","v":0},{"$f":"'Order Form'!$E$5","v":0},{"$f":"'Order Form'!$E$7","v":0},{"$f":"'Order Form'!$E$6","v":0},{"$f":"'Order Form'!$E$9","v":0},{"$f":"'Order Form'!$E$10 & \"\"","v":""},{"$f":"IF('Order Form'!D279=\"\",'Order Form'!C279,'Order Form'!D279)","v":0},{"$f":"'Order Form'!E279","v":0},{"$f":"'Order Form'!F279","v":0},{"$f":"'Order Form'!J279","v":0},{"$f":"'Order Form'!H279","v":0},{"$f":"'Order Form'!I279","v":0},{"$f":"'Order Form'!K279 & \"\"","v":""},{"$f":"'Order Form'!M279 & \"\"","v":""},{"$f":"'Order Form'!C279 & \"\"","v":""},{"$f":"'Order Form'!L279 & \"\"","v":""},{"$f":"'Order Form'!$E$12","v":"YES"},{"$f":"'Order Form'!$E$13","v":"ASAP (order with branding can take up to 3 business days to dispatch) Premium delivery recommended to guarantee delivery prior to Christmas, fees apply."},{"$f":"'Order Form'!$E$15","v":"FREE gift card"},{"$f":"'Order Form'!$E$16","v":"No thanks"},null,null,null,null,{"$f":"IF(N262=\"\",\"\",IFERROR(INDIRECT(\"Postcodes!$C\"&SUMPRODUCT(--(Postcodes!$A$2:$A$100<=N262)*(Postcodes!$B$2:$B$100>=N262), ROW(Postcodes!$A$2:$A$100))),\"WRONG CODE\"))","v":0},null,null,null,null,null,null,""]
[{"$f":"'Order Form'!A280","v":262},{"$f":"'Order Form'!N280","v":""},{"$f":"'Order Form'!$E$2","v":0},{"$f":"'Order Form'!$E$3","v":0},{"$f":"'Order Form'!$E$4","v":0},{"$f":"'Order Form'!$E$5","v":0},{"$f":"'Order Form'!$E$7","v":0},{"$f":"'Order Form'!$E$6","v":0},{"$f":"'Order Form'!$E$9","v":0},{"$f":"'Order Form'!$E$10 & \"\"","v":""},{"$f":"IF('Order Form'!D280=\"\",'Order Form'!C280,'Order Form'!D280)","v":0},{"$f":"'Order Form'!E280","v":0},{"$f":"'Order Form'!F280","v":0},{"$f":"'Order Form'!J280","v":0},{"$f":"'Order Form'!H280","v":0},{"$f":"'Order Form'!I280","v":0},{"$f":"'Order Form'!K280 & \"\"","v":""},{"$f":"'Order Form'!M280 & \"\"","v":""},{"$f":"'Order Form'!C280 & \"\"","v":""},{"$f":"'Order Form'!L280 & \"\"","v":""},{"$f":"'Order Form'!$E$12","v":"YES"},{"$f":"'Order Form'!$E$13","v":"ASAP (order with branding can take up to 3 business days to dispatch) Premium delivery recommended to guarantee delivery prior to Christmas, fees apply."},{"$f":"'Order Form'!$E$15","v":"FREE gift card"},{"$f":"'Order Form'!$E$16","v":"No thanks"},null,null,null,null,{"$f":"IF(N263=\"\",\"\",IFERROR(INDIRECT(\"Postcodes!$C\"&SUMPRODUCT(--(Postcodes!$A$2:$A$100<=N263)*(Postcodes!$B$2:$B$100>=N263), ROW(Postcodes!$A$2:$A$100))),\"WRONG CODE\"))","v":0},null,null,null,null,null,null,""]
[{"$f":"'Order Form'!A281","v":263},{"$f":"'Order Form'!N281","v":""},{"$f":"'Order Form'!$E$2","v":0},{"$f":"'Order Form'!$E$3","v":0},{"$f":"'Order Form'!$E$4","v":0},{"$f":"'Order Form'!$E$5","v":0},{"$f":"'Order Form'!$E$7","v":0},{"$f":"'Order Form'!$E$6","v":0},{"$f":"'Order Form'!$E$9","v":0},{"$f":"'Order Form'!$E$10 & \"\"","v":""},{"$f":"IF('Order Form'!D281=\"\",'Order Form'!C281,'Order Form'!D281)","v":0},{"$f":"'Order Form'!E281","v":0},{"$f":"'Order Form'!F281","v":0},{"$f":"'Order Form'!J281","v":0},{"$f":"'Order Form'!H281","v":0},{"$f":"'Order Form'!I281","v":0},{"$f":"'Order Form'!K281 & \"\"","v":""},{"$f":"'Order Form'!M281 & \"\"","v":""},{"$f":"'Order Form'!C281 & \"\"","v":""},{"$f":"'Order Form'!L281 & \"\"","v":""},{"$f":"'Order Form'!$E$12","v":"YES"},{"$f":"'Order Form'!$E$13","v":"ASAP (order with branding can take up to 3 business days to dispatch) Premium delivery recommended to guarantee delivery prior to Christmas, fees apply."},{"$f":"'Order Form'!$E$15","v":"FREE gift card"},{"$f":"'Order Form'!$E$16","v":"No thanks"},null,null,null,null,{"$f":"IF(N264=\"\",\"\",IFERROR(INDIRECT(\"Postcodes!$C\"&SUMPRODUCT(--(Postcodes!$A$2:$A$100<=N264)*(Postcodes!$B$2:$B$100>=N264), ROW(Postcodes!$A$2:$A$100))),\"WRONG CODE\"))","v":0},null,null,null,null,null,null,""]
[{"$f":"'Order Form'!A282","v":264},{"$f":"'Order Form'!N282","v":""},{"$f":"'Order Form'!$E$2","v":0},{"$f":"'Order Form'!$E$3","v":0},{"$f":"'Order Form'!$E$4","v":0},{"$f":"'Order Form'!$E$5","v":0},{"$f":"'Order Form'!$E$7","v":0},{"$f":"'Order Form'!$E$6","v":0},{"$f":"'Order Form'!$E$9","v":0},{"$f":"'Order Form'!$E$10 & \"\"","v":""},{"$f":"IF('Order Form'!D282=\"\",'Order Form'!C282,'Order Form'!D282)","v":0},{"$f":"'Order Form'!E282","v":0},{"$f":"'Order Form'!F282","v":0},{"$f":"'Order Form'!J282","v":0},{"$f":"'Order Form'!H282","v":0},{"$f":"'Order Form'!I282","v":0},{"$f":"'Order Form'!K282 & \"\"","v":""},{"$f":"'Order Form'!M282 & \"\"","v":""},{"$f":"'Order Form'!C282 & \"\"","v":""},{"$f":"'Order Form'!L282 & \"\"","v":""},{"$f":"'Order Form'!$E$12","v":"YES"},{"$f":"'Order Form'!$E$13","v":"ASAP (order with branding can take up to 3 business days to dispatch) Premium delivery recommended to guarantee delivery prior to Christmas, fees apply."},{"$f":"'Order Form'!$E$15","v":"FREE gift card"},{"$f":"'Order Form'!$E$16","v":"No thanks"},null,null,null,null,{"$f":"IF(N265=\"\",\"\",IFERROR(INDIRECT(\"Postcodes!$C\"&SUMPRODUCT(--(Postcodes!$A$2:$A$100<=N265)*(Postcodes!$B$2:$B$100>=N265), ROW(Postcodes!$A$2:$A$100))),\"WRONG CODE\"))","v":0},null,null,null,null,null,null,""]
[{"$f":"'Order Form'!A283","v":265},{"$f":"'Order Form'!N283","v":""},{"$f":"'Order Form'!$E$2","v":0},{"$f":"'Order Form'!$E$3","v":0},{"$f":"'Order Form'!$E$4","v":0},{"$f":"'Order Form'!$E$5","v":0},{"$f":"'Order Form'!$E$7","v":0},{"$f":"'Order Form'!$E$6","v":0},{"$f":"'Order Form'!$E$9","v":0},{"$f":"'Order Form'!$E$10 & \"\"","v":""},{"$f":"IF('Order Form'!D283=\"\",'Order Form'!C283,'Order Form'!D283)","v":0},{"$f":"'Order Form'!E283","v":0},{"$f":"'Order Form'!F283","v":0},{"$f":"'Order Form'!J283","v":0},{"$f":"'Order Form'!H283","v":0},{"$f":"'Order Form'!I283","v":0},{"$f":"'Order Form'!K283 & \"\"","v":""},{"$f":"'Order Form'!M283 & \"\"","v":""},{"$f":"'Order Form'!C283 & \"\"","v":""},{"$f":"'Order Form'!L283 & \"\"","v":""},{"$f":"'Order Form'!$E$12","v":"YES"},{"$f":"'Order Form'!$E$13","v":"ASAP (order with branding can take up to 3 business days to dispatch) Premium delivery recommended to guarantee delivery prior to Christmas, fees apply."},{"$f":"'Order Form'!$E$15","v":"FREE gift card"},{"$f":"'Order Form'!$E$16","v":"No thanks"},null,null,null,null,{"$f":"IF(N266=\"\",\"\",IFERROR(INDIRECT(\"Postcodes!$C\"&SUMPRODUCT(--(Postcodes!$A$2:$A$100<=N266)*(Postcodes!$B$2:$B$100>=N266), ROW(Postcodes!$A$2:$A$100))),\"WRONG CODE\"))","v":0},null,null,null,null,null,null,""]
[{"$f":"'Order Form'!A284","v":266},{"$f":"'Order Form'!N284","v":""},{"$f":"'Order Form'!$E$2","v":0},{"$f":"'Order Form'!$E$3","v":0},{"$f":"'Order Form'!$E$4","v":0},{"$f":"'Order Form'!$E$5","v":0},{"$f":"'Order Form'!$E$7","v":0},{"$f":"'Order Form'!$E$6","v":0},{"$f":"'Order Form'!$E$9","v":0},{"$f":"'Order Form'!$E$10 & \"\"","v":""},{"$f":"IF('Order Form'!D284=\"\",'Order Form'!C284,'Order Form'!D284)","v":0},{"$f":"'Order Form'!E284","v":0},{"$f":"'Order Form'!F284","v":0},{"$f":"'Order Form'!J284","v":0},{"$f":"'Order Form'!H284","v":0},{"$f":"'Order Form'!I284","v":0},{"$f":"'Order Form'!K284 & \"\"","v":""},{"$f":"'Order Form'!M284 & \"\"","v":""},{"$f":"'Order Form'!C284 & \"\"","v":""},{"$f":"'Order Form'!L284 & \"\"","v":""},{"$f":"'Order Form'!$E$12","v":"YES"},{"$f":"'Order Form'!$E$13","v":"ASAP (order with branding can take up to 3 business days to dispatch) Premium delivery recommended to guarantee delivery prior to Christmas, fees apply."},{"$f":"'Order Form'!$E$15","v":"FREE gift card"},{"$f":"'Order Form'!$E$16","v":"No thanks"},null,null,null,null,{"$f":"IF(N267=\"\",\"\",IFERROR(INDIRECT(\"Postcodes!$C\"&SUMPRODUCT(--(Postcodes!$A$2:$A$100<=N267)*(Postcodes!$B$2:$B$100>=N267), ROW(Postcodes!$A$2:$A$100))),\"WRONG CODE\"))","v":0},null,null,null,null,null,null,""]
[{"$f":"'Order Form'!A285","v":267},{"$f":"'Order Form'!N285","v":""},{"$f":"'Order Form'!$E$2","v":0},{"$f":"'Order Form'!$E$3","v":0},{"$f":"'Order Form'!$E$4","v":0},{"$f":"'Order Form'!$E$5","v":0},{"$f":"'Order Form'!$E$7","v":0},{"$f":"'Order Form'!$E$6","v":0},{"$f":"'Order Form'!$E$9","v":0},{"$f":"'Order Form'!$E$10 & \"\"","v":""},{"$f":"IF('Order Form'!D285=\"\",'Order Form'!C285,'Order Form'!D285)","v":0},{"$f":"'Order Form'!E285","v":0},{"$f":"'Order Form'!F285","v":0},{"$f":"'Order Form'!J285","v":0},{"$f":"'Order Form'!H285","v":0},{"$f":"'Order Form'!I285","v":0},{"$f":"'Order Form'!K285 & \"\"","v":""},{"$f":"'Order Form'!M285 & \"\"","v":""},{"$f":"'Order Form'!C285 & \"\"","v":""},{"$f":"'Order Form'!L285 & \"\"","v":""},{"$f":"'Order Form'!$E$12","v":"YES"},{"$f":"'Order Form'!$E$13","v":"ASAP (order with branding can take up to 3 business days to dispatch) Premium delivery recommended to guarantee delivery prior to Christmas, fees apply."},{"$f":"'Order Form'!$E$15","v":"FREE gift card"},{"$f":"'Order Form'!$E$16","v":"No thanks"},null,null,null,null,{"$f":"IF(N268=\"\",\"\",IFERROR(INDIRECT(\"Postcodes!$C\"&SUMPRODUCT(--(Postcodes!$A$2:$A$100<=N268)*(Postcodes!$B$2:$B$100>=N268), ROW(Postcodes!$A$2:$A$100))),\"WRONG CODE\"))","v":0},null,null,null,null,null,null,""]
[{"$f":"'Order Form'!A286","v":268},{"$f":"'Order Form'!N286","v":""},{"$f":"'Order Form'!$E$2","v":0},{"$f":"'Order Form'!$E$3","v":0},{"$f":"'Order Form'!$E$4","v":0},{"$f":"'Order Form'!$E$5","v":0},{"$f":"'Order Form'!$E$7","v":0},{"$f":"'Order Form'!$E$6","v":0},{"$f":"'Order Form'!$E$9","v":0},{"$f":"'Order Form'!$E$10 & \"\"","v":""},{"$f":"IF('Order Form'!D286=\"\",'Order Form'!C286,'Order Form'!D286)","v":0},{"$f":"'Order Form'!E286","v":0},{"$f":"'Order Form'!F286","v":0},{"$f":"'Order Form'!J286","v":0},{"$f":"'Order Form'!H286","v":0},{"$f":"'Order Form'!I286","v":0},{"$f":"'Order Form'!K286 & \"\"","v":""},{"$f":"'Order Form'!M286 & \"\"","v":""},{"$f":"'Order Form'!C286 & \"\"","v":""},{"$f":"'Order Form'!L286 & \"\"","v":""},{"$f":"'Order Form'!$E$12","v":"YES"},{"$f":"'Order Form'!$E$13","v":"ASAP (order with branding can take up to 3 business days to dispatch) Premium delivery recommended to guarantee delivery prior to Christmas, fees apply."},{"$f":"'Order Form'!$E$15","v":"FREE gift card"},{"$f":"'Order Form'!$E$16","v":"No thanks"},null,null,null,null,{"$f":"IF(N269=\"\",\"\",IFERROR(INDIRECT(\"Postcodes!$C\"&SUMPRODUCT(--(Postcodes!$A$2:$A$100<=N269)*(Postcodes!$B$2:$B$100>=N269), ROW(Postcodes!$A$2:$A$100))),\"WRONG CODE\"))","v":0},null,null,null,null,null,null,""]
[{"$f":"'Order Form'!A287","v":269},{"$f":"'Order Form'!N287","v":""},{"$f":"'Order Form'!$E$2","v":0},{"$f":"'Order Form'!$E$3","v":0},{"$f":"'Order Form'!$E$4","v":0},{"$f":"'Order Form'!$E$5","v":0},{"$f":"'Order Form'!$E$7","v":0},{"$f":"'Order Form'!$E$6","v":0},{"$f":"'Order Form'!$E$9","v":0},{"$f":"'Order Form'!$E$10 & \"\"","v":""},{"$f":"IF('Order Form'!D287=\"\",'Order Form'!C287,'Order Form'!D287)","v":0},{"$f":"'Order Form'!E287","v":0},{"$f":"'Order Form'!F287","v":0},{"$f":"'Order Form'!J287","v":0},{"$f":"'Order Form'!H287","v":0},{"$f":"'Order Form'!I287","v":0},{"$f":"'Order Form'!K287 & \"\"","v":""},{"$f":"'Order Form'!M287 & \"\"","v":""},{"$f":"'Order Form'!C287 & \"\"","v":""},{"$f":"'Order Form'!L287 & \"\"","v":""},{"$f":"'Order Form'!$E$12","v":"YES"},{"$f":"'Order Form'!$E$13","v":"ASAP (order with branding can take up to 3 business days to dispatch) Premium delivery recommended to guarantee delivery prior to Christmas, fees apply."},{"$f":"'Order Form'!$E$15","v":"FREE gift card"},{"$f":"'Order Form'!$E$16","v":"No thanks"},null,null,null,null,{"$f":"IF(N270=\"\",\"\",IFERROR(INDIRECT(\"Postcodes!$C\"&SUMPRODUCT(--(Postcodes!$A$2:$A$100<=N270)*(Postcodes!$B$2:$B$100>=N270), ROW(Postcodes!$A$2:$A$100))),\"WRONG CODE\"))","v":0},null,null,null,null,null,null,""]
[{"$f":"'Order Form'!A288","v":270},{"$f":"'Order Form'!N288","v":""},{"$f":"'Order Form'!$E$2","v":0},{"$f":"'Order Form'!$E$3","v":0},{"$f":"'Order Form'!$E$4","v":0},{"$f":"'Order Form'!$E$5","v":0},{"$f":"'Order Form'!$E$7","v":0},{"$f":"'Order Form'!$E$6","v":0},{"$f":"'Order Form'!$E$9","v":0},{"$f":"'Order Form'!$E$10 & \"\"","v":""},{"$f":"IF('Order Form'!D288=\"\",'Order Form'!C288,'Order Form'!D288)","v":0},{"$f":"'Order Form'!E288","v":0},{"$f":"'Order Form'!F288","v":0},{"$f":"'Order Form'!J288","v":0},{"$f":"'Order Form'!H288","v":0},{"$f":"'Order Form'!I288","v":0},{"$f":"'Order Form'!K288 & \"\"","v":""},{"$f":"'Order Form'!M288 & \"\"","v":""},{"$f":"'Order Form'!C288 & \"\"","v":""},{"$f":"'Order Form'!L288 & \"\"","v":""},{"$f":"'Order Form'!$E$12","v":"YES"},{"$f":"'Order Form'!$E$13","v":"ASAP (order with branding can take up to 3 business days to dispatch) Premium delivery recommended to guarantee delivery prior to Christmas, fees apply."},{"$f":"'Order Form'!$E$15","v":"FREE gift card"},{"$f":"'Order Form'!$E$16","v":"No thanks"},null,null,null,null,{"$f":"IF(N271=\"\",\"\",IFERROR(INDIRECT(\"Postcodes!$C\"&SUMPRODUCT(--(Postcodes!$A$2:$A$100<=N271)*(Postcodes!$B$2:$B$100>=N271), ROW(Postcodes!$A$2:$A$100))),\"WRONG CODE\"))","v":0},null,null,null,null,null,null,""]
[{"$f":"'Order Form'!A289","v":271},{"$f":"'Order Form'!N289","v":""},{"$f":"'Order Form'!$E$2","v":0},{"$f":"'Order Form'!$E$3","v":0},{"$f":"'Order Form'!$E$4","v":0},{"$f":"'Order Form'!$E$5","v":0},{"$f":"'Order Form'!$E$7","v":0},{"$f":"'Order Form'!$E$6","v":0},{"$f":"'Order Form'!$E$9","v":0},{"$f":"'Order Form'!$E$10 & \"\"","v":""},{"$f":"IF('Order Form'!D289=\"\",'Order Form'!C289,'Order Form'!D289)","v":0},{"$f":"'Order Form'!E289","v":0},{"$f":"'Order Form'!F289","v":0},{"$f":"'Order Form'!J289","v":0},{"$f":"'Order Form'!H289","v":0},{"$f":"'Order Form'!I289","v":0},{"$f":"'Order Form'!K289 & \"\"","v":""},{"$f":"'Order Form'!M289 & \"\"","v":""},{"$f":"'Order Form'!C289 & \"\"","v":""},{"$f":"'Order Form'!L289 & \"\"","v":""},{"$f":"'Order Form'!$E$12","v":"YES"},{"$f":"'Order Form'!$E$13","v":"ASAP (order with branding can take up to 3 business days to dispatch) Premium delivery recommended to guarantee delivery prior to Christmas, fees apply."},{"$f":"'Order Form'!$E$15","v":"FREE gift card"},{"$f":"'Order Form'!$E$16","v":"No thanks"},null,null,null,null,{"$f":"IF(N272=\"\",\"\",IFERROR(INDIRECT(\"Postcodes!$C\"&SUMPRODUCT(--(Postcodes!$A$2:$A$100<=N272)*(Postcodes!$B$2:$B$100>=N272), ROW(Postcodes!$A$2:$A$100))),\"WRONG CODE\"))","v":0},null,null,null,null,null,null,""]
[{"$f":"'Order Form'!A290","v":272},{"$f":"'Order Form'!N290","v":""},{"$f":"'Order Form'!$E$2","v":0},{"$f":"'Order Form'!$E$3","v":0},{"$f":"'Order Form'!$E$4","v":0},{"$f":"'Order Form'!$E$5","v":0},{"$f":"'Order Form'!$E$7","v":0},{"$f":"'Order Form'!$E$6","v":0},{"$f":"'Order Form'!$E$9","v":0},{"$f":"'Order Form'!$E$10 & \"\"","v":""},{"$f":"IF('Order Form'!D290=\"\",'Order Form'!C290,'Order Form'!D290)","v":0},{"$f":"'Order Form'!E290","v":0},{"$f":"'Order Form'!F290","v":0},{"$f":"'Order Form'!J290","v":0},{"$f":"'Order Form'!H290","v":0},{"$f":"'Order Form'!I290","v":0},{"$f":"'Order Form'!K290 & \"\"","v":""},{"$f":"'Order Form'!M290 & \"\"","v":""},{"$f":"'Order Form'!C290 & \"\"","v":""},{"$f":"'Order Form'!L290 & \"\"","v":""},{"$f":"'Order Form'!$E$12","v":"YES"},{"$f":"'Order Form'!$E$13","v":"ASAP (order with branding can take up to 3 business days to dispatch) Premium delivery recommended to guarantee delivery prior to Christmas, fees apply."},{"$f":"'Order Form'!$E$15","v":"FREE gift card"},{"$f":"'Order Form'!$E$16","v":"No thanks"},null,null,null,null,{"$f":"IF(N273=\"\",\"\",IFERROR(INDIRECT(\"Postcodes!$C\"&SUMPRODUCT(--(Postcodes!$A$2:$A$100<=N273)*(Postcodes!$B$2:$B$100>=N273), ROW(Postcodes!$A$2:$A$100))),\"WRONG CODE\"))","v":0},null,null,null,null,null,null,""]
[{"$f":"'Order Form'!A291","v":273},{"$f":"'Order Form'!N291","v":""},{"$f":"'Order Form'!$E$2","v":0},{"$f":"'Order Form'!$E$3","v":0},{"$f":"'Order Form'!$E$4","v":0},{"$f":"'Order Form'!$E$5","v":0},{"$f":"'Order Form'!$E$7","v":0},{"$f":"'Order Form'!$E$6","v":0},{"$f":"'Order Form'!$E$9","v":0},{"$f":"'Order Form'!$E$10 & \"\"","v":""},{"$f":"IF('Order Form'!D291=\"\",'Order Form'!C291,'Order Form'!D291)","v":0},{"$f":"'Order Form'!E291","v":0},{"$f":"'Order Form'!F291","v":0},{"$f":"'Order Form'!J291","v":0},{"$f":"'Order Form'!H291","v":0},{"$f":"'Order Form'!I291","v":0},{"$f":"'Order Form'!K291 & \"\"","v":""},{"$f":"'Order Form'!M291 & \"\"","v":""},{"$f":"'Order Form'!C291 & \"\"","v":""},{"$f":"'Order Form'!L291 & \"\"","v":""},{"$f":"'Order Form'!$E$12","v":"YES"},{"$f":"'Order Form'!$E$13","v":"ASAP (order with branding can take up to 3 business days to dispatch) Premium delivery recommended to guarantee delivery prior to Christmas, fees apply."},{"$f":"'Order Form'!$E$15","v":"FREE gift card"},{"$f":"'Order Form'!$E$16","v":"No thanks"},null,null,null,null,{"$f":"IF(N274=\"\",\"\",IFERROR(INDIRECT(\"Postcodes!$C\"&SUMPRODUCT(--(Postcodes!$A$2:$A$100<=N274)*(Postcodes!$B$2:$B$100>=N274), ROW(Postcodes!$A$2:$A$100))),\"WRONG CODE\"))","v":0},null,null,null,null,null,null,""]
[{"$f":"'Order Form'!A292","v":274},{"$f":"'Order Form'!N292","v":""},{"$f":"'Order Form'!$E$2","v":0},{"$f":"'Order Form'!$E$3","v":0},{"$f":"'Order Form'!$E$4","v":0},{"$f":"'Order Form'!$E$5","v":0},{"$f":"'Order Form'!$E$7","v":0},{"$f":"'Order Form'!$E$6","v":0},{"$f":"'Order Form'!$E$9","v":0},{"$f":"'Order Form'!$E$10 & \"\"","v":""},{"$f":"IF('Order Form'!D292=\"\",'Order Form'!C292,'Order Form'!D292)","v":0},{"$f":"'Order Form'!E292","v":0},{"$f":"'Order Form'!F292","v":0},{"$f":"'Order Form'!J292","v":0},{"$f":"'Order Form'!H292","v":0},{"$f":"'Order Form'!I292","v":0},{"$f":"'Order Form'!K292 & \"\"","v":""},{"$f":"'Order Form'!M292 & \"\"","v":""},{"$f":"'Order Form'!C292 & \"\"","v":""},{"$f":"'Order Form'!L292 & \"\"","v":""},{"$f":"'Order Form'!$E$12","v":"YES"},{"$f":"'Order Form'!$E$13","v":"ASAP (order with branding can take up to 3 business days to dispatch) Premium delivery recommended to guarantee delivery prior to Christmas, fees apply."},{"$f":"'Order Form'!$E$15","v":"FREE gift card"},{"$f":"'Order Form'!$E$16","v":"No thanks"},null,null,null,null,{"$f":"IF(N275=\"\",\"\",IFERROR(INDIRECT(\"Postcodes!$C\"&SUMPRODUCT(--(Postcodes!$A$2:$A$100<=N275)*(Postcodes!$B$2:$B$100>=N275), ROW(Postcodes!$A$2:$A$100))),\"WRONG CODE\"))","v":0},null,null,null,null,null,null,""]
[{"$f":"'Order Form'!A293","v":275},{"$f":"'Order Form'!N293","v":""},{"$f":"'Order Form'!$E$2","v":0},{"$f":"'Order Form'!$E$3","v":0},{"$f":"'Order Form'!$E$4","v":0},{"$f":"'Order Form'!$E$5","v":0},{"$f":"'Order Form'!$E$7","v":0},{"$f":"'Order Form'!$E$6","v":0},{"$f":"'Order Form'!$E$9","v":0},{"$f":"'Order Form'!$E$10 & \"\"","v":""},{"$f":"IF('Order Form'!D293=\"\",'Order Form'!C293,'Order Form'!D293)","v":0},{"$f":"'Order Form'!E293","v":0},{"$f":"'Order Form'!F293","v":0},{"$f":"'Order Form'!J293","v":0},{"$f":"'Order Form'!H293","v":0},{"$f":"'Order Form'!I293","v":0},{"$f":"'Order Form'!K293 & \"\"","v":""},{"$f":"'Order Form'!M293 & \"\"","v":""},{"$f":"'Order Form'!C293 & \"\"","v":""},{"$f":"'Order Form'!L293 & \"\"","v":""},{"$f":"'Order Form'!$E$12","v":"YES"},{"$f":"'Order Form'!$E$13","v":"ASAP (order with branding can take up to 3 business days to dispatch) Premium delivery recommended to guarantee delivery prior to Christmas, fees apply."},{"$f":"'Order Form'!$E$15","v":"FREE gift card"},{"$f":"'Order Form'!$E$16","v":"No thanks"},null,null,null,null,{"$f":"IF(N276=\"\",\"\",IFERROR(INDIRECT(\"Postcodes!$C\"&SUMPRODUCT(--(Postcodes!$A$2:$A$100<=N276)*(Postcodes!$B$2:$B$100>=N276), ROW(Postcodes!$A$2:$A$100))),\"WRONG CODE\"))","v":0},null,null,null,null,null,null,""]
[{"$f":"'Order Form'!A294","v":276},{"$f":"'Order Form'!N294","v":""},{"$f":"'Order Form'!$E$2","v":0},{"$f":"'Order Form'!$E$3","v":0},{"$f":"'Order Form'!$E$4","v":0},{"$f":"'Order Form'!$E$5","v":0},{"$f":"'Order Form'!$E$7","v":0},{"$f":"'Order Form'!$E$6","v":0},{"$f":"'Order Form'!$E$9","v":0},{"$f":"'Order Form'!$E$10 & \"\"","v":""},{"$f":"IF('Order Form'!D294=\"\",'Order Form'!C294,'Order Form'!D294)","v":0},{"$f":"'Order Form'!E294","v":0},{"$f":"'Order Form'!F294","v":0},{"$f":"'Order Form'!J294","v":0},{"$f":"'Order Form'!H294","v":0},{"$f":"'Order Form'!I294","v":0},{"$f":"'Order Form'!K294 & \"\"","v":""},{"$f":"'Order Form'!M294 & \"\"","v":""},{"$f":"'Order Form'!C294 & \"\"","v":""},{"$f":"'Order Form'!L294 & \"\"","v":""},{"$f":"'Order Form'!$E$12","v":"YES"},{"$f":"'Order Form'!$E$13","v":"ASAP (order with branding can take up to 3 business days to dispatch) Premium delivery recommended to guarantee delivery prior to Christmas, fees apply."},{"$f":"'Order Form'!$E$15","v":"FREE gift card"},{"$f":"'Order Form'!$E$16","v":"No thanks"},null,null,null,null,{"$f":"IF(N277=\"\",\"\",IFERROR(INDIRECT(\"Postcodes!$C\"&SUMPRODUCT(--(Postcodes!$A$2:$A$100<=N277)*(Postcodes!$B$2:$B$100>=N277), ROW(Postcodes!$A$2:$A$100))),\"WRONG CODE\"))","v":0},null,null,null,null,null,null,""]
[{"$f":"'Order Form'!A295","v":277},{"$f":"'Order Form'!N295","v":""},{"$f":"'Order Form'!$E$2","v":0},{"$f":"'Order Form'!$E$3","v":0},{"$f":"'Order Form'!$E$4","v":0},{"$f":"'Order Form'!$E$5","v":0},{"$f":"'Order Form'!$E$7","v":0},{"$f":"'Order Form'!$E$6","v":0},{"$f":"'Order Form'!$E$9","v":0},{"$f":"'Order Form'!$E$10 & \"\"","v":""},{"$f":"IF('Order Form'!D295=\"\",'Order Form'!C295,'Order Form'!D295)","v":0},{"$f":"'Order Form'!E295","v":0},{"$f":"'Order Form'!F295","v":0},{"$f":"'Order Form'!J295","v":0},{"$f":"'Order Form'!H295","v":0},{"$f":"'Order Form'!I295","v":0},{"$f":"'Order Form'!K295 & \"\"","v":""},{"$f":"'Order Form'!M295 & \"\"","v":""},{"$f":"'Order Form'!C295 & \"\"","v":""},{"$f":"'Order Form'!L295 & \"\"","v":""},{"$f":"'Order Form'!$E$12","v":"YES"},{"$f":"'Order Form'!$E$13","v":"ASAP (order with branding can take up to 3 business days to dispatch) Premium delivery recommended to guarantee delivery prior to Christmas, fees apply."},{"$f":"'Order Form'!$E$15","v":"FREE gift card"},{"$f":"'Order Form'!$E$16","v":"No thanks"},null,null,null,null,{"$f":"IF(N278=\"\",\"\",IFERROR(INDIRECT(\"Postcodes!$C\"&SUMPRODUCT(--(Postcodes!$A$2:$A$100<=N278)*(Postcodes!$B$2:$B$100>=N278), ROW(Postcodes!$A$2:$A$100))),\"WRONG CODE\"))","v":0},null,null,null,null,null,null,""]
[{"$f":"'Order Form'!A296","v":278},{"$f":"'Order Form'!N296","v":""},{"$f":"'Order Form'!$E$2","v":0},{"$f":"'Order Form'!$E$3","v":0},{"$f":"'Order Form'!$E$4","v":0},{"$f":"'Order Form'!$E$5","v":0},{"$f":"'Order Form'!$E$7","v":0},{"$f":"'Order Form'!$E$6","v":0},{"$f":"'Order Form'!$E$9","v":0},{"$f":"'Order Form'!$E$10 & \"\"","v":""},{"$f":"IF('Order Form'!D296=\"\",'Order Form'!C296,'Order Form'!D296)","v":0},{"$f":"'Order Form'!E296","v":0},{"$f":"'Order Form'!F296","v":0},{"$f":"'Order Form'!J296","v":0},{"$f":"'Order Form'!H296","v":0},{"$f":"'Order Form'!I296","v":0},{"$f":"'Order Form'!K296 & \"\"","v":""},{"$f":"'Order Form'!M296 & \"\"","v":""},{"$f":"'Order Form'!C296 & \"\"","v":""},{"$f":"'Order Form'!L296 & \"\"","v":""},{"$f":"'Order Form'!$E$12","v":"YES"},{"$f":"'Order Form'!$E$13","v":"ASAP (order with branding can take up to 3 business days to dispatch) Premium delivery recommended to guarantee delivery prior to Christmas, fees apply."},{"$f":"'Order Form'!$E$15","v":"FREE gift card"},{"$f":"'Order Form'!$E$16","v":"No thanks"},null,null,null,null,{"$f":"IF(N279=\"\",\"\",IFERROR(INDIRECT(\"Postcodes!$C\"&SUMPRODUCT(--(Postcodes!$A$2:$A$100<=N279)*(Postcodes!$B$2:$B$100>=N279), ROW(Postcodes!$A$2:$A$100))),\"WRONG CODE\"))","v":0},null,null,null,null,null,null,""]
[{"$f":"'Order Form'!A297","v":279},{"$f":"'Order Form'!N297","v":""},{"$f":"'Order Form'!$E$2","v":0},{"$f":"'Order Form'!$E$3","v":0},{"$f":"'Order Form'!$E$4","v":0},{"$f":"'Order Form'!$E$5","v":0},{"$f":"'Order Form'!$E$7","v":0},{"$f":"'Order Form'!$E$6","v":0},{"$f":"'Order Form'!$E$9","v":0},{"$f":"'Order Form'!$E$10 & \"\"","v":""},{"$f":"IF('Order Form'!D297=\"\",'Order Form'!C297,'Order Form'!D297)","v":0},{"$f":"'Order Form'!E297","v":0},{"$f":"'Order Form'!F297","v":0},{"$f":"'Order Form'!J297","v":0},{"$f":"'Order Form'!H297","v":0},{"$f":"'Order Form'!I297","v":0},{"$f":"'Order Form'!K297 & \"\"","v":""},{"$f":"'Order Form'!M297 & \"\"","v":""},{"$f":"'Order Form'!C297 & \"\"","v":""},{"$f":"'Order Form'!L297 & \"\"","v":""},{"$f":"'Order Form'!$E$12","v":"YES"},{"$f":"'Order Form'!$E$13","v":"ASAP (order with branding can take up to 3 business days to dispatch) Premium delivery recommended to guarantee delivery prior to Christmas, fees apply."},{"$f":"'Order Form'!$E$15","v":"FREE gift card"},{"$f":"'Order Form'!$E$16","v":"No thanks"},null,null,null,null,{"$f":"IF(N280=\"\",\"\",IFERROR(INDIRECT(\"Postcodes!$C\"&SUMPRODUCT(--(Postcodes!$A$2:$A$100<=N280)*(Postcodes!$B$2:$B$100>=N280), ROW(Postcodes!$A$2:$A$100))),\"WRONG CODE\"))","v":0},null,null,null,null,null,null,""]
[{"$f":"'Order Form'!A298","v":280},{"$f":"'Order Form'!N298","v":""},{"$f":"'Order Form'!$E$2","v":0},{"$f":"'Order Form'!$E$3","v":0},{"$f":"'Order Form'!$E$4","v":0},{"$f":"'Order Form'!$E$5","v":0},{"$f":"'Order Form'!$E$7","v":0},{"$f":"'Order Form'!$E$6","v":0},{"$f":"'Order Form'!$E$9","v":0},{"$f":"'Order Form'!$E$10 & \"\"","v":""},{"$f":"IF('Order Form'!D298=\"\",'Order Form'!C298,'Order Form'!D298)","v":0},{"$f":"'Order Form'!E298","v":0},{"$f":"'Order Form'!F298","v":0},{"$f":"'Order Form'!J298","v":0},{"$f":"'Order Form'!H298","v":0},{"$f":"'Order Form'!I298","v":0},{"$f":"'Order Form'!K298 & \"\"","v":""},{"$f":"'Order Form'!M298 & \"\"","v":""},{"$f":"'Order Form'!C298 & \"\"","v":""},{"$f":"'Order Form'!L298 & \"\"","v":""},{"$f":"'Order Form'!$E$12","v":"YES"},{"$f":"'Order Form'!$E$13","v":"ASAP (order with branding can take up to 3 business days to dispatch) Premium delivery recommended to guarantee delivery prior to Christmas, fees apply."},{"$f":"'Order Form'!$E$15","v":"FREE gift card"},{"$f":"'Order Form'!$E$16","v":"No thanks"},null,null,null,null,{"$f":"IF(N281=\"\",\"\",IFERROR(INDIRECT(\"Postcodes!$C\"&SUMPRODUCT(--(Postcodes!$A$2:$A$100<=N281)*(Postcodes!$B$2:$B$100>=N281), ROW(Postcodes!$A$2:$A$100))),\"WRONG CODE\"))","v":0},null,null,null,null,null,null,""]
[{"$f":"'Order Form'!A299","v":281},{"$f":"'Order Form'!N299","v":""},{"$f":"'Order Form'!$E$2","v":0},{"$f":"'Order Form'!$E$3","v":0},{"$f":"'Order Form'!$E$4","v":0},{"$f":"'Order Form'!$E$5","v":0},{"$f":"'Order Form'!$E$7","v":0},{"$f":"'Order Form'!$E$6","v":0},{"$f":"'Order Form'!$E$9","v":0},{"$f":"'Order Form'!$E$10 & \"\"","v":""},{"$f":"IF('Order Form'!D299=\"\",'Order Form'!C299,'Order Form'!D299)","v":0},{"$f":"'Order Form'!E299","v":0},{"$f":"'Order Form'!F299","v":0},{"$f":"'Order Form'!J299","v":0},{"$f":"'Order Form'!H299","v":0},{"$f":"'Order Form'!I299","v":0},{"$f":"'Order Form'!K299 & \"\"","v":""},{"$f":"'Order Form'!M299 & \"\"","v":""},{"$f":"'Order Form'!C299 & \"\"","v":""},{"$f":"'Order Form'!L299 & \"\"","v":""},{"$f":"'Order Form'!$E$12","v":"YES"},{"$f":"'Order Form'!$E$13","v":"ASAP (order with branding can take up to 3 business days to dispatch) Premium delivery recommended to guarantee delivery prior to Christmas, fees apply."},{"$f":"'Order Form'!$E$15","v":"FREE gift card"},{"$f":"'Order Form'!$E$16","v":"No thanks"},null,null,null,null,{"$f":"IF(N282=\"\",\"\",IFERROR(INDIRECT(\"Postcodes!$C\"&SUMPRODUCT(--(Postcodes!$A$2:$A$100<=N282)*(Postcodes!$B$2:$B$100>=N282), ROW(Postcodes!$A$2:$A$100))),\"WRONG CODE\"))","v":0},null,null,null,null,null,null,""]
[{"$f":"'Order Form'!A300","v":282},{"$f":"'Order Form'!N300","v":""},{"$f":"'Order Form'!$E$2","v":0},{"$f":"'Order Form'!$E$3","v":0},{"$f":"'Order Form'!$E$4","v":0},{"$f":"'Order Form'!$E$5","v":0},{"$f":"'Order Form'!$E$7","v":0},{"$f":"'Order Form'!$E$6","v":0},{"$f":"'Order Form'!$E$9","v":0},{"$f":"'Order Form'!$E$10 & \"\"","v":""},{"$f":"IF('Order Form'!D300=\"\",'Order Form'!C300,'Order Form'!D300)","v":0},{"$f":"'Order Form'!E300","v":0},{"$f":"'Order Form'!F300","v":0},{"$f":"'Order Form'!J300","v":0},{"$f":"'Order Form'!H300","v":0},{"$f":"'Order Form'!I300","v":0},{"$f":"'Order Form'!K300 & \"\"","v":""},{"$f":"'Order Form'!M300 & \"\"","v":""},{"$f":"'Order Form'!C300 & \"\"","v":""},{"$f":"'Order Form'!L300 & \"\"","v":""},{"$f":"'Order Form'!$E$12","v":"YES"},{"$f":"'Order Form'!$E$13","v":"ASAP (order with branding can take up to 3 business days to dispatch) Premium delivery recommended to guarantee delivery prior to Christmas, fees apply."},{"$f":"'Order Form'!$E$15","v":"FREE gift card"},{"$f":"'Order Form'!$E$16","v":"No thanks"},null,null,null,null,{"$f":"IF(N283=\"\",\"\",IFERROR(INDIRECT(\"Postcodes!$C\"&SUMPRODUCT(--(Postcodes!$A$2:$A$100<=N283)*(Postcodes!$B$2:$B$100>=N283), ROW(Postcodes!$A$2:$A$100))),\"WRONG CODE\"))","v":0},null,null,null,null,null,null,""]
[{"$f":"'Order Form'!A301","v":283},{"$f":"'Order Form'!N301","v":""},{"$f":"'Order Form'!$E$2","v":0},{"$f":"'Order Form'!$E$3","v":0},{"$f":"'Order Form'!$E$4","v":0},{"$f":"'Order Form'!$E$5","v":0},{"$f":"'Order Form'!$E$7","v":0},{"$f":"'Order Form'!$E$6","v":0},{"$f":"'Order Form'!$E$9","v":0},{"$f":"'Order Form'!$E$10 & \"\"","v":""},{"$f":"IF('Order Form'!D301=\"\",'Order Form'!C301,'Order Form'!D301)","v":0},{"$f":"'Order Form'!E301","v":0},{"$f":"'Order Form'!F301","v":0},{"$f":"'Order Form'!J301","v":0},{"$f":"'Order Form'!H301","v":0},{"$f":"'Order Form'!I301","v":0},{"$f":"'Order Form'!K301 & \"\"","v":""},{"$f":"'Order Form'!M301 & \"\"","v":""},{"$f":"'Order Form'!C301 & \"\"","v":""},{"$f":"'Order Form'!L301 & \"\"","v":""},{"$f":"'Order Form'!$E$12","v":"YES"},{"$f":"'Order Form'!$E$13","v":"ASAP (order with branding can take up to 3 business days to dispatch) Premium delivery recommended to guarantee delivery prior to Christmas, fees apply."},{"$f":"'Order Form'!$E$15","v":"FREE gift card"},{"$f":"'Order Form'!$E$16","v":"No thanks"},null,null,null,null,{"$f":"IF(N284=\"\",\"\",IFERROR(INDIRECT(\"Postcodes!$C\"&SUMPRODUCT(--(Postcodes!$A$2:$A$100<=N284)*(Postcodes!$B$2:$B$100>=N284), ROW(Postcodes!$A$2:$A$100))),\"WRONG CODE\"))","v":0},null,null,null,null,null,null,""]
[{"$f":"'Order Form'!A302","v":284},{"$f":"'Order Form'!N302","v":""},{"$f":"'Order Form'!$E$2","v":0},{"$f":"'Order Form'!$E$3","v":0},{"$f":"'Order Form'!$E$4","v":0},{"$f":"'Order Form'!$E$5","v":0},{"$f":"'Order Form'!$E$7","v":0},{"$f":"'Order Form'!$E$6","v":0},{"$f":"'Order Form'!$E$9","v":0},{"$f":"'Order Form'!$E$10 & \"\"","v":""},{"$f":"IF('Order Form'!D302=\"\",'Order Form'!C302,'Order Form'!D302)","v":0},{"$f":"'Order Form'!E302","v":0},{"$f":"'Order Form'!F302","v":0},{"$f":"'Order Form'!J302","v":0},{"$f":"'Order Form'!H302","v":0},{"$f":"'Order Form'!I302","v":0},{"$f":"'Order Form'!K302 & \"\"","v":""},{"$f":"'Order Form'!M302 & \"\"","v":""},{"$f":"'Order Form'!C302 & \"\"","v":""},{"$f":"'Order Form'!L302 & \"\"","v":""},{"$f":"'Order Form'!$E$12","v":"YES"},{"$f":"'Order Form'!$E$13","v":"ASAP (order with branding can take up to 3 business days to dispatch) Premium delivery recommended to guarantee delivery prior to Christmas, fees apply."},{"$f":"'Order Form'!$E$15","v":"FREE gift card"},{"$f":"'Order Form'!$E$16","v":"No thanks"},null,null,null,null,{"$f":"IF(N285=\"\",\"\",IFERROR(INDIRECT(\"Postcodes!$C\"&SUMPRODUCT(--(Postcodes!$A$2:$A$100<=N285)*(Postcodes!$B$2:$B$100>=N285), ROW(Postcodes!$A$2:$A$100))),\"WRONG CODE\"))","v":0},null,null,null,null,null,null,""]
[{"$f":"'Order Form'!A303","v":285},{"$f":"'Order Form'!N303","v":""},{"$f":"'Order Form'!$E$2","v":0},{"$f":"'Order Form'!$E$3","v":0},{"$f":"'Order Form'!$E$4","v":0},{"$f":"'Order Form'!$E$5","v":0},{"$f":"'Order Form'!$E$7","v":0},{"$f":"'Order Form'!$E$6","v":0},{"$f":"'Order Form'!$E$9","v":0},{"$f":"'Order Form'!$E$10 & \"\"","v":""},{"$f":"IF('Order Form'!D303=\"\",'Order Form'!C303,'Order Form'!D303)","v":0},{"$f":"'Order Form'!E303","v":0},{"$f":"'Order Form'!F303","v":0},{"$f":"'Order Form'!J303","v":0},{"$f":"'Order Form'!H303","v":0},{"$f":"'Order Form'!I303","v":0},{"$f":"'Order Form'!K303 & \"\"","v":""},{"$f":"'Order Form'!M303 & \"\"","v":""},{"$f":"'Order Form'!C303 & \"\"","v":""},{"$f":"'Order Form'!L303 & \"\"","v":""},{"$f":"'Order Form'!$E$12","v":"YES"},{"$f":"'Order Form'!$E$13","v":"ASAP (order with branding can take up to 3 business days to dispatch) Premium delivery recommended to guarantee delivery prior to Christmas, fees apply."},{"$f":"'Order Form'!$E$15","v":"FREE gift card"},{"$f":"'Order Form'!$E$16","v":"No thanks"},null,null,null,null,{"$f":"IF(N286=\"\",\"\",IFERROR(INDIRECT(\"Postcodes!$C\"&SUMPRODUCT(--(Postcodes!$A$2:$A$100<=N286)*(Postcodes!$B$2:$B$100>=N286), ROW(Postcodes!$A$2:$A$100))),\"WRONG CODE\"))","v":0},null,null,null,null,null,null,""]
[{"$f":"'Order Form'!A304","v":286},{"$f":"'Order Form'!N304","v":""},{"$f":"'Order Form'!$E$2","v":0},{"$f":"'Order Form'!$E$3","v":0},{"$f":"'Order Form'!$E$4","v":0},{"$f":"'Order Form'!$E$5","v":0},{"$f":"'Order Form'!$E$7","v":0},{"$f":"'Order Form'!$E$6","v":0},{"$f":"'Order Form'!$E$9","v":0},{"$f":"'Order Form'!$E$10 & \"\"","v":""},{"$f":"IF('Order Form'!D304=\"\",'Order Form'!C304,'Order Form'!D304)","v":0},{"$f":"'Order Form'!E304","v":0},{"$f":"'Order Form'!F304","v":0},{"$f":"'Order Form'!J304","v":0},{"$f":"'Order Form'!H304","v":0},{"$f":"'Order Form'!I304","v":0},{"$f":"'Order Form'!K304 & \"\"","v":""},{"$f":"'Order Form'!M304 & \"\"","v":""},{"$f":"'Order Form'!C304 & \"\"","v":""},{"$f":"'Order Form'!L304 & \"\"","v":""},{"$f":"'Order Form'!$E$12","v":"YES"},{"$f":"'Order Form'!$E$13","v":"ASAP (order with branding can take up to 3 business days to dispatch) Premium delivery recommended to guarantee delivery prior to Christmas, fees apply."},{"$f":"'Order Form'!$E$15","v":"FREE gift card"},{"$f":"'Order Form'!$E$16","v":"No thanks"},null,null,null,null,{"$f":"IF(N287=\"\",\"\",IFERROR(INDIRECT(\"Postcodes!$C\"&SUMPRODUCT(--(Postcodes!$A$2:$A$100<=N287)*(Postcodes!$B$2:$B$100>=N287), ROW(Postcodes!$A$2:$A$100))),\"WRONG CODE\"))","v":0},null,null,null,null,null,null,""]
[{"$f":"'Order Form'!A305","v":287},{"$f":"'Order Form'!N305","v":""},{"$f":"'Order Form'!$E$2","v":0},{"$f":"'Order Form'!$E$3","v":0},{"$f":"'Order Form'!$E$4","v":0},{"$f":"'Order Form'!$E$5","v":0},{"$f":"'Order Form'!$E$7","v":0},{"$f":"'Order Form'!$E$6","v":0},{"$f":"'Order Form'!$E$9","v":0},{"$f":"'Order Form'!$E$10 & \"\"","v":""},{"$f":"IF('Order Form'!D305=\"\",'Order Form'!C305,'Order Form'!D305)","v":0},{"$f":"'Order Form'!E305","v":0},{"$f":"'Order Form'!F305","v":0},{"$f":"'Order Form'!J305","v":0},{"$f":"'Order Form'!H305","v":0},{"$f":"'Order Form'!I305","v":0},{"$f":"'Order Form'!K305 & \"\"","v":""},{"$f":"'Order Form'!M305 & \"\"","v":""},{"$f":"'Order Form'!C305 & \"\"","v":""},{"$f":"'Order Form'!L305 & \"\"","v":""},{"$f":"'Order Form'!$E$12","v":"YES"},{"$f":"'Order Form'!$E$13","v":"ASAP (order with branding can take up to 3 business days to dispatch) Premium delivery recommended to guarantee delivery prior to Christmas, fees apply."},{"$f":"'Order Form'!$E$15","v":"FREE gift card"},{"$f":"'Order Form'!$E$16","v":"No thanks"},null,null,null,null,{"$f":"IF(N288=\"\",\"\",IFERROR(INDIRECT(\"Postcodes!$C\"&SUMPRODUCT(--(Postcodes!$A$2:$A$100<=N288)*(Postcodes!$B$2:$B$100>=N288), ROW(Postcodes!$A$2:$A$100))),\"WRONG CODE\"))","v":0},null,null,null,null,null,null,""]
[{"$f":"'Order Form'!A306","v":288},{"$f":"'Order Form'!N306","v":""},{"$f":"'Order Form'!$E$2","v":0},{"$f":"'Order Form'!$E$3","v":0},{"$f":"'Order Form'!$E$4","v":0},{"$f":"'Order Form'!$E$5","v":0},{"$f":"'Order Form'!$E$7","v":0},{"$f":"'Order Form'!$E$6","v":0},{"$f":"'Order Form'!$E$9","v":0},{"$f":"'Order Form'!$E$10 & \"\"","v":""},{"$f":"IF('Order Form'!D306=\"\",'Order Form'!C306,'Order Form'!D306)","v":0},{"$f":"'Order Form'!E306","v":0},{"$f":"'Order Form'!F306","v":0},{"$f":"'Order Form'!J306","v":0},{"$f":"'Order Form'!H306","v":0},{"$f":"'Order Form'!I306","v":0},{"$f":"'Order Form'!K306 & \"\"","v":""},{"$f":"'Order Form'!M306 & \"\"","v":""},{"$f":"'Order Form'!C306 & \"\"","v":""},{"$f":"'Order Form'!L306 & \"\"","v":""},{"$f":"'Order Form'!$E$12","v":"YES"},{"$f":"'Order Form'!$E$13","v":"ASAP (order with branding can take up to 3 business days to dispatch) Premium delivery recommended to guarantee delivery prior to Christmas, fees apply."},{"$f":"'Order Form'!$E$15","v":"FREE gift card"},{"$f":"'Order Form'!$E$16","v":"No thanks"},null,null,null,null,{"$f":"IF(N289=\"\",\"\",IFERROR(INDIRECT(\"Postcodes!$C\"&SUMPRODUCT(--(Postcodes!$A$2:$A$100<=N289)*(Postcodes!$B$2:$B$100>=N289), ROW(Postcodes!$A$2:$A$100))),\"WRONG CODE\"))","v":0},null,null,null,null,null,null,""]
[{"$f":"'Order Form'!A307","v":289},{"$f":"'Order Form'!N307","v":""},{"$f":"'Order Form'!$E$2","v":0},{"$f":"'Order Form'!$E$3","v":0},{"$f":"'Order Form'!$E$4","v":0},{"$f":"'Order Form'!$E$5","v":0},{"$f":"'Order Form'!$E$7","v":0},{"$f":"'Order Form'!$E$6","v":0},{"$f":"'Order Form'!$E$9","v":0},{"$f":"'Order Form'!$E$10 & \"\"","v":""},{"$f":"IF('Order Form'!D307=\"\",'Order Form'!C307,'Order Form'!D307)","v":0},{"$f":"'Order Form'!E307","v":0},{"$f":"'Order Form'!F307","v":0},{"$f":"'Order Form'!J307","v":0},{"$f":"'Order Form'!H307","v":0},{"$f":"'Order Form'!I307","v":0},{"$f":"'Order Form'!K307 & \"\"","v":""},{"$f":"'Order Form'!M307 & \"\"","v":""},{"$f":"'Order Form'!C307 & \"\"","v":""},{"$f":"'Order Form'!L307 & \"\"","v":""},{"$f":"'Order Form'!$E$12","v":"YES"},{"$f":"'Order Form'!$E$13","v":"ASAP (order with branding can take up to 3 business days to dispatch) Premium delivery recommended to guarantee delivery prior to Christmas, fees apply."},{"$f":"'Order Form'!$E$15","v":"FREE gift card"},{"$f":"'Order Form'!$E$16","v":"No thanks"},null,null,null,null,{"$f":"IF(N290=\"\",\"\",IFERROR(INDIRECT(\"Postcodes!$C\"&SUMPRODUCT(--(Postcodes!$A$2:$A$100<=N290)*(Postcodes!$B$2:$B$100>=N290), ROW(Postcodes!$A$2:$A$100))),\"WRONG CODE\"))","v":0},null,null,null,null,null,null,""]
[{"$f":"'Order Form'!A308","v":290},{"$f":"'Order Form'!N308","v":""},{"$f":"'Order Form'!$E$2","v":0},{"$f":"'Order Form'!$E$3","v":0},{"$f":"'Order Form'!$E$4","v":0},{"$f":"'Order Form'!$E$5","v":0},{"$f":"'Order Form'!$E$7","v":0},{"$f":"'Order Form'!$E$6","v":0},{"$f":"'Order Form'!$E$9","v":0},{"$f":"'Order Form'!$E$10 & \"\"","v":""},{"$f":"IF('Order Form'!D308=\"\",'Order Form'!C308,'Order Form'!D308)","v":0},{"$f":"'Order Form'!E308","v":0},{"$f":"'Order Form'!F308","v":0},{"$f":"'Order Form'!J308","v":0},{"$f":"'Order Form'!H308","v":0},{"$f":"'Order Form'!I308","v":0},{"$f":"'Order Form'!K308 & \"\"","v":""},{"$f":"'Order Form'!M308 & \"\"","v":""},{"$f":"'Order Form'!C308 & \"\"","v":""},{"$f":"'Order Form'!L308 & \"\"","v":""},{"$f":"'Order Form'!$E$12","v":"YES"},{"$f":"'Order Form'!$E$13","v":"ASAP (order with branding can take up to 3 business days to dispatch) Premium delivery recommended to guarantee delivery prior to Christmas, fees apply."},{"$f":"'Order Form'!$E$15","v":"FREE gift card"},{"$f":"'Order Form'!$E$16","v":"No thanks"},null,null,null,null,{"$f":"IF(N291=\"\",\"\",IFERROR(INDIRECT(\"Postcodes!$C\"&SUMPRODUCT(--(Postcodes!$A$2:$A$100<=N291)*(Postcodes!$B$2:$B$100>=N291), ROW(Postcodes!$A$2:$A$100))),\"WRONG CODE\"))","v":0},null,null,null,null,null,null,""]
[{"$f":"'Order Form'!A309","v":291},{"$f":"'Order Form'!N309","v":""},{"$f":"'Order Form'!$E$2","v":0},{"$f":"'Order Form'!$E$3","v":0},{"$f":"'Order Form'!$E$4","v":0},{"$f":"'Order Form'!$E$5","v":0},{"$f":"'Order Form'!$E$7","v":0},{"$f":"'Order Form'!$E$6","v":0},{"$f":"'Order Form'!$E$9","v":0},{"$f":"'Order Form'!$E$10 & \"\"","v":""},{"$f":"IF('Order Form'!D309=\"\",'Order Form'!C309,'Order Form'!D309)","v":0},{"$f":"'Order Form'!E309","v":0},{"$f":"'Order Form'!F309","v":0},{"$f":"'Order Form'!J309","v":0},{"$f":"'Order Form'!H309","v":0},{"$f":"'Order Form'!I309","v":0},{"$f":"'Order Form'!K309 & \"\"","v":""},{"$f":"'Order Form'!M309 & \"\"","v":""},{"$f":"'Order Form'!C309 & \"\"","v":""},{"$f":"'Order Form'!L309 & \"\"","v":""},{"$f":"'Order Form'!$E$12","v":"YES"},{"$f":"'Order Form'!$E$13","v":"ASAP (order with branding can take up to 3 business days to dispatch) Premium delivery recommended to guarantee delivery prior to Christmas, fees apply."},{"$f":"'Order Form'!$E$15","v":"FREE gift card"},{"$f":"'Order Form'!$E$16","v":"No thanks"},null,null,null,null,{"$f":"IF(N292=\"\",\"\",IFERROR(INDIRECT(\"Postcodes!$C\"&SUMPRODUCT(--(Postcodes!$A$2:$A$100<=N292)*(Postcodes!$B$2:$B$100>=N292), ROW(Postcodes!$A$2:$A$100))),\"WRONG CODE\"))","v":0},null,null,null,null,null,null,""]
[{"$f":"'Order Form'!A310","v":292},{"$f":"'Order Form'!N310","v":""},{"$f":"'Order Form'!$E$2","v":0},{"$f":"'Order Form'!$E$3","v":0},{"$f":"'Order Form'!$E$4","v":0},{"$f":"'Order Form'!$E$5","v":0},{"$f":"'Order Form'!$E$7","v":0},{"$f":"'Order Form'!$E$6","v":0},{"$f":"'Order Form'!$E$9","v":0},{"$f":"'Order Form'!$E$10 & \"\"","v":""},{"$f":"IF('Order Form'!D310=\"\",'Order Form'!C310,'Order Form'!D310)","v":0},{"$f":"'Order Form'!E310","v":0},{"$f":"'Order Form'!F310","v":0},{"$f":"'Order Form'!J310","v":0},{"$f":"'Order Form'!H310","v":0},{"$f":"'Order Form'!I310","v":0},{"$f":"'Order Form'!K310 & \"\"","v":""},{"$f":"'Order Form'!M310 & \"\"","v":""},{"$f":"'Order Form'!C310 & \"\"","v":""},{"$f":"'Order Form'!L310 & \"\"","v":""},{"$f":"'Order Form'!$E$12","v":"YES"},{"$f":"'Order Form'!$E$13","v":"ASAP (order with branding can take up to 3 business days to dispatch) Premium delivery recommended to guarantee delivery prior to Christmas, fees apply."},{"$f":"'Order Form'!$E$15","v":"FREE gift card"},{"$f":"'Order Form'!$E$16","v":"No thanks"},null,null,null,null,{"$f":"IF(N293=\"\",\"\",IFERROR(INDIRECT(\"Postcodes!$C\"&SUMPRODUCT(--(Postcodes!$A$2:$A$100<=N293)*(Postcodes!$B$2:$B$100>=N293), ROW(Postcodes!$A$2:$A$100))),\"WRONG CODE\"))","v":0},null,null,null,null,null,null,""]
[{"$f":"'Order Form'!A311","v":293},{"$f":"'Order Form'!N311","v":""},{"$f":"'Order Form'!$E$2","v":0},{"$f":"'Order Form'!$E$3","v":0},{"$f":"'Order Form'!$E$4","v":0},{"$f":"'Order Form'!$E$5","v":0},{"$f":"'Order Form'!$E$7","v":0},{"$f":"'Order Form'!$E$6","v":0},{"$f":"'Order Form'!$E$9","v":0},{"$f":"'Order Form'!$E$10 & \"\"","v":""},{"$f":"IF('Order Form'!D311=\"\",'Order Form'!C311,'Order Form'!D311)","v":0},{"$f":"'Order Form'!E311","v":0},{"$f":"'Order Form'!F311","v":0},{"$f":"'Order Form'!J311","v":0},{"$f":"'Order Form'!H311","v":0},{"$f":"'Order Form'!I311","v":0},{"$f":"'Order Form'!K311 & \"\"","v":""},{"$f":"'Order Form'!M311 & \"\"","v":""},{"$f":"'Order Form'!C311 & \"\"","v":""},{"$f":"'Order Form'!L311 & \"\"","v":""},{"$f":"'Order Form'!$E$12","v":"YES"},{"$f":"'Order Form'!$E$13","v":"ASAP (order with branding can take up to 3 business days to dispatch) Premium delivery recommended to guarantee delivery prior to Christmas, fees apply."},{"$f":"'Order Form'!$E$15","v":"FREE gift card"},{"$f":"'Order Form'!$E$16","v":"No thanks"},null,null,null,null,{"$f":"IF(N294=\"\",\"\",IFERROR(INDIRECT(\"Postcodes!$C\"&SUMPRODUCT(--(Postcodes!$A$2:$A$100<=N294)*(Postcodes!$B$2:$B$100>=N294), ROW(Postcodes!$A$2:$A$100))),\"WRONG CODE\"))","v":0},null,null,null,null,null,null,""]
[{"$f":"'Order Form'!A312","v":294},{"$f":"'Order Form'!N312","v":""},{"$f":"'Order Form'!$E$2","v":0},{"$f":"'Order Form'!$E$3","v":0},{"$f":"'Order Form'!$E$4","v":0},{"$f":"'Order Form'!$E$5","v":0},{"$f":"'Order Form'!$E$7","v":0},{"$f":"'Order Form'!$E$6","v":0},{"$f":"'Order Form'!$E$9","v":0},{"$f":"'Order Form'!$E$10 & \"\"","v":""},{"$f":"IF('Order Form'!D312=\"\",'Order Form'!C312,'Order Form'!D312)","v":0},{"$f":"'Order Form'!E312","v":0},{"$f":"'Order Form'!F312","v":0},{"$f":"'Order Form'!J312","v":0},{"$f":"'Order Form'!H312","v":0},{"$f":"'Order Form'!I312","v":0},{"$f":"'Order Form'!K312 & \"\"","v":""},{"$f":"'Order Form'!M312 & \"\"","v":""},{"$f":"'Order Form'!C312 & \"\"","v":""},{"$f":"'Order Form'!L312 & \"\"","v":""},{"$f":"'Order Form'!$E$12","v":"YES"},{"$f":"'Order Form'!$E$13","v":"ASAP (order with branding can take up to 3 business days to dispatch) Premium delivery recommended to guarantee delivery prior to Christmas, fees apply."},{"$f":"'Order Form'!$E$15","v":"FREE gift card"},{"$f":"'Order Form'!$E$16","v":"No thanks"},null,null,null,null,{"$f":"IF(N295=\"\",\"\",IFERROR(INDIRECT(\"Postcodes!$C\"&SUMPRODUCT(--(Postcodes!$A$2:$A$100<=N295)*(Postcodes!$B$2:$B$100>=N295), ROW(Postcodes!$A$2:$A$100))),\"WRONG CODE\"))","v":0},null,null,null,null,null,null,""]
[{"$f":"'Order Form'!A313","v":295},{"$f":"'Order Form'!N313","v":""},{"$f":"'Order Form'!$E$2","v":0},{"$f":"'Order Form'!$E$3","v":0},{"$f":"'Order Form'!$E$4","v":0},{"$f":"'Order Form'!$E$5","v":0},{"$f":"'Order Form'!$E$7","v":0},{"$f":"'Order Form'!$E$6","v":0},{"$f":"'Order Form'!$E$9","v":0},{"$f":"'Order Form'!$E$10 & \"\"","v":""},{"$f":"IF('Order Form'!D313=\"\",'Order Form'!C313,'Order Form'!D313)","v":0},{"$f":"'Order Form'!E313","v":0},{"$f":"'Order Form'!F313","v":0},{"$f":"'Order Form'!J313","v":0},{"$f":"'Order Form'!H313","v":0},{"$f":"'Order Form'!I313","v":0},{"$f":"'Order Form'!K313 & \"\"","v":""},{"$f":"'Order Form'!M313 & \"\"","v":""},{"$f":"'Order Form'!C313 & \"\"","v":""},{"$f":"'Order Form'!L313 & \"\"","v":""},{"$f":"'Order Form'!$E$12","v":"YES"},{"$f":"'Order Form'!$E$13","v":"ASAP (order with branding can take up to 3 business days to dispatch) Premium delivery recommended to guarantee delivery prior to Christmas, fees apply."},{"$f":"'Order Form'!$E$15","v":"FREE gift card"},{"$f":"'Order Form'!$E$16","v":"No thanks"},null,null,null,null,{"$f":"IF(N296=\"\",\"\",IFERROR(INDIRECT(\"Postcodes!$C\"&SUMPRODUCT(--(Postcodes!$A$2:$A$100<=N296)*(Postcodes!$B$2:$B$100>=N296), ROW(Postcodes!$A$2:$A$100))),\"WRONG CODE\"))","v":0},null,null,null,null,null,null,""]
[{"$f":"'Order Form'!A314","v":296},{"$f":"'Order Form'!N314","v":""},{"$f":"'Order Form'!$E$2","v":0},{"$f":"'Order Form'!$E$3","v":0},{"$f":"'Order Form'!$E$4","v":0},{"$f":"'Order Form'!$E$5","v":0},{"$f":"'Order Form'!$E$7","v":0},{"$f":"'Order Form'!$E$6","v":0},{"$f":"'Order Form'!$E$9","v":0},{"$f":"'Order Form'!$E$10 & \"\"","v":""},{"$f":"IF('Order Form'!D314=\"\",'Order Form'!C314,'Order Form'!D314)","v":0},{"$f":"'Order Form'!E314","v":0},{"$f":"'Order Form'!F314","v":0},{"$f":"'Order Form'!J314","v":0},{"$f":"'Order Form'!H314","v":0},{"$f":"'Order Form'!I314","v":0},{"$f":"'Order Form'!K314 & \"\"","v":""},{"$f":"'Order Form'!M314 & \"\"","v":""},{"$f":"'Order Form'!C314 & \"\"","v":""},{"$f":"'Order Form'!L314 & \"\"","v":""},{"$f":"'Order Form'!$E$12","v":"YES"},{"$f":"'Order Form'!$E$13","v":"ASAP (order with branding can take up to 3 business days to dispatch) Premium delivery recommended to guarantee delivery prior to Christmas, fees apply."},{"$f":"'Order Form'!$E$15","v":"FREE gift card"},{"$f":"'Order Form'!$E$16","v":"No thanks"},null,null,null,null,{"$f":"IF(N297=\"\",\"\",IFERROR(INDIRECT(\"Postcodes!$C\"&SUMPRODUCT(--(Postcodes!$A$2:$A$100<=N297)*(Postcodes!$B$2:$B$100>=N297), ROW(Postcodes!$A$2:$A$100))),\"WRONG CODE\"))","v":0},null,null,null,null,null,null,""]
[{"$f":"'Order Form'!A315","v":297},{"$f":"'Order Form'!N315","v":""},{"$f":"'Order Form'!$E$2","v":0},{"$f":"'Order Form'!$E$3","v":0},{"$f":"'Order Form'!$E$4","v":0},{"$f":"'Order Form'!$E$5","v":0},{"$f":"'Order Form'!$E$7","v":0},{"$f":"'Order Form'!$E$6","v":0},{"$f":"'Order Form'!$E$9","v":0},{"$f":"'Order Form'!$E$10 & \"\"","v":""},{"$f":"IF('Order Form'!D315=\"\",'Order Form'!C315,'Order Form'!D315)","v":0},{"$f":"'Order Form'!E315","v":0},{"$f":"'Order Form'!F315","v":0},{"$f":"'Order Form'!J315","v":0},{"$f":"'Order Form'!H315","v":0},{"$f":"'Order Form'!I315","v":0},{"$f":"'Order Form'!K315 & \"\"","v":""},{"$f":"'Order Form'!M315 & \"\"","v":""},{"$f":"'Order Form'!C315 & \"\"","v":""},{"$f":"'Order Form'!L315 & \"\"","v":""},{"$f":"'Order Form'!$E$12","v":"YES"},{"$f":"'Order Form'!$E$13","v":"ASAP (order with branding can take up to 3 business days to dispatch) Premium delivery recommended to guarantee delivery prior to Christmas, fees apply."},{"$f":"'Order Form'!$E$15","v":"FREE gift card"},{"$f":"'Order Form'!$E$16","v":"No thanks"},null,null,null,null,{"$f":"IF(N298=\"\",\"\",IFERROR(INDIRECT(\"Postcodes!$C\"&SUMPRODUCT(--(Postcodes!$A$2:$A$100<=N298)*(Postcodes!$B$2:$B$100>=N298), ROW(Postcodes!$A$2:$A$100))),\"WRONG CODE\"))","v":0},null,null,null,null,null,null,""]
[{"$f":"'Order Form'!A316","v":298},{"$f":"'Order Form'!N316","v":""},{"$f":"'Order Form'!$E$2","v":0},{"$f":"'Order Form'!$E$3","v":0},{"$f":"'Order Form'!$E$4","v":0},{"$f":"'Order Form'!$E$5","v":0},{"$f":"'Order Form'!$E$7","v":0},{"$f":"'Order Form'!$E$6","v":0},{"$f":"'Order Form'!$E$9","v":0},{"$f":"'Order Form'!$E$10 & \"\"","v":""},{"$f":"IF('Order Form'!D316=\"\",'Order Form'!C316,'Order Form'!D316)","v":0},{"$f":"'Order Form'!E316","v":0},{"$f":"'Order Form'!F316","v":0},{"$f":"'Order Form'!J316","v":0},{"$f":"'Order Form'!H316","v":0},{"$f":"'Order Form'!I316","v":0},{"$f":"'Order Form'!K316 & \"\"","v":""},{"$f":"'Order Form'!M316 & \"\"","v":""},{"$f":"'Order Form'!C316 & \"\"","v":""},{"$f":"'Order Form'!L316 & \"\"","v":""},{"$f":"'Order Form'!$E$12","v":"YES"},{"$f":"'Order Form'!$E$13","v":"ASAP (order with branding can take up to 3 business days to dispatch) Premium delivery recommended to guarantee delivery prior to Christmas, fees apply."},{"$f":"'Order Form'!$E$15","v":"FREE gift card"},{"$f":"'Order Form'!$E$16","v":"No thanks"},null,null,null,null,{"$f":"IF(N299=\"\",\"\",IFERROR(INDIRECT(\"Postcodes!$C\"&SUMPRODUCT(--(Postcodes!$A$2:$A$100<=N299)*(Postcodes!$B$2:$B$100>=N299), ROW(Postcodes!$A$2:$A$100))),\"WRONG CODE\"))","v":0},null,null,null,null,null,null,""]
[{"$f":"'Order Form'!A317","v":299},{"$f":"'Order Form'!N317","v":""},{"$f":"'Order Form'!$E$2","v":0},{"$f":"'Order Form'!$E$3","v":0},{"$f":"'Order Form'!$E$4","v":0},{"$f":"'Order Form'!$E$5","v":0},{"$f":"'Order Form'!$E$7","v":0},{"$f":"'Order Form'!$E$6","v":0},{"$f":"'Order Form'!$E$9","v":0},{"$f":"'Order Form'!$E$10 & \"\"","v":""},{"$f":"IF('Order Form'!D317=\"\",'Order Form'!C317,'Order Form'!D317)","v":0},{"$f":"'Order Form'!E317","v":0},{"$f":"'Order Form'!F317","v":0},{"$f":"'Order Form'!J317","v":0},{"$f":"'Order Form'!H317","v":0},{"$f":"'Order Form'!I317","v":0},{"$f":"'Order Form'!K317 & \"\"","v":""},{"$f":"'Order Form'!M317 & \"\"","v":""},{"$f":"'Order Form'!C317 & \"\"","v":""},{"$f":"'Order Form'!L317 & \"\"","v":""},{"$f":"'Order Form'!$E$12","v":"YES"},{"$f":"'Order Form'!$E$13","v":"ASAP (order with branding can take up to 3 business days to dispatch) Premium delivery recommended to guarantee delivery prior to Christmas, fees apply."},{"$f":"'Order Form'!$E$15","v":"FREE gift card"},{"$f":"'Order Form'!$E$16","v":"No thanks"},null,null,null,null,{"$f":"IF(N300=\"\",\"\",IFERROR(INDIRECT(\"Postcodes!$C\"&SUMPRODUCT(--(Postcodes!$A$2:$A$100<=N300)*(Postcodes!$B$2:$B$100>=N300), ROW(Postcodes!$A$2:$A$100))),\"WRONG CODE\"))","v":0},null,null,null,null,null,null,""]
[{"$f":"'Order Form'!A318","v":300},{"$f":"'Order Form'!N318","v":""},{"$f":"'Order Form'!$E$2","v":0},{"$f":"'Order Form'!$E$3","v":0},{"$f":"'Order Form'!$E$4","v":0},{"$f":"'Order Form'!$E$5","v":0},{"$f":"'Order Form'!$E$7","v":0},{"$f":"'Order Form'!$E$6","v":0},{"$f":"'Order Form'!$E$9","v":0},{"$f":"'Order Form'!$E$10 & \"\"","v":""},{"$f":"IF('Order Form'!D318=\"\",'Order Form'!C318,'Order Form'!D318)","v":0},{"$f":"'Order Form'!E318","v":0},{"$f":"'Order Form'!F318","v":0},{"$f":"'Order Form'!J318","v":0},{"$f":"'Order Form'!H318","v":0},{"$f":"'Order Form'!I318","v":0},{"$f":"'Order Form'!K318 & \"\"","v":""},{"$f":"'Order Form'!M318 & \"\"","v":""},{"$f":"'Order Form'!C318 & \"\"","v":""},{"$f":"'Order Form'!L318 & \"\"","v":""},{"$f":"'Order Form'!$E$12","v":"YES"},{"$f":"'Order Form'!$E$13","v":"ASAP (order with branding can take up to 3 business days to dispatch) Premium delivery recommended to guarantee delivery prior to Christmas, fees apply."},{"$f":"'Order Form'!$E$15","v":"FREE gift card"},{"$f":"'Order Form'!$E$16","v":"No thanks"},null,null,null,null,{"$f":"IF(N301=\"\",\"\",IFERROR(INDIRECT(\"Postcodes!$C\"&SUMPRODUCT(--(Postcodes!$A$2:$A$100<=N301)*(Postcodes!$B$2:$B$100>=N301), ROW(Postcodes!$A$2:$A$100))),\"WRONG CODE\"))","v":0},null,null,null,null,null,null,""]
[{"$f":"'Order Form'!A319","v":301},{"$f":"'Order Form'!N319","v":""},{"$f":"'Order Form'!$E$2","v":0},{"$f":"'Order Form'!$E$3","v":0},{"$f":"'Order Form'!$E$4","v":0},{"$f":"'Order Form'!$E$5","v":0},{"$f":"'Order Form'!$E$7","v":0},{"$f":"'Order Form'!$E$6","v":0},{"$f":"'Order Form'!$E$9","v":0},{"$f":"'Order Form'!$E$10 & \"\"","v":""},{"$f":"IF('Order Form'!D319=\"\",'Order Form'!C319,'Order Form'!D319)","v":0},{"$f":"'Order Form'!E319","v":0},{"$f":"'Order Form'!F319","v":0},{"$f":"'Order Form'!J319","v":0},{"$f":"'Order Form'!H319","v":0},{"$f":"'Order Form'!I319","v":0},{"$f":"'Order Form'!K319 & \"\"","v":""},{"$f":"'Order Form'!M319 & \"\"","v":""},{"$f":"'Order Form'!C319 & \"\"","v":""},{"$f":"'Order Form'!L319 & \"\"","v":""},{"$f":"'Order Form'!$E$12","v":"YES"},{"$f":"'Order Form'!$E$13","v":"ASAP (order with branding can take up to 3 business days to dispatch) Premium delivery recommended to guarantee delivery prior to Christmas, fees apply."},{"$f":"'Order Form'!$E$15","v":"FREE gift card"},{"$f":"'Order Form'!$E$16","v":"No thanks"},null,null,null,null,{"$f":"IF(N302=\"\",\"\",IFERROR(INDIRECT(\"Postcodes!$C\"&SUMPRODUCT(--(Postcodes!$A$2:$A$100<=N302)*(Postcodes!$B$2:$B$100>=N302), ROW(Postcodes!$A$2:$A$100))),\"WRONG CODE\"))","v":0},null,null,null,null,null,null,""]

{"sheet":"VALUES","index":2,"n_rows":27,"n_cols":9,"rows_kept":27,"cut":false,"hidden":true,"merged":[]}
["No thanks","FREE gift card","ACT","YES"]
["Silver on Red","Gift Tag 1 ","NSW","NO",null,null,null,"Yes"]
["Gold on Red","Gift Tag 2 ","QLD",null,"HAMPERS",null,null,"No"]
["Silver on Green","Gift Tag 3 ","SA",null,"Red Wine & Nibbles Hamper  ","100a"]
["Gold on Green","Gift Tag 4 ","TAS",null,"White Wine Nibbles Hamper","100a-1",null,null,"ASAP (order with branding can take up to 3 business days to dispatch) Premium delivery recommended to guarantee delivery prior to Christmas, fees apply."]
["Silver on Black","Gift Tag 5 ","VIC",null,"Shiraz & Savoury Delights","102a"]
["Gold on Black","Gift Tag 6 ","WA",null,"Premium Red & White Wine Hamper","100a-3"]
["Silver on Blue","Gift Tag 7 ","NT",null,"Moet & Gourmet Nibbles Hamper","100a-9"]
["Gold on Blue","Gift Tag 8 ",null,null,"Veuve Cliquot Celebration","205c-7"]
["Silver on Navy","Gift Tag 9 ","Standard",null,"Chandon with Australian Chocolates & Nuts","206c"]
["Gold on Navy","Gift Tag 10 ","Express",null,"Moet with Australian Chocolates & Nuts","206c-1"]
["Silver on Tangerine","Gift Tag 11 ",null,null,"Cape Mentelle Shiraz & Chocolates","206c-3"]
["Gold on Tangerine","Gift Tag 12 ",null,null,"Glenmorangie 10 Year Original with Whisky Tumblers","206c-5"]
["Silver on Purple","Gift Card with Company Logo ",null,null,"Moet & Cape Mentelle Shiraz","206c-13"]
["Gold on Purple",null,null,null,"Moet Grand Vintage & Chocolates","206c-08"]
[null,null,null,null,"The Sweet Epicure Hamper","210c"]
[null,null,null,null,"Luxury Pamper Hamper (with Lóccitaine)","215c"]
[null,null,null,null,"Chandon Celebration Pamper Hamper (with Lóccitaine)","215c-1"]
[null,null,null,null,"Moët & MOR Boutique Hamper","215c-8"]
[null,null,null,null,"United Nations of Beer Hamper","300a"]
[null,null,null,null,"Today, Tomorrow & Every Day Pamper Hamper","425a"]
[null,null,null,null,"Christmas Bites Hamper","900c"]
[null,null,null,null,"Festive Cheer Christmas Hamper","902a-1"]
[null,null,null,null,"Christmas Foodies with Moet","908c-1"]
[null,null,null,null,"Moet Grand Vintage & Christmas Cake Hamper","910c-2 "]
[null,null,null,null,"The Deluxe Christmas Hamper","918c"]
[null,null,null,null,"The Celebration of Christmas Hamper","990c"]

{"sheet":"Postcodes","index":3,"n_rows":71,"n_cols":4,"rows_kept":71,"cut":false,"hidden":true,"merged":[]}
["From Post Code","To Post Code","Standard","Express"]
[2485,2485,"Standard Metro Delivery","Premium Delivery"]
[9700,9799,"Test","Premium Delivery"]
[9400,9596,"Standard Metro Delivery","Premium Delivery"]
[9000,9299,"Standard Metro Delivery","Premium Delivery"]
[4500,4549,"Standard Metro Delivery","Premium Delivery"]
[4000,4209,"Standard Metro Delivery","Premium Delivery"]
[4210,4229,"Standard Metro Delivery","Premium Delivery"]
[4300,4307,"Standard Metro Delivery","Premium Delivery"]
[4550,4575,"Standard Metro Delivery","Premium Delivery"]
[9880,9919,"Standard Delivery","Express Delivery"]
[9597,9599,"Standard Delivery","Express Delivery"]
[4576,4689,"Standard Delivery","Express Delivery"]
[4308,4449,"Standard Delivery","Express Delivery"]
[4230,4299,"Standard Delivery","Express Delivery"]
[9920,9999,"Standard Delivery","Express Delivery"]
[4690,4899,"Standard Delivery","Express Delivery"]
[4450,4499,"Standard Delivery","Express Delivery"]
[2890,2890,"Standard Metro Delivery","Premium Sydney Delivery"]
[2740,2786,"Standard Metro Delivery","Premium Sydney Delivery"]
[2555,2574,"Standard Metro Delivery","Premium Sydney Delivery"]
[1000,2249,"Standard Metro Delivery","Premium Sydney Delivery"]
[2250,2263,"Standard Metro Delivery","Premium Delivery"]
[2515,2530,"Standard Metro Delivery","Premium Delivery"]
[2500,2506,"Standard Metro Delivery","Premium Delivery"]
[2282,2310,"Standard Metro Delivery","Premium Delivery"]
[2900,2920,"Standard Metro Delivery","Premium Delivery"]
[2600,2620,"Standard Metro Delivery","Premium Delivery"]
[200,299,"Standard Metro Delivery","Premium Delivery"]
[2531,2554,"Standard Delivery","Express Delivery"]
[2507,2514,"Standard Delivery","Express Delivery"]
[2486,2499,"Standard Delivery","Express Delivery"]
[2311,2484,"Standard Delivery","Express Delivery"]
[2921,2999,"Standard Delivery","Express Delivery"]
[2264,2281,"Standard Delivery","Express Delivery"]
[2891,2898,"Standard Delivery","Express Delivery"]
[2787,2889,"Standard Delivery","Express Delivery"]
[2621,2739,"Standard Delivery","Express Delivery"]
[2575,2599,"Standard Delivery","Express Delivery"]
[2899,2899,"Standard Delivery","Express Delivery"]
[3335,3343,"Standard Metro Delivery","Premium Delivery"]
[8000,8999,"Standard Metro Delivery","Premium Delivery"]
[3000,3213,"Standard Metro Delivery","Premium Delivery"]
[3980,3983,"Standard Metro Delivery","Premium Delivery"]
[3972,3978,"Standard Metro Delivery","Premium Delivery"]
[3926,3944,"Standard Metro Delivery","Premium Delivery"]
[3910,3920,"Standard Metro Delivery","Premium Delivery"]
[3750,3811,"Standard Metro Delivery","Premium Delivery"]
[3425,3443,"Standard Metro Delivery","Premium Delivery"]
[3345,3345,"Standard Metro Delivery","Premium Delivery"]
[3214,3220,"Standard Metro Delivery","Premium Delivery"]
[3353,3356,"Standard Metro Delivery","Premium Delivery"]
[3350,3350,"Standard Metro Delivery","Premium Delivery"]
[3812,3909,"Standard Delivery","Express Delivery"]
[3444,3749,"Standard Delivery","Express Delivery"]
[3357,3424,"Standard Delivery","Express Delivery"]
[3351,3352,"Standard Delivery","Express Delivery"]
[3221,3334,"Standard Delivery","Express Delivery"]
[3984,3999,"Standard Delivery","Express Delivery"]
[3979,3979,"Standard Delivery","Express Delivery"]
[3945,3971,"Standard Delivery","Express Delivery"]
[3921,3925,"Standard Delivery","Express Delivery"]
[5800,5999,"Standard Metro Delivery","Premium Delivery"]
[5000,5199,"Standard Metro Delivery","Premium Delivery"]
[5200,5749,"Standard Delivery","Express Delivery"]
[6000,6205,"Standard Delivery","Premium Delivery"]
[6800,6999,"Standard Delivery","Premium Delivery"]
[6206,6699,"Standard Delivery","Express Delivery"]
[6700,6797,"Standard Delivery","Express Delivery"]
[7000,7999,"Standard Delivery","Express Delivery"]
[800,999,"Standard Delivery","Express Delivery"]